{"text_format":"1","workbook":"xlsx","n_sheets":10,"sheets":["注意事項","基礎データ入力","マニュアル","男子申込","女子申込","男子データ","女子データ","男子データ入力","女子データ入力","チェックデータ"],"not_rendered":{"charts":0,"images":19,"macros":1,"external_links":0,"defined_names":52,"comments":2,"pivot_tables":0},"unopened":[],"bounds":{"document_bytes":16777216,"sheet_cells":100000,"rows_first":2000,"rows_last":500,"rows_between":2000,"halvings":0,"cell_chars":16384,"cell_head_chars":4096},"cells_cut":0,"cells_raw":0,"read":"whole","date_system":"1900"}

{"sheet":"注意事項","index":0,"n_rows":19,"n_cols":15,"rows_kept":19,"cut":false,"hidden":false,"merged":[[18,2,18,9],[0,0,0,10],[2,0,2,8],[7,2,7,9],[1,0,1,11]]}
[{"$f":"年度&\" 日本グランプリシリーズ\n第\"&回数&\"回兵庫リレーカーニバル　［中学校用］\"","v":"2026 日本グランプリシリーズ\n第74回兵庫リレーカーニバル　［中学校用］"}]
["選手申込一覧表（リレーオープン用）作成用ワークシート"]
["データ作成注意事項"]
[null,"①記入注意事項を確認後、□にチェックを入れ入力ボタンを押す"]
[null,"②各データを入力する。申込書は各チームの必要に応じて印刷。今年度より提出はありません。"]
[null,"  メンバー入力の際は、事前に要項・別添を必ず確認してください。"]
[]
[null,null,{"$f":"期日 & \"必着とする\"","v":"令和8年3月3日～3月17日　17時必着とする"}]
[null,"③このプログラムの指示に従い、生成されたファイルを下記に送付"]
[null,"※メール送信の前によくチェックし、何度もメールを送信しないでください。"]
[null,null,"メール件名",null,"チーム番号＋所属名B（中学校は〇〇中B）＋兵庫リレー",null,null,null,null,null,null,null,null,null,"　(例:142塩瀬中Ｂ兵庫リレー)"]
[null,null,"メールアドレス",null,"tyuu@haaa.jp"]
[null,null,"メール本文",null,"チーム番号･所属名･申込責任者名･緊急連絡用携帯番号"]
[null,null,"添付ファイル",null,"生成ファイルを添付（ファイル名は自動で付与）"]
[null,null,"複数チーム",null,"同じファイルをコピーまたはダウンロードして作成してください。"]
[null,null,"個人オープン種目",null,"第1回記録会により選考する。このﾌｧｲﾙではﾘﾚｰのみ申込む"]
[null,null,"問い合わせ先",null,"兵庫県中体連陸上競技部：塩瀬中学校　吉良高志　０７９７－６１－０１４５"]
[]
[null,null,{"$f":"C8","v":"令和8年3月3日～3月17日　17時必着とする"}]

{"sheet":"基礎データ入力","index":1,"n_rows":15,"n_cols":22,"rows_kept":15,"cut":false,"hidden":true,"merged":[[1,1,1,15],[4,9,4,10],[4,11,4,15],[4,6,4,7],[14,2,14,15],[3,9,3,10],[3,11,3,15],[6,11,6,13],[12,6,12,8],[6,8,6,9],[8,6,8,15],[10,9,10,10]]}
[]
[null,{"$f":"年度&\" 第\"&回数&\"回 兵庫リレーカーニバル　中学校(リレーオープン)基礎データ記入シート\"","v":"2026 第74回 兵庫リレーカーニバル　中学校(リレーオープン)基礎データ記入シート"}]
[]
[null,null,null,null,null,null,null,null,"チーム","フリガナ",null,{"$f":"IF(G5=\"\",\"\",VLOOKUP(G5,学校検索,3,FALSE)&I5)","v":""}]
[null,null,null,null,"チーム番号",null,null,null,null,"所属名",null,{"$f":"IF(G5=\"\",\"\",VLOOKUP(G5,学校検索,2,FALSE)&I5)","v":""}]
[]
[null,null,null,null,"申込\n責任者",null,"姓",null,null,null,"名",null,null,null,null,null,null,null,null,null,"申込者",{"$f":"IF(NOT(OR(ISBLANK(I7),ISBLANK(L7))),I7&L7,\"\")","v":""}]
[]
[null,"郵便番号",null,null,"住所"]
[]
[null,"連絡先",null,null,null,"－",null,"－",null,"緊急連絡先",null,null,"－",null,"－",null,null,null,null,null,"連絡先",{"$f":"IF(NOT(OR(ISBLANK(E11),ISBLANK(G11),ISBLANK(I11))),E11&G11&I11,\"\")","v":""}]
[null,null,null,null,null,null,null,null,null,null,null,null,null,null,null,null,null,null,null,null,"連絡先２",{"$f":"IF(NOT(OR(ISBLANK(L11),ISBLANK(N11),ISBLANK(P11))),L11&N11&P11,\"\")","v":""}]
[null,"参加料",{"$f":"男子参加料+女子参加料","v":0},null,"参加料\n振り込み",null,null,null,null,"郵便局","日付",3,"月",null,"日"]
[]
[null,null,"①　チーム番号は半角数字でお願いします。\n②　所属名の変更は出来ませんので、その旨をメール本文にご記入下さい。\n③　男女データの入力が終わりましたら、必ずこのメニューに戻って次の処理を行って下さい。\n④　送信用ファイルは、それぞれの環境によって保存先が変わります。\n⑤　送信するファイルは　チーム番号＋所属名＋（送信用）　というファイル名が設定されます。\n⑥　メールに添付して、ファイルで送信をお願いします。その際、必ず本文の入力をお願いします。\n⑥　このシートに、赤色の部分が残っていない事を確認の上、ファイルの作成をお願いします。\n⑦　終了する時は終了ボタンを押して下さい。入力してあればファイル名は自動で設定されます。"]

{"sheet":"マニュアル","index":2,"n_rows":297,"n_cols":1,"rows_kept":297,"cut":false,"hidden":true,"merged":[]}
[]
[]
[]
[]
[]
[]
[]
[]
[{"$f":"年度&\"年　兵庫リレーカーニバル　中学校用\"","v":"2026年　兵庫リレーカーニバル　中学校用"}]
[]
[]
[]
["申し込みファイル　操作マニュアル"]
[]
[]
[]
[]
[]
[]
[]
[]
[]
[]
[]
[]
[]
[{"$f":"TODAY()","v":"2026-02-26"}]
["兵庫県中学校体育連盟陸上競技部"]
["情報部　作成"]
[]
[]
[]
[]
["※申し込みについての手順は、中体連のHPにあるマニュアル、このファイルの注意事項をよく\n    読んで下さい。"]
[]
["※　ダウンロードした入力用のファイルと、添付して送信していただくファイルは別のもですから\n　　 ダウンロードしたファイルを送信しないようにご注意下さい。"]
[]
["１．入力準備"]
[]
["　①兵庫陸協のＨＰにある中学用のファイルをダウンロードします。（他の校種のものとは違います。）"]
["　②ダウンロードしたファイルを適切な場所に保存する。（わかりやすいところに保存することを推奨します。）"]
["　③ファイルを開く。"]
["　　 セキュリティーで開くことができない場合は、下記の方法で開くことができます。"]
["　　 ファイルを「右クリック」　→　プロパティをクリック　→セキュリティの「許可する」にチェック→「適用」をクリック"]
[]
[]
[]
[]
[]
[]
[]
[]
[]
[]
[]
[]
[]
[]
[]
[]
[]
[]
[]
["　④「読み取り専用開きますか？」の画面で「はい（Y）」をクリックしてください。"]
[]
[]
[]
[]
[]
[]
[]
["　　　　これをクリックする"]
[]
["　エクセル　２００７以降の場合　　　　　　　　　　　　　　　　　　　"]
["　⑥最初のシートに書いてある注意事項をよく読んでください。\n　　 手順が理解できたら、確認のチェックボックスにチェックを入れ、データ入力ボタンを押して下さい。"]
[]
[]
[]
[]
[]
[]
[]
[]
[]
[]
[]
[]
[]
["　　　　　　　　　　　　　チェック　　　　　　　　　　　　　　　　　　　　　　　　　　　　　　　チェック後クリック"]
["２．基礎データ入力"]
[]
["　①下のような画面に切り替わります。"]
[]
[]
[]
[]
[]
[]
[]
[]
[]
[]
[]
[]
[]
[]
[]
[]
[]
[]
[]
[]
[]
[]
["　　②枠内の指示をよく読んで入力して下さい。"]
["　　③赤い部分が残らないように、入力して下さい。\n　　　残っていると、送信ファイルが作成出来ません"]
["　　④緊急連絡先は必ず連絡がとれるものをご記入下さい。"]
["　　⑤参加料は自動で計算されるので入力する必要はありません。"]
["　　⑥入力後　①→③の順で処理を進めて下さい。"]
["        「オープン用」のファイル作成の場合、「チーム」を選択します。"]
["　　　 今回から紙の送付はありません。"]
["　　 　各チームで必要に応じて印刷してください。"]
["                                                                                              全て入力完了すると、赤い色がなくなります。"]
[]
["３．選手データ入力"]
["Ⅰ女子（男子）データ入力ボタンを押すと下のような画面に切り替わります。（この画面は男子です。）"]
["　①参加するばあいはチェックをして下さい。　チェックがなければこの画面のように入力位置が黒になっています。"]
[]
[]
[]
[]
[]
[]
[]
[]
[]
[]
[]
[]
[]
["②　　プログラムをセットで申し込む時は、これをチェックし、セット数を入力してください。"]
["　　　　１セット５冊、4000円になります。（当日販売は1冊1000円です）"]
["　　　　金額は、合計に加算されます。"]
[]
[]
[]
[]
[]
[]
[]
[]
[]
[]
[]
[]
[]
[]
["　③　①にチェックを入れると、入力位置が白色になります。"]
["　④タイムを分、秒、それ以下で分けて入力します。（右詰にならない場合は、数値が正しくないかも知れません）"]
["　⑤個人番号は、中体連に登録してある　個人番号データ　２桁　を入力して下さい。"]
["　⑥個人番号を入力すると、入力の必要な部分が赤色になります。"]
["　　 姓・名は漢字の間違いに注意して下さい。それぞれ漢字のみ入力し、スペースは入れないで下さい。"]
["　　 リレーの参加有無は、横に出る▼をクリックして入力して下さい。（基本このシートではすべて○が入るはずです）"]
["　　 学年は　　4月からの新学年を入力　してください。"]
["　⑦男女それぞれ　入力が終われば　　必ずこのボタンを押してメニューに戻って下さい。"]
["　　そのとき、データに不備があれば、下のようなメッセージが表示されます。"]
[]
[]
[]
[]
[]
[]
["４．印刷　　　　※今年度一覧表の提出はありません。"]
["　①印刷ボタンを押します。"]
["　②データに不備があれば、下のようなメッセージが出ます。"]
[]
[]
[]
[]
[]
[]
[]
[]
[]
["　③正しければ、男子、女子の順（参加チェックが入っている場合）で"]
[]
[]
[]
[]
[]
[]
[]
[]
["　ウィンドウが表示されますので、印刷する場合は「はい」をクリックして下さい。"]
["　下記の形でプリントアウトされます。プリントアウトした場合は、記載内容の確認をしてください。"]
[]
[]
[]
[]
[]
[]
[]
[]
[]
[]
[]
[]
[]
[]
[]
[]
[]
[]
[]
["　　　　　　　　　の部分が正しく印字されていることを必ず確認してください。"]
[]
[]
["５．ファイルの送信"]
[]
["　①送信ボタンを押すと、下のようなウィンドウが表示されます。"]
[]
[]
[]
[]
[]
[]
[]
[]
["　②　必ず　「OK」を選択して下さい。　すると下のウィンドウがひらきます。"]
[]
["　　　　　　　　　　　　　　　　　　　　　　　　　　　　　　　　　　　　　　　　　ファイル名は　自動で設定されます。"]
[]
[]
[]
[]
[]
[]
["　③　「はい」を選択して、保存して下さい。（元ファイルと同じ場所、またはマイドキュメントに保存されます。）"]
[]
["                                                                  　　　　　　　　  ○エクセルのバージョンによっては、このような表示が出る"]
["　　　　　　　　　　　　　　　　　　　　　　　　　　　　　　　　　　　　　　　　　　　と思いますが、続行してください。"]
[]
[]
[]
[]
[]
[]
[]
[]
[]
[]
["　④　次のメッセージが表示されます。"]
[]
[]
[]
[]
[]
["　　　　　　　　　　　　　　　　　　　　　　　　　　　　　　　　　　　　　　　　　　　　　　　　　　この保存場所とファイル名を確認"]
["　　　　　　　　　　　　　　　　　　　　　　　　　　　　　　　　　　　　　　　　　　　　　　　　　　しておきます。"]
["　　　　　　　　　　　　　　　　　　　　　　　　　　　　　　　　　　　　　　　　　　　　　　　　　　添付ファイルにして送信してください。"]
[]
[]
[]
[]
["　　　　「いいえ」を選ばれた場合は、　件名、宛先、添付ファイルを各自で設定してください。"]
[]
["　⑦　本文に以下の項目を記入して、送信して下さい。"]
["　　　　・チーム番号　＝　○○○"]
["　　　　・所属名　　＝　○○中Ａ(クラブチームの場合チーム名の略称)　"]
["　　　　　Ｂチーム以降をまとめて添付した場合は、所属名Ｂ、Ｃ・・・と記載してください。"]
["　　　　　男女で異なる場合も明記してください。"]
["　　　　・申込責任者名　　＝　○○○○"]
["　　　　・連絡先（携帯）　＝　　○○○ｰ○○○○ｰ○○○○"]
[]
["　⑧　送信は１度だけでお願いします。訂正等のないよう、しっかりと確認して送信して下さい。　"]
[]
[" 　　　※送信用ファイルを作成する場合、次の注意を必ずお守りください。　"]
[]
["　　　①～③までの操作を行って　ファイルの保存を行って下さい。"]
["  　　　保存したファイルを添付ファイルとして送付して下さい。\n　　　　（通常はダウンロードしたファイルと同じフォルダ保存されているはずです)"]
["　　　　送信用のファイルは変更ができないように保護してあります。"]
["　　　　送信用のファイルは、ダウンロードした入力用のファイルとは別のファイルです。"]
["  　　※その際、メールの件名、本文を指示に従って、正しく設定をお願いします。"]
[]
["６．終了"]
["　①　終了ボタンを押して、エクセルを閉じてください。"]
["　　（同時に他のファイルを開いている場合は、切り替えて保存等を行ってください。）"]
[]
["　②　ファイルを保存する場合は、ファイル名を指定して、適当な場所に保存して下さい。"]
["　　　※保存するファイル名は、【チーム番号＋所属名＋リレカ申込作成用】　というファイル名が設定されます。"]
["　　　※このファイルは送信するファイルとは違います。入力用のファイルを送付しないでください。"]
[]
["　"]
["　　このファイルの操作に関する質問は　中体連のアドレス（tyuu@haaa.jp) 宛に"]
["　　件名を、　「リレーカーニバル申し込みファイルについての質問」　として　お送りください。"]
["　　本文には　"]
["    　             チーム番号　所属名　申込責任者名　連絡方法　質問内容   　を　 順にご記入ください。　"]

{"sheet":"男子申込","index":3,"n_rows":35,"n_cols":26,"rows_kept":35,"cut":false,"hidden":true,"merged":[[3,0,3,1],[3,4,3,16],[5,13,5,16],[3,2,3,3],[0,0,0,24],[1,2,1,3],[1,11,1,24],[2,2,2,3],[1,0,2,1],[4,0,4,24],[5,21,5,23],[5,17,5,20],[6,21,6,23],[13,0,13,1],[12,2,13,2],[13,6,13,7],[11,4,11,6],[11,1,11,2],[12,6,12,7],[13,8,13,15],[10,9,10,12],[11,9,11,12],[10,13,10,16],[11,13,11,16],[11,7,11,8],[13,16,13,23],[10,22,10,23],[11,21,11,24],[11,17,11,19],[10,17,10,19],[6,17,6,20],[7,13,7,16],[8,13,8,16],[7,17,7,20],[8,17,8,20],[6,8,6,9],[6,13,6,16],[10,1,10,3],[10,4,10,6],[10,7,10,8],[8,1,8,2],[8,5,8,12],[8,3,8,4],[6,3,6,4],[6,5,6,7],[6,1,6,2],[6,10,6,12]]}
["赤色のセルに必要事項を入力または選択してください。\n赤色部分(未入力項目)のないように注意してください。"]
["中学生",null,"受付番号",null,null,null,null,null,null,null,null,"(様式１）"]
[null,null,"記入しない"]
["男　子",null,null,null,{"$f":"年度&\" 第\"&回数&\"回兵庫リレーカーニバル申込書\"","v":"2026 第74回兵庫リレーカーニバル申込書"}]
[]
[null,null,null,null,null,null,null,null,null,null,null,null,null,"氏",null,null,null,"名",null,null,null,null,null,null,null,"府県ｺｰﾄﾞ"]
["チーム\nコード",{"$f":"学校番号","v":0},null,"所属名",null,{"$f":"学校名","v":""},null,null,{"$f":"フリガナ","v":""},null,"申込責任者",null,null,{"$f":"基礎データ入力!I7","v":0},null,null,null,{"$f":"基礎データ入力!L7","v":0},null,null,null,null,null,null,null,28]
[null,null,null,null,null,null,null,null,null,null,null,null,null,{"$f":"\"連絡先電話(\"&基礎データ入力!C11&\")\"","v":"連絡先電話()"},null,null,null,"緊急連絡先：携帯電話"]
["〒",{"$f":"基礎データ入力!C9","v":0},null,"所属所在地",null,{"$f":"基礎データ入力!G9","v":0},null,null,null,null,null,null,null,{"$f":"CONCATENATE(基礎データ入力!E11,基礎データ入力!F11,基礎データ入力!G11,基礎データ入力!H11,基礎データ入力!I11)","v":"－－"},null,null,null,{"$f":"CONCATENATE(基礎データ入力!L11,基礎データ入力!M11,基礎データ入力!N11,基礎データ入力!O11,基礎データ入力!P11)","v":"－－"}]
[]
["ﾌﾟﾛｸﾞﾗﾑｾｯﾄ\n5冊(\\4000)","参加人数",null,null,{"$f":"\"オープン種目(@\\\"& 個人参加料 &\")\"","v":"オープン種目(@\\1400)"},null,null,{"$f":"\"ﾘﾚｰ種目(@\\\" & リレー参加料 & \")\"","v":"ﾘﾚｰ種目(@\\2000)"},null,"男子申込料計",null,null,null,"男女合計金額",null,null,null,"振込日",null,null,{"$f":"IF(入金月=\"\",\"\",入金月)","v":3},"月",{"$f":"IF(入金日=\"\",\"\",入金日)","v":""},null,"日"]
[{"$f":"男セット数","v":0},"男子",null,{"$f":"COUNT(Z16:Z35)","v":0},{"$f":"COUNT(I16:I35,Q16:Q35)","v":0},null,null,{"$f":"IF(男子参加,1,0)","v":0},null,{"$f":"E12*個人参加料+H12*リレー参加料+A12*4000","v":0},null,null,null,{"$f":"J12+女子申込!J12","v":0},null,null,null,"振込局",null,null,{"$f":"振り込み局","v":0},"郵便局"]
[null,null,"ﾘﾚｰ\n記録","分","秒","1/100","DATA用5桁"]
["中学生男子",null,null,{"$f":"男子データ入力!J3","v":0},{"$f":"男子データ入力!K3","v":0},{"$f":"男子データ入力!L3","v":0},{"$f":"RIGHT(FIXED((D14*10000+E14*100+F14)/100000,5),5)","v":"00000"},null,"オープン種目申込①",null,null,null,null,null,null,null,"オープン種目申込②",null,null,null,null,null,null,null,"申込"]
["ナンバー\n記入しない","個人\n番号2ｹﾀ","姓","名","姓(ｶﾅ)","名(ｶﾅ)","新学年","リレー\n○印","種目","分","秒\nm","1/100\ncm","出場資格取得\n大会名","年","月","日","種目","分","秒\nm","1/100\ncm","出場資格取得\n大会名","年","月","日","種目数"]
[null,{"$f":"IF(男子参加=FALSE,\"\",IF(男子データ入力!B8=\"\",\"\",男子データ入力!B8))","v":""},{"$f":"IF(男子参加=FALSE,\"\",IF(男子データ入力!C8=\"\",\"\",男子データ入力!C8))","v":""},{"$f":"IF(男子参加=FALSE,\"\",IF(男子データ入力!D8=\"\",\"\",男子データ入力!D8))","v":""},{"$f":"IF(男子参加=FALSE,\"\",IF(男子データ入力!E8=\"\",\"\",男子データ入力!E8))","v":""},{"$f":"IF(男子参加=FALSE,\"\",IF(男子データ入力!F8=\"\",\"\",男子データ入力!F8))","v":""},{"$f":"IF(男子参加=FALSE,\"\",IF(男子データ入力!G8=\"\",\"\",男子データ入力!G8))","v":""},{"$f":"IF(男子参加=FALSE,\"\",IF(男子データ入力!H8=\"\",\"\",男子データ入力!H8))","v":""},{"$f":"IF(男子参加=FALSE,\"\",IF(男子データ入力!I8=\"\",\"\",男子データ入力!I8))","v":""},{"$f":"IF(男子参加=FALSE,\"\",IF(男子データ入力!J8=\"\",\"\",男子データ入力!J8))","v":""},{"$f":"IF(男子参加=FALSE,\"\",IF(男子データ入力!K8=\"\",\"\",男子データ入力!K8))","v":""},{"$f":"IF(男子参加=FALSE,\"\",IF(男子データ入力!L8=\"\",\"\",男子データ入力!L8))","v":""},null,null,null,null,{"$f":"IF(男子データ入力!M8=\"\",\"\",男子データ入力!M8)","v":""},{"$f":"IF(男子データ入力!N8=\"\",\"\",男子データ入力!N8)","v":""},{"$f":"IF(男子データ入力!O8=\"\",\"\",男子データ入力!O8)","v":""},{"$f":"IF(男子データ入力!P8=\"\",\"\",男子データ入力!P8)","v":""},null,null,null,null,{"$f":"IF(男子データ!C16=\"\",\"\",COUNT(I16,Q16))","v":""},{"$f":"IF(Y16=\"\",\"\",VALUE(Y16&G16))","v":""}]
[null,{"$f":"IF(男子参加=FALSE,\"\",IF(男子データ入力!B9=\"\",\"\",男子データ入力!B9))","v":""},{"$f":"IF(男子参加=FALSE,\"\",IF(男子データ入力!C9=\"\",\"\",男子データ入力!C9))","v":""},{"$f":"IF(男子参加=FALSE,\"\",IF(男子データ入力!D9=\"\",\"\",男子データ入力!D9))","v":""},{"$f":"IF(男子参加=FALSE,\"\",IF(男子データ入力!E9=\"\",\"\",男子データ入力!E9))","v":""},{"$f":"IF(男子参加=FALSE,\"\",IF(男子データ入力!F9=\"\",\"\",男子データ入力!F9))","v":""},{"$f":"IF(男子参加=FALSE,\"\",IF(男子データ入力!G9=\"\",\"\",男子データ入力!G9))","v":""},{"$f":"IF(男子参加=FALSE,\"\",IF(男子データ入力!H9=\"\",\"\",男子データ入力!H9))","v":""},{"$f":"IF(男子参加=FALSE,\"\",IF(男子データ入力!I9=\"\",\"\",男子データ入力!I9))","v":""},{"$f":"IF(男子参加=FALSE,\"\",IF(男子データ入力!J9=\"\",\"\",男子データ入力!J9))","v":""},{"$f":"IF(男子参加=FALSE,\"\",IF(男子データ入力!K9=\"\",\"\",男子データ入力!K9))","v":""},{"$f":"IF(男子参加=FALSE,\"\",IF(男子データ入力!L9=\"\",\"\",男子データ入力!L9))","v":""},null,null,null,null,{"$f":"IF(男子データ入力!M9=\"\",\"\",男子データ入力!M9)","v":""},{"$f":"IF(男子データ入力!N9=\"\",\"\",男子データ入力!N9)","v":""},{"$f":"IF(男子データ入力!O9=\"\",\"\",男子データ入力!O9)","v":""},{"$f":"IF(男子データ入力!P9=\"\",\"\",男子データ入力!P9)","v":""},null,null,null,null,{"$f":"IF(男子データ!C17=\"\",\"\",COUNT(I17,Q17))","v":""},""]
[null,{"$f":"IF(男子参加=FALSE,\"\",IF(男子データ入力!B10=\"\",\"\",男子データ入力!B10))","v":""},{"$f":"IF(男子参加=FALSE,\"\",IF(男子データ入力!C10=\"\",\"\",男子データ入力!C10))","v":""},{"$f":"IF(男子参加=FALSE,\"\",IF(男子データ入力!D10=\"\",\"\",男子データ入力!D10))","v":""},{"$f":"IF(男子参加=FALSE,\"\",IF(男子データ入力!E10=\"\",\"\",男子データ入力!E10))","v":""},{"$f":"IF(男子参加=FALSE,\"\",IF(男子データ入力!F10=\"\",\"\",男子データ入力!F10))","v":""},{"$f":"IF(男子参加=FALSE,\"\",IF(男子データ入力!G10=\"\",\"\",男子データ入力!G10))","v":""},{"$f":"IF(男子参加=FALSE,\"\",IF(男子データ入力!H10=\"\",\"\",男子データ入力!H10))","v":""},{"$f":"IF(男子参加=FALSE,\"\",IF(男子データ入力!I10=\"\",\"\",男子データ入力!I10))","v":""},{"$f":"IF(男子参加=FALSE,\"\",IF(男子データ入力!J10=\"\",\"\",男子データ入力!J10))","v":""},{"$f":"IF(男子参加=FALSE,\"\",IF(男子データ入力!K10=\"\",\"\",男子データ入力!K10))","v":""},{"$f":"IF(男子参加=FALSE,\"\",IF(男子データ入力!L10=\"\",\"\",男子データ入力!L10))","v":""},null,null,null,null,{"$f":"IF(男子データ入力!M10=\"\",\"\",男子データ入力!M10)","v":""},{"$f":"IF(男子データ入力!N10=\"\",\"\",男子データ入力!N10)","v":""},{"$f":"IF(男子データ入力!O10=\"\",\"\",男子データ入力!O10)","v":""},{"$f":"IF(男子データ入力!P10=\"\",\"\",男子データ入力!P10)","v":""},null,null,null,null,{"$f":"IF(男子データ!C18=\"\",\"\",COUNT(I18,Q18))","v":""},""]
[null,{"$f":"IF(男子参加=FALSE,\"\",IF(男子データ入力!B11=\"\",\"\",男子データ入力!B11))","v":""},{"$f":"IF(男子参加=FALSE,\"\",IF(男子データ入力!C11=\"\",\"\",男子データ入力!C11))","v":""},{"$f":"IF(男子参加=FALSE,\"\",IF(男子データ入力!D11=\"\",\"\",男子データ入力!D11))","v":""},{"$f":"IF(男子参加=FALSE,\"\",IF(男子データ入力!E11=\"\",\"\",男子データ入力!E11))","v":""},{"$f":"IF(男子参加=FALSE,\"\",IF(男子データ入力!F11=\"\",\"\",男子データ入力!F11))","v":""},{"$f":"IF(男子参加=FALSE,\"\",IF(男子データ入力!G11=\"\",\"\",男子データ入力!G11))","v":""},{"$f":"IF(男子参加=FALSE,\"\",IF(男子データ入力!H11=\"\",\"\",男子データ入力!H11))","v":""},{"$f":"IF(男子参加=FALSE,\"\",IF(男子データ入力!I11=\"\",\"\",男子データ入力!I11))","v":""},{"$f":"IF(男子参加=FALSE,\"\",IF(男子データ入力!J11=\"\",\"\",男子データ入力!J11))","v":""},{"$f":"IF(男子参加=FALSE,\"\",IF(男子データ入力!K11=\"\",\"\",男子データ入力!K11))","v":""},{"$f":"IF(男子参加=FALSE,\"\",IF(男子データ入力!L11=\"\",\"\",男子データ入力!L11))","v":""},null,null,null,null,{"$f":"IF(男子データ入力!M11=\"\",\"\",男子データ入力!M11)","v":""},{"$f":"IF(男子データ入力!N11=\"\",\"\",男子データ入力!N11)","v":""},{"$f":"IF(男子データ入力!O11=\"\",\"\",男子データ入力!O11)","v":""},{"$f":"IF(男子データ入力!P11=\"\",\"\",男子データ入力!P11)","v":""},null,null,null,null,{"$f":"IF(男子データ!C19=\"\",\"\",COUNT(I19,Q19))","v":""},""]
[null,{"$f":"IF(男子参加=FALSE,\"\",IF(男子データ入力!B12=\"\",\"\",男子データ入力!B12))","v":""},{"$f":"IF(男子参加=FALSE,\"\",IF(男子データ入力!C12=\"\",\"\",男子データ入力!C12))","v":""},{"$f":"IF(男子参加=FALSE,\"\",IF(男子データ入力!D12=\"\",\"\",男子データ入力!D12))","v":""},{"$f":"IF(男子参加=FALSE,\"\",IF(男子データ入力!E12=\"\",\"\",男子データ入力!E12))","v":""},{"$f":"IF(男子参加=FALSE,\"\",IF(男子データ入力!F12=\"\",\"\",男子データ入力!F12))","v":""},{"$f":"IF(男子参加=FALSE,\"\",IF(男子データ入力!G12=\"\",\"\",男子データ入力!G12))","v":""},{"$f":"IF(男子参加=FALSE,\"\",IF(男子データ入力!H12=\"\",\"\",男子データ入力!H12))","v":""},{"$f":"IF(男子参加=FALSE,\"\",IF(男子データ入力!I12=\"\",\"\",男子データ入力!I12))","v":""},{"$f":"IF(男子参加=FALSE,\"\",IF(男子データ入力!J12=\"\",\"\",男子データ入力!J12))","v":""},{"$f":"IF(男子参加=FALSE,\"\",IF(男子データ入力!K12=\"\",\"\",男子データ入力!K12))","v":""},{"$f":"IF(男子参加=FALSE,\"\",IF(男子データ入力!L12=\"\",\"\",男子データ入力!L12))","v":""},null,null,null,null,{"$f":"IF(男子データ入力!M12=\"\",\"\",男子データ入力!M12)","v":""},{"$f":"IF(男子データ入力!N12=\"\",\"\",男子データ入力!N12)","v":""},{"$f":"IF(男子データ入力!O12=\"\",\"\",男子データ入力!O12)","v":""},{"$f":"IF(男子データ入力!P12=\"\",\"\",男子データ入力!P12)","v":""},null,null,null,null,{"$f":"IF(男子データ!C20=\"\",\"\",COUNT(I20,Q20))","v":""},""]
[null,{"$f":"IF(男子参加=FALSE,\"\",IF(男子データ入力!B13=\"\",\"\",男子データ入力!B13))","v":""},{"$f":"IF(男子参加=FALSE,\"\",IF(男子データ入力!C13=\"\",\"\",男子データ入力!C13))","v":""},{"$f":"IF(男子参加=FALSE,\"\",IF(男子データ入力!D13=\"\",\"\",男子データ入力!D13))","v":""},{"$f":"IF(男子参加=FALSE,\"\",IF(男子データ入力!E13=\"\",\"\",男子データ入力!E13))","v":""},{"$f":"IF(男子参加=FALSE,\"\",IF(男子データ入力!F13=\"\",\"\",男子データ入力!F13))","v":""},{"$f":"IF(男子参加=FALSE,\"\",IF(男子データ入力!G13=\"\",\"\",男子データ入力!G13))","v":""},{"$f":"IF(男子参加=FALSE,\"\",IF(男子データ入力!H13=\"\",\"\",男子データ入力!H13))","v":""},{"$f":"IF(男子参加=FALSE,\"\",IF(男子データ入力!I13=\"\",\"\",男子データ入力!I13))","v":""},{"$f":"IF(男子参加=FALSE,\"\",IF(男子データ入力!J13=\"\",\"\",男子データ入力!J13))","v":""},{"$f":"IF(男子参加=FALSE,\"\",IF(男子データ入力!K13=\"\",\"\",男子データ入力!K13))","v":""},{"$f":"IF(男子参加=FALSE,\"\",IF(男子データ入力!L13=\"\",\"\",男子データ入力!L13))","v":""},null,null,null,null,{"$f":"IF(男子データ入力!M13=\"\",\"\",男子データ入力!M13)","v":""},{"$f":"IF(男子データ入力!N13=\"\",\"\",男子データ入力!N13)","v":""},{"$f":"IF(男子データ入力!O13=\"\",\"\",男子データ入力!O13)","v":""},{"$f":"IF(男子データ入力!P13=\"\",\"\",男子データ入力!P13)","v":""},null,null,null,null,{"$f":"IF(男子データ!C21=\"\",\"\",COUNT(I21,Q21))","v":""},""]
[null,{"$f":"IF(男子参加=FALSE,\"\",IF(男子データ入力!B14=\"\",\"\",男子データ入力!B14))","v":""},{"$f":"IF(男子参加=FALSE,\"\",IF(男子データ入力!C14=\"\",\"\",男子データ入力!C14))","v":""},{"$f":"IF(男子参加=FALSE,\"\",IF(男子データ入力!D14=\"\",\"\",男子データ入力!D14))","v":""},{"$f":"IF(男子参加=FALSE,\"\",IF(男子データ入力!E14=\"\",\"\",男子データ入力!E14))","v":""},{"$f":"IF(男子参加=FALSE,\"\",IF(男子データ入力!F14=\"\",\"\",男子データ入力!F14))","v":""},{"$f":"IF(男子参加=FALSE,\"\",IF(男子データ入力!G14=\"\",\"\",男子データ入力!G14))","v":""},{"$f":"IF(男子参加=FALSE,\"\",IF(男子データ入力!H14=\"\",\"\",男子データ入力!H14))","v":""},{"$f":"IF(男子参加=FALSE,\"\",IF(男子データ入力!I14=\"\",\"\",男子データ入力!I14))","v":""},{"$f":"IF(男子参加=FALSE,\"\",IF(男子データ入力!J14=\"\",\"\",男子データ入力!J14))","v":""},{"$f":"IF(男子参加=FALSE,\"\",IF(男子データ入力!K14=\"\",\"\",男子データ入力!K14))","v":""},{"$f":"IF(男子参加=FALSE,\"\",IF(男子データ入力!L14=\"\",\"\",男子データ入力!L14))","v":""},null,null,null,null,{"$f":"IF(男子データ入力!M14=\"\",\"\",男子データ入力!M14)","v":""},{"$f":"IF(男子データ入力!N14=\"\",\"\",男子データ入力!N14)","v":""},{"$f":"IF(男子データ入力!O14=\"\",\"\",男子データ入力!O14)","v":""},{"$f":"IF(男子データ入力!P14=\"\",\"\",男子データ入力!P14)","v":""},null,null,null,null,{"$f":"IF(男子データ!C22=\"\",\"\",COUNT(I22,Q22))","v":""},""]
[null,{"$f":"IF(男子参加=FALSE,\"\",IF(男子データ入力!B15=\"\",\"\",男子データ入力!B15))","v":""},{"$f":"IF(男子参加=FALSE,\"\",IF(男子データ入力!C15=\"\",\"\",男子データ入力!C15))","v":""},{"$f":"IF(男子参加=FALSE,\"\",IF(男子データ入力!D15=\"\",\"\",男子データ入力!D15))","v":""},{"$f":"IF(男子参加=FALSE,\"\",IF(男子データ入力!E15=\"\",\"\",男子データ入力!E15))","v":""},{"$f":"IF(男子参加=FALSE,\"\",IF(男子データ入力!F15=\"\",\"\",男子データ入力!F15))","v":""},{"$f":"IF(男子参加=FALSE,\"\",IF(男子データ入力!G15=\"\",\"\",男子データ入力!G15))","v":""},{"$f":"IF(男子参加=FALSE,\"\",IF(男子データ入力!H15=\"\",\"\",男子データ入力!H15))","v":""},{"$f":"IF(男子参加=FALSE,\"\",IF(男子データ入力!I15=\"\",\"\",男子データ入力!I15))","v":""},{"$f":"IF(男子参加=FALSE,\"\",IF(男子データ入力!J15=\"\",\"\",男子データ入力!J15))","v":""},{"$f":"IF(男子参加=FALSE,\"\",IF(男子データ入力!K15=\"\",\"\",男子データ入力!K15))","v":""},{"$f":"IF(男子参加=FALSE,\"\",IF(男子データ入力!L15=\"\",\"\",男子データ入力!L15))","v":""},null,null,null,null,{"$f":"IF(男子データ入力!M15=\"\",\"\",男子データ入力!M15)","v":""},{"$f":"IF(男子データ入力!N15=\"\",\"\",男子データ入力!N15)","v":""},{"$f":"IF(男子データ入力!O15=\"\",\"\",男子データ入力!O15)","v":""},{"$f":"IF(男子データ入力!P15=\"\",\"\",男子データ入力!P15)","v":""},null,null,null,null,{"$f":"IF(男子データ!C23=\"\",\"\",COUNT(I23,Q23))","v":""},""]
[null,{"$f":"IF(男子参加=FALSE,\"\",IF(男子データ入力!B16=\"\",\"\",男子データ入力!B16))","v":""},{"$f":"IF(男子参加=FALSE,\"\",IF(男子データ入力!C16=\"\",\"\",男子データ入力!C16))","v":""},{"$f":"IF(男子参加=FALSE,\"\",IF(男子データ入力!D16=\"\",\"\",男子データ入力!D16))","v":""},{"$f":"IF(男子参加=FALSE,\"\",IF(男子データ入力!E16=\"\",\"\",男子データ入力!E16))","v":""},{"$f":"IF(男子参加=FALSE,\"\",IF(男子データ入力!F16=\"\",\"\",男子データ入力!F16))","v":""},{"$f":"IF(男子参加=FALSE,\"\",IF(男子データ入力!G16=\"\",\"\",男子データ入力!G16))","v":""},{"$f":"IF(男子参加=FALSE,\"\",IF(男子データ入力!H16=\"\",\"\",男子データ入力!H16))","v":""},{"$f":"IF(男子参加=FALSE,\"\",IF(男子データ入力!I16=\"\",\"\",男子データ入力!I16))","v":""},{"$f":"IF(男子参加=FALSE,\"\",IF(男子データ入力!J16=\"\",\"\",男子データ入力!J16))","v":""},{"$f":"IF(男子参加=FALSE,\"\",IF(男子データ入力!K16=\"\",\"\",男子データ入力!K16))","v":""},{"$f":"IF(男子参加=FALSE,\"\",IF(男子データ入力!L16=\"\",\"\",男子データ入力!L16))","v":""},null,null,null,null,{"$f":"IF(男子データ入力!M16=\"\",\"\",男子データ入力!M16)","v":""},{"$f":"IF(男子データ入力!N16=\"\",\"\",男子データ入力!N16)","v":""},{"$f":"IF(男子データ入力!O16=\"\",\"\",男子データ入力!O16)","v":""},{"$f":"IF(男子データ入力!P16=\"\",\"\",男子データ入力!P16)","v":""},null,null,null,null,{"$f":"IF(男子データ!C24=\"\",\"\",COUNT(I24,Q24))","v":""},""]
[null,{"$f":"IF(男子参加=FALSE,\"\",IF(男子データ入力!B17=\"\",\"\",男子データ入力!B17))","v":""},{"$f":"IF(男子参加=FALSE,\"\",IF(男子データ入力!C17=\"\",\"\",男子データ入力!C17))","v":""},{"$f":"IF(男子参加=FALSE,\"\",IF(男子データ入力!D17=\"\",\"\",男子データ入力!D17))","v":""},{"$f":"IF(男子参加=FALSE,\"\",IF(男子データ入力!E17=\"\",\"\",男子データ入力!E17))","v":""},{"$f":"IF(男子参加=FALSE,\"\",IF(男子データ入力!F17=\"\",\"\",男子データ入力!F17))","v":""},{"$f":"IF(男子参加=FALSE,\"\",IF(男子データ入力!G17=\"\",\"\",男子データ入力!G17))","v":""},{"$f":"IF(男子参加=FALSE,\"\",IF(男子データ入力!H17=\"\",\"\",男子データ入力!H17))","v":""},{"$f":"IF(男子参加=FALSE,\"\",IF(男子データ入力!I17=\"\",\"\",男子データ入力!I17))","v":""},{"$f":"IF(男子参加=FALSE,\"\",IF(男子データ入力!J17=\"\",\"\",男子データ入力!J17))","v":""},{"$f":"IF(男子参加=FALSE,\"\",IF(男子データ入力!K17=\"\",\"\",男子データ入力!K17))","v":""},{"$f":"IF(男子参加=FALSE,\"\",IF(男子データ入力!L17=\"\",\"\",男子データ入力!L17))","v":""},null,null,null,null,{"$f":"IF(男子データ入力!M17=\"\",\"\",男子データ入力!M17)","v":""},{"$f":"IF(男子データ入力!N17=\"\",\"\",男子データ入力!N17)","v":""},{"$f":"IF(男子データ入力!O17=\"\",\"\",男子データ入力!O17)","v":""},{"$f":"IF(男子データ入力!P17=\"\",\"\",男子データ入力!P17)","v":""},null,null,null,null,{"$f":"IF(男子データ!C25=\"\",\"\",COUNT(I25,Q25))","v":""},""]
[null,{"$f":"IF(男子参加=FALSE,\"\",IF(男子データ入力!B18=\"\",\"\",男子データ入力!B18))","v":""},{"$f":"IF(男子参加=FALSE,\"\",IF(男子データ入力!C18=\"\",\"\",男子データ入力!C18))","v":""},{"$f":"IF(男子参加=FALSE,\"\",IF(男子データ入力!D18=\"\",\"\",男子データ入力!D18))","v":""},{"$f":"IF(男子参加=FALSE,\"\",IF(男子データ入力!E18=\"\",\"\",男子データ入力!E18))","v":""},{"$f":"IF(男子参加=FALSE,\"\",IF(男子データ入力!F18=\"\",\"\",男子データ入力!F18))","v":""},{"$f":"IF(男子参加=FALSE,\"\",IF(男子データ入力!G18=\"\",\"\",男子データ入力!G18))","v":""},{"$f":"IF(男子参加=FALSE,\"\",IF(男子データ入力!H18=\"\",\"\",男子データ入力!H18))","v":""},{"$f":"IF(男子参加=FALSE,\"\",IF(男子データ入力!I18=\"\",\"\",男子データ入力!I18))","v":""},{"$f":"IF(男子参加=FALSE,\"\",IF(男子データ入力!J18=\"\",\"\",男子データ入力!J18))","v":""},{"$f":"IF(男子参加=FALSE,\"\",IF(男子データ入力!K18=\"\",\"\",男子データ入力!K18))","v":""},{"$f":"IF(男子参加=FALSE,\"\",IF(男子データ入力!L18=\"\",\"\",男子データ入力!L18))","v":""},null,null,null,null,{"$f":"IF(男子データ入力!M18=\"\",\"\",男子データ入力!M18)","v":""},{"$f":"IF(男子データ入力!N18=\"\",\"\",男子データ入力!N18)","v":""},{"$f":"IF(男子データ入力!O18=\"\",\"\",男子データ入力!O18)","v":""},{"$f":"IF(男子データ入力!P18=\"\",\"\",男子データ入力!P18)","v":""},null,null,null,null,{"$f":"IF(男子データ!C26=\"\",\"\",COUNT(I26,Q26))","v":""},""]
[null,{"$f":"IF(男子参加=FALSE,\"\",IF(男子データ入力!B19=\"\",\"\",男子データ入力!B19))","v":""},{"$f":"IF(男子参加=FALSE,\"\",IF(男子データ入力!C19=\"\",\"\",男子データ入力!C19))","v":""},{"$f":"IF(男子参加=FALSE,\"\",IF(男子データ入力!D19=\"\",\"\",男子データ入力!D19))","v":""},{"$f":"IF(男子参加=FALSE,\"\",IF(男子データ入力!E19=\"\",\"\",男子データ入力!E19))","v":""},{"$f":"IF(男子参加=FALSE,\"\",IF(男子データ入力!F19=\"\",\"\",男子データ入力!F19))","v":""},{"$f":"IF(男子参加=FALSE,\"\",IF(男子データ入力!G19=\"\",\"\",男子データ入力!G19))","v":""},{"$f":"IF(男子参加=FALSE,\"\",IF(男子データ入力!H19=\"\",\"\",男子データ入力!H19))","v":""},{"$f":"IF(男子参加=FALSE,\"\",IF(男子データ入力!I19=\"\",\"\",男子データ入力!I19))","v":""},{"$f":"IF(男子参加=FALSE,\"\",IF(男子データ入力!J19=\"\",\"\",男子データ入力!J19))","v":""},{"$f":"IF(男子参加=FALSE,\"\",IF(男子データ入力!K19=\"\",\"\",男子データ入力!K19))","v":""},{"$f":"IF(男子参加=FALSE,\"\",IF(男子データ入力!L19=\"\",\"\",男子データ入力!L19))","v":""},null,null,null,null,{"$f":"IF(男子データ入力!M19=\"\",\"\",男子データ入力!M19)","v":""},{"$f":"IF(男子データ入力!N19=\"\",\"\",男子データ入力!N19)","v":""},{"$f":"IF(男子データ入力!O19=\"\",\"\",男子データ入力!O19)","v":""},{"$f":"IF(男子データ入力!P19=\"\",\"\",男子データ入力!P19)","v":""},null,null,null,null,{"$f":"IF(男子データ!C27=\"\",\"\",COUNT(I27,Q27))","v":""},""]
[null,{"$f":"IF(男子参加=FALSE,\"\",IF(男子データ入力!B20=\"\",\"\",男子データ入力!B20))","v":""},{"$f":"IF(男子参加=FALSE,\"\",IF(男子データ入力!C20=\"\",\"\",男子データ入力!C20))","v":""},{"$f":"IF(男子参加=FALSE,\"\",IF(男子データ入力!D20=\"\",\"\",男子データ入力!D20))","v":""},{"$f":"IF(男子参加=FALSE,\"\",IF(男子データ入力!E20=\"\",\"\",男子データ入力!E20))","v":""},{"$f":"IF(男子参加=FALSE,\"\",IF(男子データ入力!F20=\"\",\"\",男子データ入力!F20))","v":""},{"$f":"IF(男子参加=FALSE,\"\",IF(男子データ入力!G20=\"\",\"\",男子データ入力!G20))","v":""},{"$f":"IF(男子参加=FALSE,\"\",IF(男子データ入力!H20=\"\",\"\",男子データ入力!H20))","v":""},{"$f":"IF(男子参加=FALSE,\"\",IF(男子データ入力!I20=\"\",\"\",男子データ入力!I20))","v":""},{"$f":"IF(男子参加=FALSE,\"\",IF(男子データ入力!J20=\"\",\"\",男子データ入力!J20))","v":""},{"$f":"IF(男子参加=FALSE,\"\",IF(男子データ入力!K20=\"\",\"\",男子データ入力!K20))","v":""},{"$f":"IF(男子参加=FALSE,\"\",IF(男子データ入力!L20=\"\",\"\",男子データ入力!L20))","v":""},null,null,null,null,{"$f":"IF(男子データ入力!M20=\"\",\"\",男子データ入力!M20)","v":""},{"$f":"IF(男子データ入力!N20=\"\",\"\",男子データ入力!N20)","v":""},{"$f":"IF(男子データ入力!O20=\"\",\"\",男子データ入力!O20)","v":""},{"$f":"IF(男子データ入力!P20=\"\",\"\",男子データ入力!P20)","v":""},null,null,null,null,{"$f":"IF(男子データ!C28=\"\",\"\",COUNT(I28,Q28))","v":""},""]
[null,{"$f":"IF(男子参加=FALSE,\"\",IF(男子データ入力!B21=\"\",\"\",男子データ入力!B21))","v":""},{"$f":"IF(男子参加=FALSE,\"\",IF(男子データ入力!C21=\"\",\"\",男子データ入力!C21))","v":""},{"$f":"IF(男子参加=FALSE,\"\",IF(男子データ入力!D21=\"\",\"\",男子データ入力!D21))","v":""},{"$f":"IF(男子参加=FALSE,\"\",IF(男子データ入力!E21=\"\",\"\",男子データ入力!E21))","v":""},{"$f":"IF(男子参加=FALSE,\"\",IF(男子データ入力!F21=\"\",\"\",男子データ入力!F21))","v":""},{"$f":"IF(男子参加=FALSE,\"\",IF(男子データ入力!G21=\"\",\"\",男子データ入力!G21))","v":""},{"$f":"IF(男子参加=FALSE,\"\",IF(男子データ入力!H21=\"\",\"\",男子データ入力!H21))","v":""},{"$f":"IF(男子参加=FALSE,\"\",IF(男子データ入力!I21=\"\",\"\",男子データ入力!I21))","v":""},{"$f":"IF(男子参加=FALSE,\"\",IF(男子データ入力!J21=\"\",\"\",男子データ入力!J21))","v":""},{"$f":"IF(男子参加=FALSE,\"\",IF(男子データ入力!K21=\"\",\"\",男子データ入力!K21))","v":""},{"$f":"IF(男子参加=FALSE,\"\",IF(男子データ入力!L21=\"\",\"\",男子データ入力!L21))","v":""},null,null,null,null,{"$f":"IF(男子データ入力!M21=\"\",\"\",男子データ入力!M21)","v":""},{"$f":"IF(男子データ入力!N21=\"\",\"\",男子データ入力!N21)","v":""},{"$f":"IF(男子データ入力!O21=\"\",\"\",男子データ入力!O21)","v":""},{"$f":"IF(男子データ入力!P21=\"\",\"\",男子データ入力!P21)","v":""},null,null,null,null,{"$f":"IF(男子データ!C29=\"\",\"\",COUNT(I29,Q29))","v":""},""]
[null,{"$f":"IF(男子参加=FALSE,\"\",IF(男子データ入力!B22=\"\",\"\",男子データ入力!B22))","v":""},{"$f":"IF(男子参加=FALSE,\"\",IF(男子データ入力!C22=\"\",\"\",男子データ入力!C22))","v":""},{"$f":"IF(男子参加=FALSE,\"\",IF(男子データ入力!D22=\"\",\"\",男子データ入力!D22))","v":""},{"$f":"IF(男子参加=FALSE,\"\",IF(男子データ入力!E22=\"\",\"\",男子データ入力!E22))","v":""},{"$f":"IF(男子参加=FALSE,\"\",IF(男子データ入力!F22=\"\",\"\",男子データ入力!F22))","v":""},{"$f":"IF(男子参加=FALSE,\"\",IF(男子データ入力!G22=\"\",\"\",男子データ入力!G22))","v":""},{"$f":"IF(男子参加=FALSE,\"\",IF(男子データ入力!H22=\"\",\"\",男子データ入力!H22))","v":""},{"$f":"IF(男子参加=FALSE,\"\",IF(男子データ入力!I22=\"\",\"\",男子データ入力!I22))","v":""},{"$f":"IF(男子参加=FALSE,\"\",IF(男子データ入力!J22=\"\",\"\",男子データ入力!J22))","v":""},{"$f":"IF(男子参加=FALSE,\"\",IF(男子データ入力!K22=\"\",\"\",男子データ入力!K22))","v":""},{"$f":"IF(男子参加=FALSE,\"\",IF(男子データ入力!L22=\"\",\"\",男子データ入力!L22))","v":""},null,null,null,null,{"$f":"IF(男子データ入力!M22=\"\",\"\",男子データ入力!M22)","v":""},{"$f":"IF(男子データ入力!N22=\"\",\"\",男子データ入力!N22)","v":""},{"$f":"IF(男子データ入力!O22=\"\",\"\",男子データ入力!O22)","v":""},{"$f":"IF(男子データ入力!P22=\"\",\"\",男子データ入力!P22)","v":""},null,null,null,null,{"$f":"IF(男子データ!C30=\"\",\"\",COUNT(I30,Q30))","v":""},""]
[null,{"$f":"IF(男子データ入力!B23=\"\",\"\",男子データ入力!B23)","v":""},{"$f":"IF(男子データ入力!C23=\"\",\"\",男子データ入力!C23)","v":""},{"$f":"IF(男子データ入力!D23=\"\",\"\",男子データ入力!D23)","v":""},{"$f":"IF(男子データ入力!E23=\"\",\"\",男子データ入力!E23)","v":""},{"$f":"IF(男子データ入力!F23=\"\",\"\",男子データ入力!F23)","v":""},{"$f":"IF(男子データ入力!G23=\"\",\"\",男子データ入力!G23)","v":""},{"$f":"IF(男子データ入力!H23=\"\",\"\",男子データ入力!H23)","v":""},{"$f":"IF(男子データ入力!I23=\"\",\"\",男子データ入力!I23)","v":""},{"$f":"IF(男子データ入力!J23=\"\",\"\",男子データ入力!J23)","v":""},{"$f":"IF(男子データ入力!K23=\"\",\"\",男子データ入力!K23)","v":""},{"$f":"IF(男子データ入力!L23=\"\",\"\",男子データ入力!L23)","v":""},null,null,null,null,{"$f":"IF(男子データ入力!M23=\"\",\"\",男子データ入力!M23)","v":""},{"$f":"IF(男子データ入力!N23=\"\",\"\",男子データ入力!N23)","v":""},{"$f":"IF(男子データ入力!O23=\"\",\"\",男子データ入力!O23)","v":""},{"$f":"IF(男子データ入力!P23=\"\",\"\",男子データ入力!P23)","v":""},null,null,null,null,{"$f":"IF(男子データ!C31=\"\",\"\",COUNT(I31,Q31))","v":""},""]
[null,{"$f":"IF(男子データ入力!B24=\"\",\"\",男子データ入力!B24)","v":""},{"$f":"IF(男子データ入力!C24=\"\",\"\",男子データ入力!C24)","v":""},{"$f":"IF(男子データ入力!D24=\"\",\"\",男子データ入力!D24)","v":""},{"$f":"IF(男子データ入力!E24=\"\",\"\",男子データ入力!E24)","v":""},{"$f":"IF(男子データ入力!F24=\"\",\"\",男子データ入力!F24)","v":""},{"$f":"IF(男子データ入力!G24=\"\",\"\",男子データ入力!G24)","v":""},{"$f":"IF(男子データ入力!H24=\"\",\"\",男子データ入力!H24)","v":""},{"$f":"IF(男子データ入力!I24=\"\",\"\",男子データ入力!I24)","v":""},{"$f":"IF(男子データ入力!J24=\"\",\"\",男子データ入力!J24)","v":""},{"$f":"IF(男子データ入力!K24=\"\",\"\",男子データ入力!K24)","v":""},{"$f":"IF(男子データ入力!L24=\"\",\"\",男子データ入力!L24)","v":""},null,null,null,null,{"$f":"IF(男子データ入力!M24=\"\",\"\",男子データ入力!M24)","v":""},{"$f":"IF(男子データ入力!N24=\"\",\"\",男子データ入力!N24)","v":""},{"$f":"IF(男子データ入力!O24=\"\",\"\",男子データ入力!O24)","v":""},{"$f":"IF(男子データ入力!P24=\"\",\"\",男子データ入力!P24)","v":""},null,null,null,null,{"$f":"IF(男子データ!C32=\"\",\"\",COUNT(I32,Q32))","v":""},""]
[null,{"$f":"IF(男子データ入力!B25=\"\",\"\",男子データ入力!B25)","v":""},{"$f":"IF(男子データ入力!C25=\"\",\"\",男子データ入力!C25)","v":""},{"$f":"IF(男子データ入力!D25=\"\",\"\",男子データ入力!D25)","v":""},{"$f":"IF(男子データ入力!E25=\"\",\"\",男子データ入力!E25)","v":""},{"$f":"IF(男子データ入力!F25=\"\",\"\",男子データ入力!F25)","v":""},{"$f":"IF(男子データ入力!G25=\"\",\"\",男子データ入力!G25)","v":""},{"$f":"IF(男子データ入力!H25=\"\",\"\",男子データ入力!H25)","v":""},{"$f":"IF(男子データ入力!I25=\"\",\"\",男子データ入力!I25)","v":""},{"$f":"IF(男子データ入力!J25=\"\",\"\",男子データ入力!J25)","v":""},{"$f":"IF(男子データ入力!K25=\"\",\"\",男子データ入力!K25)","v":""},{"$f":"IF(男子データ入力!L25=\"\",\"\",男子データ入力!L25)","v":""},null,null,null,null,{"$f":"IF(男子データ入力!M25=\"\",\"\",男子データ入力!M25)","v":""},{"$f":"IF(男子データ入力!N25=\"\",\"\",男子データ入力!N25)","v":""},{"$f":"IF(男子データ入力!O25=\"\",\"\",男子データ入力!O25)","v":""},{"$f":"IF(男子データ入力!P25=\"\",\"\",男子データ入力!P25)","v":""},null,null,null,null,{"$f":"IF(男子データ!C33=\"\",\"\",COUNT(I33,Q33))","v":""},""]
[null,{"$f":"IF(男子データ入力!B26=\"\",\"\",男子データ入力!B26)","v":""},{"$f":"IF(男子データ入力!C26=\"\",\"\",男子データ入力!C26)","v":""},{"$f":"IF(男子データ入力!D26=\"\",\"\",男子データ入力!D26)","v":""},{"$f":"IF(男子データ入力!E26=\"\",\"\",男子データ入力!E26)","v":""},{"$f":"IF(男子データ入力!F26=\"\",\"\",男子データ入力!F26)","v":""},{"$f":"IF(男子データ入力!G26=\"\",\"\",男子データ入力!G26)","v":""},{"$f":"IF(男子データ入力!H26=\"\",\"\",男子データ入力!H26)","v":""},{"$f":"IF(男子データ入力!I26=\"\",\"\",男子データ入力!I26)","v":""},{"$f":"IF(男子データ入力!J26=\"\",\"\",男子データ入力!J26)","v":""},{"$f":"IF(男子データ入力!K26=\"\",\"\",男子データ入力!K26)","v":""},{"$f":"IF(男子データ入力!L26=\"\",\"\",男子データ入力!L26)","v":""},null,null,null,null,{"$f":"IF(男子データ入力!M26=\"\",\"\",男子データ入力!M26)","v":""},{"$f":"IF(男子データ入力!N26=\"\",\"\",男子データ入力!N26)","v":""},{"$f":"IF(男子データ入力!O26=\"\",\"\",男子データ入力!O26)","v":""},{"$f":"IF(男子データ入力!P26=\"\",\"\",男子データ入力!P26)","v":""},null,null,null,null,{"$f":"IF(男子データ!C34=\"\",\"\",COUNT(I34,Q34))","v":""},""]
[null,{"$f":"IF(男子データ入力!B27=\"\",\"\",男子データ入力!B27)","v":""},{"$f":"IF(男子データ入力!C27=\"\",\"\",男子データ入力!C27)","v":""},{"$f":"IF(男子データ入力!D27=\"\",\"\",男子データ入力!D27)","v":""},{"$f":"IF(男子データ入力!E27=\"\",\"\",男子データ入力!E27)","v":""},{"$f":"IF(男子データ入力!F27=\"\",\"\",男子データ入力!F27)","v":""},{"$f":"IF(男子データ入力!G27=\"\",\"\",男子データ入力!G27)","v":""},{"$f":"IF(男子データ入力!H27=\"\",\"\",男子データ入力!H27)","v":""},{"$f":"IF(男子データ入力!I27=\"\",\"\",男子データ入力!I27)","v":""},{"$f":"IF(男子データ入力!J27=\"\",\"\",男子データ入力!J27)","v":""},{"$f":"IF(男子データ入力!K27=\"\",\"\",男子データ入力!K27)","v":""},{"$f":"IF(男子データ入力!L27=\"\",\"\",男子データ入力!L27)","v":""},null,null,null,null,{"$f":"IF(男子データ入力!M27=\"\",\"\",男子データ入力!M27)","v":""},{"$f":"IF(男子データ入力!N27=\"\",\"\",男子データ入力!N27)","v":""},{"$f":"IF(男子データ入力!O27=\"\",\"\",男子データ入力!O27)","v":""},{"$f":"IF(男子データ入力!P27=\"\",\"\",男子データ入力!P27)","v":""},null,null,null,null,{"$f":"IF(男子データ!C35=\"\",\"\",COUNT(I35,Q35))","v":""},""]

{"sheet":"女子申込","index":4,"n_rows":90,"n_cols":26,"rows_kept":90,"cut":false,"hidden":true,"merged":[[6,13,6,16],[5,13,5,16],[13,8,13,15],[13,16,13,23],[10,22,10,23],[11,7,11,8],[11,9,11,12],[11,13,11,16],[11,21,11,24],[11,17,11,19],[5,21,5,23],[6,17,6,20],[6,21,6,23],[5,17,5,20],[7,17,7,20],[8,17,8,20],[8,13,8,16],[8,1,8,2],[7,13,7,16],[11,1,11,2],[10,4,10,6],[10,7,10,8],[10,1,10,3],[10,13,10,16],[8,3,8,4],[8,5,8,12],[10,9,10,12],[13,0,13,1],[12,2,13,2],[12,6,12,7],[13,6,13,7],[10,17,10,19],[6,10,6,12],[6,1,6,2],[6,3,6,4],[11,4,11,6],[6,5,6,7],[6,8,6,9],[4,0,4,24],[3,0,3,1],[3,2,3,3],[3,4,3,16],[0,0,0,24],[1,0,2,1],[1,2,1,3],[1,11,1,24],[2,2,2,3]]}
["赤色のセル部分(ﾘﾚｰ記録以外)は男子申込書に入力または選択してください。\n赤色部分(未入力項目)のないように注意してください。"]
["中学生",null,"受付番号",null,null,null,null,null,null,null,null,"(様式１）"]
[null,null,"記入しない"]
["女　子",null,null,null,{"$f":"男子申込!E4","v":"2026 第74回兵庫リレーカーニバル申込書"}]
[]
[null,null,null,null,null,null,null,null,null,null,null,null,null,"氏",null,null,null,"名",null,null,null,null,null,null,null,"郡市ｺｰﾄﾞ"]
["チーム\nコード",{"$f":"学校番号","v":0},null,"所属名",null,{"$f":"IF(男子申込!F7=\"\",\"\",男子申込!F7)","v":""},null,null,{"$f":"IF(男子申込!I7=\"\",\"\",男子申込!I7)","v":""},null,"申込責任者",null,null,{"$f":"IF(男子申込!N7=\"\",\"\",男子申込!N7)","v":0},null,null,null,{"$f":"IF(男子申込!R7=\"\",\"\",男子申込!R7)","v":0},null,null,null,null,null,null,null,{"$f":"IF(男子申込!Z7=\"\",\"\",男子申込!Z7)","v":28}]
[null,null,null,null,null,null,null,null,null,null,null,null,null,{"$f":"男子申込!N8","v":"連絡先電話()"},null,null,null,"緊急連絡先：携帯電話"]
["〒",{"$f":"IF(男子申込!B9=\"\",\"\",男子申込!B9)","v":0},null,"所属所在地",null,{"$f":"IF(男子申込!F9=\"\",\"\",男子申込!F9)","v":0},null,null,null,null,null,null,null,{"$f":"IF(男子申込!N9=\"\",\"\",男子申込!N9)","v":"－－"},null,null,null,{"$f":"IF(男子申込!R9=\"\",\"\",男子申込!R9)","v":"－－"}]
[]
["ﾌﾟﾛｸﾞﾗﾑｾｯﾄ\n5冊(\\4000)","参加人数",null,null,{"$f":"\"オープン種目(@\\\"& 個人参加料 &\")\"","v":"オープン種目(@\\1400)"},null,null,{"$f":"\"ﾘﾚｰ種目(@\\\" & リレー参加料 & \")\"","v":"ﾘﾚｰ種目(@\\2000)"},null,"女子申込料計",null,null,null,"男女合計金額",null,null,null,"振込日",null,null,{"$f":"IF(男子申込!U11=\"\",\"\",男子申込!U11)","v":3},"月",{"$f":"IF(男子申込!W11=\"\",\"\",男子申込!W11)","v":""},null,"日"]
[{"$f":"女セット数","v":0},"女子",null,{"$f":"COUNT(Z16:Z35)","v":0},{"$f":"COUNT(I16:I35,Q16:Q35)","v":0},null,null,{"$f":"IF(女子参加,1,0)","v":0},null,{"$f":"E12*個人参加料+H12*リレー参加料+A12*4000","v":0},null,null,null,{"$f":"J12+男子申込!J12","v":0},null,null,null,"振込局",null,null,{"$f":"IF(男子申込!U12=\"\",\"\",男子申込!U12)","v":0},"郵便局"]
[null,null,"ﾘﾚｰ\n記録","分","秒","1/100","DATA用5桁"]
["中学生女子",null,null,{"$f":"女子データ入力!J3","v":0},{"$f":"女子データ入力!K3","v":0},{"$f":"女子データ入力!L3","v":0},{"$f":"RIGHT(FIXED((D14*10000+E14*100+F14)/100000,5),5)","v":"00000"},null,"オープン種目申込①",null,null,null,null,null,null,null,"オープン種目申込②",null,null,null,null,null,null,null,"申込"]
["ナンバー\n記入しない","個人\n番号2ｹﾀ","姓","名","姓(ｶﾅ)","名(ｶﾅ)","新学年","リレー\n○印","種目","分","秒\nm","1/100\ncm","出場資格取得\n大会名","年","月","日","種目","分","秒\nm","1/100\ncm","出場資格取得\n大会名","年","月","日","種目数"]
[null,{"$f":"IF(女子データ入力!B8=\"\",\"\",女子データ入力!B8)","v":""},{"$f":"IF(女子データ入力!C8=\"\",\"\",女子データ入力!C8)","v":""},{"$f":"IF(女子データ入力!D8=\"\",\"\",女子データ入力!D8)","v":""},{"$f":"IF(女子データ入力!E8=\"\",\"\",女子データ入力!E8)","v":""},{"$f":"IF(女子データ入力!F8=\"\",\"\",女子データ入力!F8)","v":""},{"$f":"IF(女子データ入力!G8=\"\",\"\",女子データ入力!G8)","v":""},{"$f":"IF(女子データ入力!H8=\"\",\"\",女子データ入力!H8)","v":""},{"$f":"IF(女子データ入力!I8=\"\",\"\",女子データ入力!I8)","v":""},{"$f":"IF(女子データ入力!J8=\"\",\"\",女子データ入力!J8)","v":""},{"$f":"IF(女子データ入力!K8=\"\",\"\",女子データ入力!K8)","v":""},{"$f":"IF(女子データ入力!L8=\"\",\"\",女子データ入力!L8)","v":""},null,null,null,null,{"$f":"IF(女子データ入力!M8=\"\",\"\",女子データ入力!M8)","v":""},{"$f":"IF(女子データ入力!N8=\"\",\"\",女子データ入力!N8)","v":""},{"$f":"IF(女子データ入力!O8=\"\",\"\",女子データ入力!O8)","v":""},{"$f":"IF(女子データ入力!P8=\"\",\"\",女子データ入力!P8)","v":""},null,null,null,null,{"$f":"IF(女子データ!C16=\"\",\"\",COUNT(I16,Q16))","v":""},{"$f":"IF(Y16=\"\",\"\",VALUE(Y16&G16))","v":""}]
[null,{"$f":"IF(女子データ入力!B9=\"\",\"\",女子データ入力!B9)","v":""},{"$f":"IF(女子データ入力!C9=\"\",\"\",女子データ入力!C9)","v":""},{"$f":"IF(女子データ入力!D9=\"\",\"\",女子データ入力!D9)","v":""},{"$f":"IF(女子データ入力!E9=\"\",\"\",女子データ入力!E9)","v":""},{"$f":"IF(女子データ入力!F9=\"\",\"\",女子データ入力!F9)","v":""},{"$f":"IF(女子データ入力!G9=\"\",\"\",女子データ入力!G9)","v":""},{"$f":"IF(女子データ入力!H9=\"\",\"\",女子データ入力!H9)","v":""},{"$f":"IF(女子データ入力!I9=\"\",\"\",女子データ入力!I9)","v":""},{"$f":"IF(女子データ入力!J9=\"\",\"\",女子データ入力!J9)","v":""},{"$f":"IF(女子データ入力!K9=\"\",\"\",女子データ入力!K9)","v":""},{"$f":"IF(女子データ入力!L9=\"\",\"\",女子データ入力!L9)","v":""},null,null,null,null,{"$f":"IF(女子データ入力!M9=\"\",\"\",女子データ入力!M9)","v":""},{"$f":"IF(女子データ入力!N9=\"\",\"\",女子データ入力!N9)","v":""},{"$f":"IF(女子データ入力!O9=\"\",\"\",女子データ入力!O9)","v":""},{"$f":"IF(女子データ入力!P9=\"\",\"\",女子データ入力!P9)","v":""},null,null,null,null,{"$f":"IF(女子データ!C17=\"\",\"\",COUNT(I17,Q17))","v":""},""]
[null,{"$f":"IF(女子データ入力!B10=\"\",\"\",女子データ入力!B10)","v":""},{"$f":"IF(女子データ入力!C10=\"\",\"\",女子データ入力!C10)","v":""},{"$f":"IF(女子データ入力!D10=\"\",\"\",女子データ入力!D10)","v":""},{"$f":"IF(女子データ入力!E10=\"\",\"\",女子データ入力!E10)","v":""},{"$f":"IF(女子データ入力!F10=\"\",\"\",女子データ入力!F10)","v":""},{"$f":"IF(女子データ入力!G10=\"\",\"\",女子データ入力!G10)","v":""},{"$f":"IF(女子データ入力!H10=\"\",\"\",女子データ入力!H10)","v":""},{"$f":"IF(女子データ入力!I10=\"\",\"\",女子データ入力!I10)","v":""},{"$f":"IF(女子データ入力!J10=\"\",\"\",女子データ入力!J10)","v":""},{"$f":"IF(女子データ入力!K10=\"\",\"\",女子データ入力!K10)","v":""},{"$f":"IF(女子データ入力!L10=\"\",\"\",女子データ入力!L10)","v":""},null,null,null,null,{"$f":"IF(女子データ入力!M10=\"\",\"\",女子データ入力!M10)","v":""},{"$f":"IF(女子データ入力!N10=\"\",\"\",女子データ入力!N10)","v":""},{"$f":"IF(女子データ入力!O10=\"\",\"\",女子データ入力!O10)","v":""},{"$f":"IF(女子データ入力!P10=\"\",\"\",女子データ入力!P10)","v":""},null,null,null,null,{"$f":"IF(女子データ!C18=\"\",\"\",COUNT(I18,Q18))","v":""},""]
[null,{"$f":"IF(女子データ入力!B11=\"\",\"\",女子データ入力!B11)","v":""},{"$f":"IF(女子データ入力!C11=\"\",\"\",女子データ入力!C11)","v":""},{"$f":"IF(女子データ入力!D11=\"\",\"\",女子データ入力!D11)","v":""},{"$f":"IF(女子データ入力!E11=\"\",\"\",女子データ入力!E11)","v":""},{"$f":"IF(女子データ入力!F11=\"\",\"\",女子データ入力!F11)","v":""},{"$f":"IF(女子データ入力!G11=\"\",\"\",女子データ入力!G11)","v":""},{"$f":"IF(女子データ入力!H11=\"\",\"\",女子データ入力!H11)","v":""},{"$f":"IF(女子データ入力!I11=\"\",\"\",女子データ入力!I11)","v":""},{"$f":"IF(女子データ入力!J11=\"\",\"\",女子データ入力!J11)","v":""},{"$f":"IF(女子データ入力!K11=\"\",\"\",女子データ入力!K11)","v":""},{"$f":"IF(女子データ入力!L11=\"\",\"\",女子データ入力!L11)","v":""},null,null,null,null,{"$f":"IF(女子データ入力!M11=\"\",\"\",女子データ入力!M11)","v":""},{"$f":"IF(女子データ入力!N11=\"\",\"\",女子データ入力!N11)","v":""},{"$f":"IF(女子データ入力!O11=\"\",\"\",女子データ入力!O11)","v":""},{"$f":"IF(女子データ入力!P11=\"\",\"\",女子データ入力!P11)","v":""},null,null,null,null,{"$f":"IF(女子データ!C19=\"\",\"\",COUNT(I19,Q19))","v":""},""]
[null,{"$f":"IF(女子データ入力!B12=\"\",\"\",女子データ入力!B12)","v":""},{"$f":"IF(女子データ入力!C12=\"\",\"\",女子データ入力!C12)","v":""},{"$f":"IF(女子データ入力!D12=\"\",\"\",女子データ入力!D12)","v":""},{"$f":"IF(女子データ入力!E12=\"\",\"\",女子データ入力!E12)","v":""},{"$f":"IF(女子データ入力!F12=\"\",\"\",女子データ入力!F12)","v":""},{"$f":"IF(女子データ入力!G12=\"\",\"\",女子データ入力!G12)","v":""},{"$f":"IF(女子データ入力!H12=\"\",\"\",女子データ入力!H12)","v":""},{"$f":"IF(女子データ入力!I12=\"\",\"\",女子データ入力!I12)","v":""},{"$f":"IF(女子データ入力!J12=\"\",\"\",女子データ入力!J12)","v":""},{"$f":"IF(女子データ入力!K12=\"\",\"\",女子データ入力!K12)","v":""},{"$f":"IF(女子データ入力!L12=\"\",\"\",女子データ入力!L12)","v":""},null,null,null,null,{"$f":"IF(女子データ入力!M12=\"\",\"\",女子データ入力!M12)","v":""},{"$f":"IF(女子データ入力!N12=\"\",\"\",女子データ入力!N12)","v":""},{"$f":"IF(女子データ入力!O12=\"\",\"\",女子データ入力!O12)","v":""},{"$f":"IF(女子データ入力!P12=\"\",\"\",女子データ入力!P12)","v":""},null,null,null,null,{"$f":"IF(女子データ!C20=\"\",\"\",COUNT(I20,Q20))","v":""},""]
[null,{"$f":"IF(女子データ入力!B13=\"\",\"\",女子データ入力!B13)","v":""},{"$f":"IF(女子データ入力!C13=\"\",\"\",女子データ入力!C13)","v":""},{"$f":"IF(女子データ入力!D13=\"\",\"\",女子データ入力!D13)","v":""},{"$f":"IF(女子データ入力!E13=\"\",\"\",女子データ入力!E13)","v":""},{"$f":"IF(女子データ入力!F13=\"\",\"\",女子データ入力!F13)","v":""},{"$f":"IF(女子データ入力!G13=\"\",\"\",女子データ入力!G13)","v":""},{"$f":"IF(女子データ入力!H13=\"\",\"\",女子データ入力!H13)","v":""},{"$f":"IF(女子データ入力!I13=\"\",\"\",女子データ入力!I13)","v":""},{"$f":"IF(女子データ入力!J13=\"\",\"\",女子データ入力!J13)","v":""},{"$f":"IF(女子データ入力!K13=\"\",\"\",女子データ入力!K13)","v":""},{"$f":"IF(女子データ入力!L13=\"\",\"\",女子データ入力!L13)","v":""},null,null,null,null,{"$f":"IF(女子データ入力!M13=\"\",\"\",女子データ入力!M13)","v":""},{"$f":"IF(女子データ入力!N13=\"\",\"\",女子データ入力!N13)","v":""},{"$f":"IF(女子データ入力!O13=\"\",\"\",女子データ入力!O13)","v":""},{"$f":"IF(女子データ入力!P13=\"\",\"\",女子データ入力!P13)","v":""},null,null,null,null,{"$f":"IF(女子データ!C21=\"\",\"\",COUNT(I21,Q21))","v":""},""]
[null,{"$f":"IF(女子データ入力!B14=\"\",\"\",女子データ入力!B14)","v":""},{"$f":"IF(女子データ入力!C14=\"\",\"\",女子データ入力!C14)","v":""},{"$f":"IF(女子データ入力!D14=\"\",\"\",女子データ入力!D14)","v":""},{"$f":"IF(女子データ入力!E14=\"\",\"\",女子データ入力!E14)","v":""},{"$f":"IF(女子データ入力!F14=\"\",\"\",女子データ入力!F14)","v":""},{"$f":"IF(女子データ入力!G14=\"\",\"\",女子データ入力!G14)","v":""},{"$f":"IF(女子データ入力!H14=\"\",\"\",女子データ入力!H14)","v":""},{"$f":"IF(女子データ入力!I14=\"\",\"\",女子データ入力!I14)","v":""},{"$f":"IF(女子データ入力!J14=\"\",\"\",女子データ入力!J14)","v":""},{"$f":"IF(女子データ入力!K14=\"\",\"\",女子データ入力!K14)","v":""},{"$f":"IF(女子データ入力!L14=\"\",\"\",女子データ入力!L14)","v":""},null,null,null,null,{"$f":"IF(女子データ入力!M14=\"\",\"\",女子データ入力!M14)","v":""},{"$f":"IF(女子データ入力!N14=\"\",\"\",女子データ入力!N14)","v":""},{"$f":"IF(女子データ入力!O14=\"\",\"\",女子データ入力!O14)","v":""},{"$f":"IF(女子データ入力!P14=\"\",\"\",女子データ入力!P14)","v":""},null,null,null,null,{"$f":"IF(女子データ!C22=\"\",\"\",COUNT(I22,Q22))","v":""},""]
[null,{"$f":"IF(女子データ入力!B15=\"\",\"\",女子データ入力!B15)","v":""},{"$f":"IF(女子データ入力!C15=\"\",\"\",女子データ入力!C15)","v":""},{"$f":"IF(女子データ入力!D15=\"\",\"\",女子データ入力!D15)","v":""},{"$f":"IF(女子データ入力!E15=\"\",\"\",女子データ入力!E15)","v":""},{"$f":"IF(女子データ入力!F15=\"\",\"\",女子データ入力!F15)","v":""},{"$f":"IF(女子データ入力!G15=\"\",\"\",女子データ入力!G15)","v":""},{"$f":"IF(女子データ入力!H15=\"\",\"\",女子データ入力!H15)","v":""},{"$f":"IF(女子データ入力!I15=\"\",\"\",女子データ入力!I15)","v":""},{"$f":"IF(女子データ入力!J15=\"\",\"\",女子データ入力!J15)","v":""},{"$f":"IF(女子データ入力!K15=\"\",\"\",女子データ入力!K15)","v":""},{"$f":"IF(女子データ入力!L15=\"\",\"\",女子データ入力!L15)","v":""},null,null,null,null,{"$f":"IF(女子データ入力!M15=\"\",\"\",女子データ入力!M15)","v":""},{"$f":"IF(女子データ入力!N15=\"\",\"\",女子データ入力!N15)","v":""},{"$f":"IF(女子データ入力!O15=\"\",\"\",女子データ入力!O15)","v":""},{"$f":"IF(女子データ入力!P15=\"\",\"\",女子データ入力!P15)","v":""},null,null,null,null,{"$f":"IF(女子データ!C23=\"\",\"\",COUNT(I23,Q23))","v":""},""]
[null,{"$f":"IF(女子データ入力!B16=\"\",\"\",女子データ入力!B16)","v":""},{"$f":"IF(女子データ入力!C16=\"\",\"\",女子データ入力!C16)","v":""},{"$f":"IF(女子データ入力!D16=\"\",\"\",女子データ入力!D16)","v":""},{"$f":"IF(女子データ入力!E16=\"\",\"\",女子データ入力!E16)","v":""},{"$f":"IF(女子データ入力!F16=\"\",\"\",女子データ入力!F16)","v":""},{"$f":"IF(女子データ入力!G16=\"\",\"\",女子データ入力!G16)","v":""},{"$f":"IF(女子データ入力!H16=\"\",\"\",女子データ入力!H16)","v":""},{"$f":"IF(女子データ入力!I16=\"\",\"\",女子データ入力!I16)","v":""},{"$f":"IF(女子データ入力!J16=\"\",\"\",女子データ入力!J16)","v":""},{"$f":"IF(女子データ入力!K16=\"\",\"\",女子データ入力!K16)","v":""},{"$f":"IF(女子データ入力!L16=\"\",\"\",女子データ入力!L16)","v":""},null,null,null,null,{"$f":"IF(女子データ入力!M16=\"\",\"\",女子データ入力!M16)","v":""},{"$f":"IF(女子データ入力!N16=\"\",\"\",女子データ入力!N16)","v":""},{"$f":"IF(女子データ入力!O16=\"\",\"\",女子データ入力!O16)","v":""},{"$f":"IF(女子データ入力!P16=\"\",\"\",女子データ入力!P16)","v":""},null,null,null,null,{"$f":"IF(女子データ!C24=\"\",\"\",COUNT(I24,Q24))","v":""},""]
[null,{"$f":"IF(女子データ入力!B17=\"\",\"\",女子データ入力!B17)","v":""},{"$f":"IF(女子データ入力!C17=\"\",\"\",女子データ入力!C17)","v":""},{"$f":"IF(女子データ入力!D17=\"\",\"\",女子データ入力!D17)","v":""},{"$f":"IF(女子データ入力!E17=\"\",\"\",女子データ入力!E17)","v":""},{"$f":"IF(女子データ入力!F17=\"\",\"\",女子データ入力!F17)","v":""},{"$f":"IF(女子データ入力!G17=\"\",\"\",女子データ入力!G17)","v":""},{"$f":"IF(女子データ入力!H17=\"\",\"\",女子データ入力!H17)","v":""},{"$f":"IF(女子データ入力!I17=\"\",\"\",女子データ入力!I17)","v":""},{"$f":"IF(女子データ入力!J17=\"\",\"\",女子データ入力!J17)","v":""},{"$f":"IF(女子データ入力!K17=\"\",\"\",女子データ入力!K17)","v":""},{"$f":"IF(女子データ入力!L17=\"\",\"\",女子データ入力!L17)","v":""},null,null,null,null,{"$f":"IF(女子データ入力!M17=\"\",\"\",女子データ入力!M17)","v":""},{"$f":"IF(女子データ入力!N17=\"\",\"\",女子データ入力!N17)","v":""},{"$f":"IF(女子データ入力!O17=\"\",\"\",女子データ入力!O17)","v":""},{"$f":"IF(女子データ入力!P17=\"\",\"\",女子データ入力!P17)","v":""},null,null,null,null,{"$f":"IF(女子データ!C25=\"\",\"\",COUNT(I25,Q25))","v":""},""]
[null,{"$f":"IF(女子データ入力!B18=\"\",\"\",女子データ入力!B18)","v":""},{"$f":"IF(女子データ入力!C18=\"\",\"\",女子データ入力!C18)","v":""},{"$f":"IF(女子データ入力!D18=\"\",\"\",女子データ入力!D18)","v":""},{"$f":"IF(女子データ入力!E18=\"\",\"\",女子データ入力!E18)","v":""},{"$f":"IF(女子データ入力!F18=\"\",\"\",女子データ入力!F18)","v":""},{"$f":"IF(女子データ入力!G18=\"\",\"\",女子データ入力!G18)","v":""},{"$f":"IF(女子データ入力!H18=\"\",\"\",女子データ入力!H18)","v":""},{"$f":"IF(女子データ入力!I18=\"\",\"\",女子データ入力!I18)","v":""},{"$f":"IF(女子データ入力!J18=\"\",\"\",女子データ入力!J18)","v":""},{"$f":"IF(女子データ入力!K18=\"\",\"\",女子データ入力!K18)","v":""},{"$f":"IF(女子データ入力!L18=\"\",\"\",女子データ入力!L18)","v":""},null,null,null,null,{"$f":"IF(女子データ入力!M18=\"\",\"\",女子データ入力!M18)","v":""},{"$f":"IF(女子データ入力!N18=\"\",\"\",女子データ入力!N18)","v":""},{"$f":"IF(女子データ入力!O18=\"\",\"\",女子データ入力!O18)","v":""},{"$f":"IF(女子データ入力!P18=\"\",\"\",女子データ入力!P18)","v":""},null,null,null,null,{"$f":"IF(女子データ!C26=\"\",\"\",COUNT(I26,Q26))","v":""},""]
[null,{"$f":"IF(女子データ入力!B19=\"\",\"\",女子データ入力!B19)","v":""},{"$f":"IF(女子データ入力!C19=\"\",\"\",女子データ入力!C19)","v":""},{"$f":"IF(女子データ入力!D19=\"\",\"\",女子データ入力!D19)","v":""},{"$f":"IF(女子データ入力!E19=\"\",\"\",女子データ入力!E19)","v":""},{"$f":"IF(女子データ入力!F19=\"\",\"\",女子データ入力!F19)","v":""},{"$f":"IF(女子データ入力!G19=\"\",\"\",女子データ入力!G19)","v":""},{"$f":"IF(女子データ入力!H19=\"\",\"\",女子データ入力!H19)","v":""},{"$f":"IF(女子データ入力!I19=\"\",\"\",女子データ入力!I19)","v":""},{"$f":"IF(女子データ入力!J19=\"\",\"\",女子データ入力!J19)","v":""},{"$f":"IF(女子データ入力!K19=\"\",\"\",女子データ入力!K19)","v":""},{"$f":"IF(女子データ入力!L19=\"\",\"\",女子データ入力!L19)","v":""},null,null,null,null,{"$f":"IF(女子データ入力!M19=\"\",\"\",女子データ入力!M19)","v":""},{"$f":"IF(女子データ入力!N19=\"\",\"\",女子データ入力!N19)","v":""},{"$f":"IF(女子データ入力!O19=\"\",\"\",女子データ入力!O19)","v":""},{"$f":"IF(女子データ入力!P19=\"\",\"\",女子データ入力!P19)","v":""},null,null,null,null,{"$f":"IF(女子データ!C27=\"\",\"\",COUNT(I27,Q27))","v":""},""]
[null,{"$f":"IF(女子データ入力!B20=\"\",\"\",女子データ入力!B20)","v":""},{"$f":"IF(女子データ入力!C20=\"\",\"\",女子データ入力!C20)","v":""},{"$f":"IF(女子データ入力!D20=\"\",\"\",女子データ入力!D20)","v":""},{"$f":"IF(女子データ入力!E20=\"\",\"\",女子データ入力!E20)","v":""},{"$f":"IF(女子データ入力!F20=\"\",\"\",女子データ入力!F20)","v":""},{"$f":"IF(女子データ入力!G20=\"\",\"\",女子データ入力!G20)","v":""},{"$f":"IF(女子データ入力!H20=\"\",\"\",女子データ入力!H20)","v":""},{"$f":"IF(女子データ入力!I20=\"\",\"\",女子データ入力!I20)","v":""},{"$f":"IF(女子データ入力!J20=\"\",\"\",女子データ入力!J20)","v":""},{"$f":"IF(女子データ入力!K20=\"\",\"\",女子データ入力!K20)","v":""},{"$f":"IF(女子データ入力!L20=\"\",\"\",女子データ入力!L20)","v":""},null,null,null,null,{"$f":"IF(女子データ入力!M20=\"\",\"\",女子データ入力!M20)","v":""},{"$f":"IF(女子データ入力!N20=\"\",\"\",女子データ入力!N20)","v":""},{"$f":"IF(女子データ入力!O20=\"\",\"\",女子データ入力!O20)","v":""},{"$f":"IF(女子データ入力!P20=\"\",\"\",女子データ入力!P20)","v":""},null,null,null,null,{"$f":"IF(女子データ!C28=\"\",\"\",COUNT(I28,Q28))","v":""},""]
[null,{"$f":"IF(女子データ入力!B21=\"\",\"\",女子データ入力!B21)","v":""},{"$f":"IF(女子データ入力!C21=\"\",\"\",女子データ入力!C21)","v":""},{"$f":"IF(女子データ入力!D21=\"\",\"\",女子データ入力!D21)","v":""},{"$f":"IF(女子データ入力!E21=\"\",\"\",女子データ入力!E21)","v":""},{"$f":"IF(女子データ入力!F21=\"\",\"\",女子データ入力!F21)","v":""},{"$f":"IF(女子データ入力!G21=\"\",\"\",女子データ入力!G21)","v":""},{"$f":"IF(女子データ入力!H21=\"\",\"\",女子データ入力!H21)","v":""},{"$f":"IF(女子データ入力!I21=\"\",\"\",女子データ入力!I21)","v":""},{"$f":"IF(女子データ入力!J21=\"\",\"\",女子データ入力!J21)","v":""},{"$f":"IF(女子データ入力!K21=\"\",\"\",女子データ入力!K21)","v":""},{"$f":"IF(女子データ入力!L21=\"\",\"\",女子データ入力!L21)","v":""},null,null,null,null,{"$f":"IF(女子データ入力!M21=\"\",\"\",女子データ入力!M21)","v":""},{"$f":"IF(女子データ入力!N21=\"\",\"\",女子データ入力!N21)","v":""},{"$f":"IF(女子データ入力!O21=\"\",\"\",女子データ入力!O21)","v":""},{"$f":"IF(女子データ入力!P21=\"\",\"\",女子データ入力!P21)","v":""},null,null,null,null,{"$f":"IF(女子データ!C29=\"\",\"\",COUNT(I29,Q29))","v":""},""]
[null,{"$f":"IF(女子データ入力!B22=\"\",\"\",女子データ入力!B22)","v":""},{"$f":"IF(女子データ入力!C22=\"\",\"\",女子データ入力!C22)","v":""},{"$f":"IF(女子データ入力!D22=\"\",\"\",女子データ入力!D22)","v":""},{"$f":"IF(女子データ入力!E22=\"\",\"\",女子データ入力!E22)","v":""},{"$f":"IF(女子データ入力!F22=\"\",\"\",女子データ入力!F22)","v":""},{"$f":"IF(女子データ入力!G22=\"\",\"\",女子データ入力!G22)","v":""},{"$f":"IF(女子データ入力!H22=\"\",\"\",女子データ入力!H22)","v":""},{"$f":"IF(女子データ入力!I22=\"\",\"\",女子データ入力!I22)","v":""},{"$f":"IF(女子データ入力!J22=\"\",\"\",女子データ入力!J22)","v":""},{"$f":"IF(女子データ入力!K22=\"\",\"\",女子データ入力!K22)","v":""},{"$f":"IF(女子データ入力!L22=\"\",\"\",女子データ入力!L22)","v":""},null,null,null,null,{"$f":"IF(女子データ入力!M22=\"\",\"\",女子データ入力!M22)","v":""},{"$f":"IF(女子データ入力!N22=\"\",\"\",女子データ入力!N22)","v":""},{"$f":"IF(女子データ入力!O22=\"\",\"\",女子データ入力!O22)","v":""},{"$f":"IF(女子データ入力!P22=\"\",\"\",女子データ入力!P22)","v":""},null,null,null,null,{"$f":"IF(女子データ!C30=\"\",\"\",COUNT(I30,Q30))","v":""},""]
[null,null,null,null,null,null,null,null,{"$f":"IF(女子データ入力!I23=\"\",\"\",女子データ入力!I23)","v":""},{"$f":"IF(女子データ入力!J23=\"\",\"\",女子データ入力!J23)","v":""},{"$f":"IF(女子データ入力!K23=\"\",\"\",女子データ入力!K23)","v":""},{"$f":"IF(女子データ入力!L23=\"\",\"\",女子データ入力!L23)","v":""},null,null,null,null,{"$f":"IF(女子データ入力!M23=\"\",\"\",女子データ入力!M23)","v":""},{"$f":"IF(女子データ入力!N23=\"\",\"\",女子データ入力!N23)","v":""},{"$f":"IF(女子データ入力!O23=\"\",\"\",女子データ入力!O23)","v":""},{"$f":"IF(女子データ入力!P23=\"\",\"\",女子データ入力!P23)","v":""},null,null,null,null,{"$f":"IF(女子データ!C31=\"\",\"\",COUNT(I31,Q31))","v":""},""]
[null,null,null,null,null,null,null,null,{"$f":"IF(女子データ入力!I24=\"\",\"\",女子データ入力!I24)","v":""},{"$f":"IF(女子データ入力!J24=\"\",\"\",女子データ入力!J24)","v":""},{"$f":"IF(女子データ入力!K24=\"\",\"\",女子データ入力!K24)","v":""},{"$f":"IF(女子データ入力!L24=\"\",\"\",女子データ入力!L24)","v":""},null,null,null,null,{"$f":"IF(女子データ入力!M24=\"\",\"\",女子データ入力!M24)","v":""},{"$f":"IF(女子データ入力!N24=\"\",\"\",女子データ入力!N24)","v":""},{"$f":"IF(女子データ入力!O24=\"\",\"\",女子データ入力!O24)","v":""},{"$f":"IF(女子データ入力!P24=\"\",\"\",女子データ入力!P24)","v":""},null,null,null,null,{"$f":"IF(女子データ!C32=\"\",\"\",COUNT(I32,Q32))","v":""},""]
[null,null,null,null,null,null,null,null,{"$f":"IF(女子データ入力!I25=\"\",\"\",女子データ入力!I25)","v":""},{"$f":"IF(女子データ入力!J25=\"\",\"\",女子データ入力!J25)","v":""},{"$f":"IF(女子データ入力!K25=\"\",\"\",女子データ入力!K25)","v":""},{"$f":"IF(女子データ入力!L25=\"\",\"\",女子データ入力!L25)","v":""},null,null,null,null,{"$f":"IF(女子データ入力!M25=\"\",\"\",女子データ入力!M25)","v":""},{"$f":"IF(女子データ入力!N25=\"\",\"\",女子データ入力!N25)","v":""},{"$f":"IF(女子データ入力!O25=\"\",\"\",女子データ入力!O25)","v":""},{"$f":"IF(女子データ入力!P25=\"\",\"\",女子データ入力!P25)","v":""},null,null,null,null,{"$f":"IF(女子データ!C33=\"\",\"\",COUNT(I33,Q33))","v":""},""]
[null,null,null,null,null,null,null,null,{"$f":"IF(女子データ入力!I26=\"\",\"\",女子データ入力!I26)","v":""},{"$f":"IF(女子データ入力!J26=\"\",\"\",女子データ入力!J26)","v":""},{"$f":"IF(女子データ入力!K26=\"\",\"\",女子データ入力!K26)","v":""},{"$f":"IF(女子データ入力!L26=\"\",\"\",女子データ入力!L26)","v":""},null,null,null,null,{"$f":"IF(女子データ入力!M26=\"\",\"\",女子データ入力!M26)","v":""},{"$f":"IF(女子データ入力!N26=\"\",\"\",女子データ入力!N26)","v":""},{"$f":"IF(女子データ入力!O26=\"\",\"\",女子データ入力!O26)","v":""},{"$f":"IF(女子データ入力!P26=\"\",\"\",女子データ入力!P26)","v":""},null,null,null,null,{"$f":"IF(女子データ!C34=\"\",\"\",COUNT(I34,Q34))","v":""},""]
[null,null,null,null,null,null,null,null,{"$f":"IF(女子データ入力!I27=\"\",\"\",女子データ入力!I27)","v":""},{"$f":"IF(女子データ入力!J27=\"\",\"\",女子データ入力!J27)","v":""},{"$f":"IF(女子データ入力!K27=\"\",\"\",女子データ入力!K27)","v":""},{"$f":"IF(女子データ入力!L27=\"\",\"\",女子データ入力!L27)","v":""},null,null,null,null,{"$f":"IF(女子データ入力!M27=\"\",\"\",女子データ入力!M27)","v":""},{"$f":"IF(女子データ入力!N27=\"\",\"\",女子データ入力!N27)","v":""},{"$f":"IF(女子データ入力!O27=\"\",\"\",女子データ入力!O27)","v":""},{"$f":"IF(女子データ入力!P27=\"\",\"\",女子データ入力!P27)","v":""},null,null,null,null,{"$f":"IF(女子データ!C35=\"\",\"\",COUNT(I35,Q35))","v":""},""]
[]
[]
["リレー",null,"種目","種目ｺｰﾄﾞ","TF","TF"]
["○"]
[]
["年度"]
["09"]
["10"]
[]
["月"]
[1]
[2]
[3]
[4]
[5]
[6]
[7]
[8]
[9]
[10]
[11]
[12]
[]
["日"]
[1]
[2]
[3]
[4]
[5]
[6]
[7]
[8]
[9]
[10]
[11]
[12]
[13]
[14]
[15]
[16]
[17]
[18]
[19]
[20]
[21]
[22]
[23]
[24]
[25]
[26]
[27]
[28]
[29]
[30]
[31]

{"sheet":"男子データ","index":5,"n_rows":37,"n_cols":18,"rows_kept":37,"cut":false,"hidden":true,"merged":[]}
[]
[]
[]
[]
[]
[]
[]
[]
[]
[]
[null,{"$f":"男子申込!B7","v":0},{"$f":"男子申込!F7","v":""},{"$f":"男子申込!I7","v":""},{"$f":"男子申込!N7&\"  \"&男子申込!R7","v":"0  0"},{"$f":"男子申込!N9","v":"－－"},{"$f":"男子申込!R9","v":"－－"},{"$f":"男子申込!N12","v":0},{"$f":"男子申込!D12","v":0},{"$f":"男子申込!E12","v":0},{"$f":"男子申込!H12","v":0},{"$f":"男子申込!J12","v":0},{"$f":"女子申込!D12","v":0},{"$f":"女子申込!E12","v":0},{"$f":"女子申込!H12","v":0},{"$f":"女子申込!J12","v":0},{"$f":"男子申込!U11&\"月\"&男子申込!W11&\"日\"","v":"3月日"},{"$f":"男子申込!U12&\"郵便局\"","v":"0郵便局"}]
[]
[]
[null,"MAT_Track&Field_System_MasterCSV_縦形式"]
[null,"DB","N1","N2","SX","KC","MC","ZK","S1","S2"]
[{"$f":"IF(男子申込!H16=\"\",\"\",\"s\"&COUNTIF(男子申込!H16,\"○\"))","v":""},{"$f":"IF(男子申込!C16=\"\",\"\",128500000+男子申込!$B$7*100+男子申込!B16)","v":""},{"$f":"IF(男子申込!C16=\"\",\"\",IF(LENB(TRIM(男子申込!C16))+LENB(TRIM(男子申込!D16))>=12,TRIM(男子申込!C16)&TRIM(男子申込!D16),TRIM(男子申込!C16)&REPT(\" \",(5-((LENB(TRIM(男子申込!C16))+LENB(TRIM(男子申込!D16)))/2))*2)&TRIM(男子申込!D16))&IF(男子申込!G16=\"\",\"\",IF(LENB(TRIM(男子申込!G16))>=2,TRIM(男子申込!G16),\"(\"&TRIM(男子申込!G16)&\")\")))","v":""},{"$f":"IF(AND(男子申込!E16=\"\",男子申込!F16=\"\"),\"\",ASC(男子申込!E16)&\" \"&ASC(男子申込!F16))","v":""},{"$f":"IF(男子申込!C16=\"\",\"\",VALUE(LEFT(B16,1)))","v":""},{"$f":"IF(男子申込!C16=\"\",\"\",男子申込!$Z$7)","v":""},{"$f":"IF(C16=\"\",\"\",285000+男子申込!$B$7)","v":""},{"$f":"IF(C16=\"\",\"\",男子申込!$B$7)","v":""},{"$f":"IF(男子申込!I16=\"\",\"\",VLOOKUP(男子申込!I16,男子申込!#REF!,2,FALSE)&\" \"&RIGHT(FIXED(VALUE(男子申込!J16&男子申込!K16&IF(LENB(男子申込!L16)=1,男子申込!L16&\"0\",男子申込!L16))/VLOOKUP(男子申込!I16,男子申込!#REF!,3,FALSE),VLOOKUP(男子申込!I16,男子申込!#REF!,4,FALSE)),VLOOKUP(男子申込!I16,男子申込!#REF!,4,FALSE)))","v":""},{"$f":"IF(男子申込!Q16=\"\",\"\",VLOOKUP(男子申込!Q16,男子申込!#REF!,2,FALSE)&\" \"&RIGHT(FIXED(VALUE(男子申込!R16&男子申込!S16&IF(LENB(男子申込!T16)=1,男子申込!T16&\"0\",男子申込!T16))/VLOOKUP(男子申込!Q16,男子申込!#REF!,3,FALSE),VLOOKUP(男子申込!Q16,男子申込!#REF!,4,FALSE)),VLOOKUP(男子申込!Q16,男子申込!#REF!,4,FALSE)))","v":""}]
[{"$f":"IF(男子申込!H17=\"\",\"\",\"s\"&COUNTIF(男子申込!$H$16:H17,\"○\"))","v":""},{"$f":"IF(男子申込!C17=\"\",\"\",128500000+男子申込!$B$7*100+男子申込!B17)","v":""},{"$f":"IF(男子申込!C17=\"\",\"\",IF(LENB(TRIM(男子申込!C17))+LENB(TRIM(男子申込!D17))>=12,TRIM(男子申込!C17)&TRIM(男子申込!D17),TRIM(男子申込!C17)&REPT(\" \",(5-((LENB(TRIM(男子申込!C17))+LENB(TRIM(男子申込!D17)))/2))*2)&TRIM(男子申込!D17))&IF(男子申込!G17=\"\",\"\",IF(LENB(TRIM(男子申込!G17))>=2,TRIM(男子申込!G17),\"(\"&TRIM(男子申込!G17)&\")\")))","v":""},{"$f":"IF(AND(男子申込!E17=\"\",男子申込!F17=\"\"),\"\",ASC(男子申込!E17)&\" \"&ASC(男子申込!F17))","v":""},{"$f":"IF(男子申込!C17=\"\",\"\",VALUE(LEFT(B17,1)))","v":""},{"$f":"IF(男子申込!C17=\"\",\"\",男子申込!$Z$7)","v":""},{"$f":"IF(C17=\"\",\"\",285000+男子申込!$B$7)","v":""},{"$f":"IF(C17=\"\",\"\",男子申込!$B$7)","v":""},{"$f":"IF(男子申込!I17=\"\",\"\",VLOOKUP(男子申込!I17,男子申込!#REF!,2,FALSE)&\" \"&RIGHT(FIXED(VALUE(男子申込!J17&男子申込!K17&IF(LENB(男子申込!L17)=1,男子申込!L17&\"0\",男子申込!L17))/VLOOKUP(男子申込!I17,男子申込!#REF!,3,FALSE),VLOOKUP(男子申込!I17,男子申込!#REF!,4,FALSE)),VLOOKUP(男子申込!I17,男子申込!#REF!,4,FALSE)))","v":""},{"$f":"IF(男子申込!Q17=\"\",\"\",VLOOKUP(男子申込!Q17,男子申込!#REF!,2,FALSE)&\" \"&RIGHT(FIXED(VALUE(男子申込!R17&男子申込!S17&IF(LENB(男子申込!T17)=1,男子申込!T17&\"0\",男子申込!T17))/VLOOKUP(男子申込!Q17,男子申込!#REF!,3,FALSE),VLOOKUP(男子申込!Q17,男子申込!#REF!,4,FALSE)),VLOOKUP(男子申込!Q17,男子申込!#REF!,4,FALSE)))","v":""}]
[{"$f":"IF(男子申込!H18=\"\",\"\",\"s\"&COUNTIF(男子申込!$H$16:H18,\"○\"))","v":""},{"$f":"IF(男子申込!C18=\"\",\"\",128500000+男子申込!$B$7*100+男子申込!B18)","v":""},{"$f":"IF(男子申込!C18=\"\",\"\",IF(LENB(TRIM(男子申込!C18))+LENB(TRIM(男子申込!D18))>=12,TRIM(男子申込!C18)&TRIM(男子申込!D18),TRIM(男子申込!C18)&REPT(\" \",(5-((LENB(TRIM(男子申込!C18))+LENB(TRIM(男子申込!D18)))/2))*2)&TRIM(男子申込!D18))&IF(男子申込!G18=\"\",\"\",IF(LENB(TRIM(男子申込!G18))>=2,TRIM(男子申込!G18),\"(\"&TRIM(男子申込!G18)&\")\")))","v":""},{"$f":"IF(AND(男子申込!E18=\"\",男子申込!F18=\"\"),\"\",ASC(男子申込!E18)&\" \"&ASC(男子申込!F18))","v":""},{"$f":"IF(男子申込!C18=\"\",\"\",VALUE(LEFT(B18,1)))","v":""},{"$f":"IF(男子申込!C18=\"\",\"\",男子申込!$Z$7)","v":""},{"$f":"IF(C18=\"\",\"\",285000+男子申込!$B$7)","v":""},{"$f":"IF(C18=\"\",\"\",男子申込!$B$7)","v":""},{"$f":"IF(男子申込!I18=\"\",\"\",VLOOKUP(男子申込!I18,男子申込!#REF!,2,FALSE)&\" \"&RIGHT(FIXED(VALUE(男子申込!J18&男子申込!K18&IF(LENB(男子申込!L18)=1,男子申込!L18&\"0\",男子申込!L18))/VLOOKUP(男子申込!I18,男子申込!#REF!,3,FALSE),VLOOKUP(男子申込!I18,男子申込!#REF!,4,FALSE)),VLOOKUP(男子申込!I18,男子申込!#REF!,4,FALSE)))","v":""},{"$f":"IF(男子申込!Q18=\"\",\"\",VLOOKUP(男子申込!Q18,男子申込!#REF!,2,FALSE)&\" \"&RIGHT(FIXED(VALUE(男子申込!R18&男子申込!S18&IF(LENB(男子申込!T18)=1,男子申込!T18&\"0\",男子申込!T18))/VLOOKUP(男子申込!Q18,男子申込!#REF!,3,FALSE),VLOOKUP(男子申込!Q18,男子申込!#REF!,4,FALSE)),VLOOKUP(男子申込!Q18,男子申込!#REF!,4,FALSE)))","v":""}]
[{"$f":"IF(男子申込!H19=\"\",\"\",\"s\"&COUNTIF(男子申込!$H$16:H19,\"○\"))","v":""},{"$f":"IF(男子申込!C19=\"\",\"\",128500000+男子申込!$B$7*100+男子申込!B19)","v":""},{"$f":"IF(男子申込!C19=\"\",\"\",IF(LENB(TRIM(男子申込!C19))+LENB(TRIM(男子申込!D19))>=12,TRIM(男子申込!C19)&TRIM(男子申込!D19),TRIM(男子申込!C19)&REPT(\" \",(5-((LENB(TRIM(男子申込!C19))+LENB(TRIM(男子申込!D19)))/2))*2)&TRIM(男子申込!D19))&IF(男子申込!G19=\"\",\"\",IF(LENB(TRIM(男子申込!G19))>=2,TRIM(男子申込!G19),\"(\"&TRIM(男子申込!G19)&\")\")))","v":""},{"$f":"IF(AND(男子申込!E19=\"\",男子申込!F19=\"\"),\"\",ASC(男子申込!E19)&\" \"&ASC(男子申込!F19))","v":""},{"$f":"IF(男子申込!C19=\"\",\"\",VALUE(LEFT(B19,1)))","v":""},{"$f":"IF(男子申込!C19=\"\",\"\",男子申込!$Z$7)","v":""},{"$f":"IF(C19=\"\",\"\",285000+男子申込!$B$7)","v":""},{"$f":"IF(C19=\"\",\"\",男子申込!$B$7)","v":""},{"$f":"IF(男子申込!I19=\"\",\"\",VLOOKUP(男子申込!I19,男子申込!#REF!,2,FALSE)&\" \"&RIGHT(FIXED(VALUE(男子申込!J19&男子申込!K19&IF(LENB(男子申込!L19)=1,男子申込!L19&\"0\",男子申込!L19))/VLOOKUP(男子申込!I19,男子申込!#REF!,3,FALSE),VLOOKUP(男子申込!I19,男子申込!#REF!,4,FALSE)),VLOOKUP(男子申込!I19,男子申込!#REF!,4,FALSE)))","v":""},{"$f":"IF(男子申込!Q19=\"\",\"\",VLOOKUP(男子申込!Q19,男子申込!#REF!,2,FALSE)&\" \"&RIGHT(FIXED(VALUE(男子申込!R19&男子申込!S19&IF(LENB(男子申込!T19)=1,男子申込!T19&\"0\",男子申込!T19))/VLOOKUP(男子申込!Q19,男子申込!#REF!,3,FALSE),VLOOKUP(男子申込!Q19,男子申込!#REF!,4,FALSE)),VLOOKUP(男子申込!Q19,男子申込!#REF!,4,FALSE)))","v":""}]
[{"$f":"IF(男子申込!H20=\"\",\"\",\"s\"&COUNTIF(男子申込!$H$16:H20,\"○\"))","v":""},{"$f":"IF(男子申込!C20=\"\",\"\",128500000+男子申込!$B$7*100+男子申込!B20)","v":""},{"$f":"IF(男子申込!C20=\"\",\"\",IF(LENB(TRIM(男子申込!C20))+LENB(TRIM(男子申込!D20))>=12,TRIM(男子申込!C20)&TRIM(男子申込!D20),TRIM(男子申込!C20)&REPT(\" \",(5-((LENB(TRIM(男子申込!C20))+LENB(TRIM(男子申込!D20)))/2))*2)&TRIM(男子申込!D20))&IF(男子申込!G20=\"\",\"\",IF(LENB(TRIM(男子申込!G20))>=2,TRIM(男子申込!G20),\"(\"&TRIM(男子申込!G20)&\")\")))","v":""},{"$f":"IF(AND(男子申込!E20=\"\",男子申込!F20=\"\"),\"\",ASC(男子申込!E20)&\" \"&ASC(男子申込!F20))","v":""},{"$f":"IF(男子申込!C20=\"\",\"\",VALUE(LEFT(B20,1)))","v":""},{"$f":"IF(男子申込!C20=\"\",\"\",男子申込!$Z$7)","v":""},{"$f":"IF(C20=\"\",\"\",285000+男子申込!$B$7)","v":""},{"$f":"IF(C20=\"\",\"\",男子申込!$B$7)","v":""},{"$f":"IF(男子申込!I20=\"\",\"\",VLOOKUP(男子申込!I20,男子申込!#REF!,2,FALSE)&\" \"&RIGHT(FIXED(VALUE(男子申込!J20&男子申込!K20&IF(LENB(男子申込!L20)=1,男子申込!L20&\"0\",男子申込!L20))/VLOOKUP(男子申込!I20,男子申込!#REF!,3,FALSE),VLOOKUP(男子申込!I20,男子申込!#REF!,4,FALSE)),VLOOKUP(男子申込!I20,男子申込!#REF!,4,FALSE)))","v":""},{"$f":"IF(男子申込!Q20=\"\",\"\",VLOOKUP(男子申込!Q20,男子申込!#REF!,2,FALSE)&\" \"&RIGHT(FIXED(VALUE(男子申込!R20&男子申込!S20&IF(LENB(男子申込!T20)=1,男子申込!T20&\"0\",男子申込!T20))/VLOOKUP(男子申込!Q20,男子申込!#REF!,3,FALSE),VLOOKUP(男子申込!Q20,男子申込!#REF!,4,FALSE)),VLOOKUP(男子申込!Q20,男子申込!#REF!,4,FALSE)))","v":""}]
[{"$f":"IF(男子申込!H21=\"\",\"\",\"s\"&COUNTIF(男子申込!$H$16:H21,\"○\"))","v":""},{"$f":"IF(男子申込!C21=\"\",\"\",128500000+男子申込!$B$7*100+男子申込!B21)","v":""},{"$f":"IF(男子申込!C21=\"\",\"\",IF(LENB(TRIM(男子申込!C21))+LENB(TRIM(男子申込!D21))>=12,TRIM(男子申込!C21)&TRIM(男子申込!D21),TRIM(男子申込!C21)&REPT(\" \",(5-((LENB(TRIM(男子申込!C21))+LENB(TRIM(男子申込!D21)))/2))*2)&TRIM(男子申込!D21))&IF(男子申込!G21=\"\",\"\",IF(LENB(TRIM(男子申込!G21))>=2,TRIM(男子申込!G21),\"(\"&TRIM(男子申込!G21)&\")\")))","v":""},{"$f":"IF(AND(男子申込!E21=\"\",男子申込!F21=\"\"),\"\",ASC(男子申込!E21)&\" \"&ASC(男子申込!F21))","v":""},{"$f":"IF(男子申込!C21=\"\",\"\",VALUE(LEFT(B21,1)))","v":""},{"$f":"IF(男子申込!C21=\"\",\"\",男子申込!$Z$7)","v":""},{"$f":"IF(C21=\"\",\"\",285000+男子申込!$B$7)","v":""},{"$f":"IF(C21=\"\",\"\",男子申込!$B$7)","v":""},{"$f":"IF(男子申込!I21=\"\",\"\",VLOOKUP(男子申込!I21,男子申込!#REF!,2,FALSE)&\" \"&RIGHT(FIXED(VALUE(男子申込!J21&男子申込!K21&IF(LENB(男子申込!L21)=1,男子申込!L21&\"0\",男子申込!L21))/VLOOKUP(男子申込!I21,男子申込!#REF!,3,FALSE),VLOOKUP(男子申込!I21,男子申込!#REF!,4,FALSE)),VLOOKUP(男子申込!I21,男子申込!#REF!,4,FALSE)))","v":""},{"$f":"IF(男子申込!Q21=\"\",\"\",VLOOKUP(男子申込!Q21,男子申込!#REF!,2,FALSE)&\" \"&RIGHT(FIXED(VALUE(男子申込!R21&男子申込!S21&IF(LENB(男子申込!T21)=1,男子申込!T21&\"0\",男子申込!T21))/VLOOKUP(男子申込!Q21,男子申込!#REF!,3,FALSE),VLOOKUP(男子申込!Q21,男子申込!#REF!,4,FALSE)),VLOOKUP(男子申込!Q21,男子申込!#REF!,4,FALSE)))","v":""}]
[{"$f":"IF(男子申込!H22=\"\",\"\",\"s\"&COUNTIF(男子申込!$H$16:H22,\"○\"))","v":""},{"$f":"IF(男子申込!C22=\"\",\"\",128500000+男子申込!$B$7*100+男子申込!B22)","v":""},{"$f":"IF(男子申込!C22=\"\",\"\",IF(LENB(TRIM(男子申込!C22))+LENB(TRIM(男子申込!D22))>=12,TRIM(男子申込!C22)&TRIM(男子申込!D22),TRIM(男子申込!C22)&REPT(\" \",(5-((LENB(TRIM(男子申込!C22))+LENB(TRIM(男子申込!D22)))/2))*2)&TRIM(男子申込!D22))&IF(男子申込!G22=\"\",\"\",IF(LENB(TRIM(男子申込!G22))>=2,TRIM(男子申込!G22),\"(\"&TRIM(男子申込!G22)&\")\")))","v":""},{"$f":"IF(AND(男子申込!E22=\"\",男子申込!F22=\"\"),\"\",ASC(男子申込!E22)&\" \"&ASC(男子申込!F22))","v":""},{"$f":"IF(男子申込!C22=\"\",\"\",VALUE(LEFT(B22,1)))","v":""},{"$f":"IF(男子申込!C22=\"\",\"\",男子申込!$Z$7)","v":""},{"$f":"IF(C22=\"\",\"\",285000+男子申込!$B$7)","v":""},{"$f":"IF(C22=\"\",\"\",男子申込!$B$7)","v":""},{"$f":"IF(男子申込!I22=\"\",\"\",VLOOKUP(男子申込!I22,男子申込!#REF!,2,FALSE)&\" \"&RIGHT(FIXED(VALUE(男子申込!J22&男子申込!K22&IF(LENB(男子申込!L22)=1,男子申込!L22&\"0\",男子申込!L22))/VLOOKUP(男子申込!I22,男子申込!#REF!,3,FALSE),VLOOKUP(男子申込!I22,男子申込!#REF!,4,FALSE)),VLOOKUP(男子申込!I22,男子申込!#REF!,4,FALSE)))","v":""},{"$f":"IF(男子申込!Q22=\"\",\"\",VLOOKUP(男子申込!Q22,男子申込!#REF!,2,FALSE)&\" \"&RIGHT(FIXED(VALUE(男子申込!R22&男子申込!S22&IF(LENB(男子申込!T22)=1,男子申込!T22&\"0\",男子申込!T22))/VLOOKUP(男子申込!Q22,男子申込!#REF!,3,FALSE),VLOOKUP(男子申込!Q22,男子申込!#REF!,4,FALSE)),VLOOKUP(男子申込!Q22,男子申込!#REF!,4,FALSE)))","v":""}]
[{"$f":"IF(男子申込!H23=\"\",\"\",\"s\"&COUNTIF(男子申込!$H$16:H23,\"○\"))","v":""},{"$f":"IF(男子申込!C23=\"\",\"\",128500000+男子申込!$B$7*100+男子申込!B23)","v":""},{"$f":"IF(男子申込!C23=\"\",\"\",IF(LENB(TRIM(男子申込!C23))+LENB(TRIM(男子申込!D23))>=12,TRIM(男子申込!C23)&TRIM(男子申込!D23),TRIM(男子申込!C23)&REPT(\" \",(5-((LENB(TRIM(男子申込!C23))+LENB(TRIM(男子申込!D23)))/2))*2)&TRIM(男子申込!D23))&IF(男子申込!G23=\"\",\"\",IF(LENB(TRIM(男子申込!G23))>=2,TRIM(男子申込!G23),\"(\"&TRIM(男子申込!G23)&\")\")))","v":""},{"$f":"IF(AND(男子申込!E23=\"\",男子申込!F23=\"\"),\"\",ASC(男子申込!E23)&\" \"&ASC(男子申込!F23))","v":""},{"$f":"IF(男子申込!C23=\"\",\"\",VALUE(LEFT(B23,1)))","v":""},{"$f":"IF(男子申込!C23=\"\",\"\",男子申込!$Z$7)","v":""},{"$f":"IF(C23=\"\",\"\",285000+男子申込!$B$7)","v":""},{"$f":"IF(C23=\"\",\"\",男子申込!$B$7)","v":""},{"$f":"IF(男子申込!I23=\"\",\"\",VLOOKUP(男子申込!I23,男子申込!#REF!,2,FALSE)&\" \"&RIGHT(FIXED(VALUE(男子申込!J23&男子申込!K23&IF(LENB(男子申込!L23)=1,男子申込!L23&\"0\",男子申込!L23))/VLOOKUP(男子申込!I23,男子申込!#REF!,3,FALSE),VLOOKUP(男子申込!I23,男子申込!#REF!,4,FALSE)),VLOOKUP(男子申込!I23,男子申込!#REF!,4,FALSE)))","v":""},{"$f":"IF(男子申込!Q23=\"\",\"\",VLOOKUP(男子申込!Q23,男子申込!#REF!,2,FALSE)&\" \"&RIGHT(FIXED(VALUE(男子申込!R23&男子申込!S23&IF(LENB(男子申込!T23)=1,男子申込!T23&\"0\",男子申込!T23))/VLOOKUP(男子申込!Q23,男子申込!#REF!,3,FALSE),VLOOKUP(男子申込!Q23,男子申込!#REF!,4,FALSE)),VLOOKUP(男子申込!Q23,男子申込!#REF!,4,FALSE)))","v":""}]
[{"$f":"IF(男子申込!H24=\"\",\"\",\"s\"&COUNTIF(男子申込!$H$16:H24,\"○\"))","v":""},{"$f":"IF(男子申込!C24=\"\",\"\",128500000+男子申込!$B$7*100+男子申込!B24)","v":""},{"$f":"IF(男子申込!C24=\"\",\"\",IF(LENB(TRIM(男子申込!C24))+LENB(TRIM(男子申込!D24))>=12,TRIM(男子申込!C24)&TRIM(男子申込!D24),TRIM(男子申込!C24)&REPT(\" \",(5-((LENB(TRIM(男子申込!C24))+LENB(TRIM(男子申込!D24)))/2))*2)&TRIM(男子申込!D24))&IF(男子申込!G24=\"\",\"\",IF(LENB(TRIM(男子申込!G24))>=2,TRIM(男子申込!G24),\"(\"&TRIM(男子申込!G24)&\")\")))","v":""},{"$f":"IF(AND(男子申込!E24=\"\",男子申込!F24=\"\"),\"\",ASC(男子申込!E24)&\" \"&ASC(男子申込!F24))","v":""},{"$f":"IF(男子申込!C24=\"\",\"\",VALUE(LEFT(B24,1)))","v":""},{"$f":"IF(男子申込!C24=\"\",\"\",男子申込!$Z$7)","v":""},{"$f":"IF(C24=\"\",\"\",285000+男子申込!$B$7)","v":""},{"$f":"IF(C24=\"\",\"\",男子申込!$B$7)","v":""},{"$f":"IF(男子申込!I24=\"\",\"\",VLOOKUP(男子申込!I24,男子申込!#REF!,2,FALSE)&\" \"&RIGHT(FIXED(VALUE(男子申込!J24&男子申込!K24&IF(LENB(男子申込!L24)=1,男子申込!L24&\"0\",男子申込!L24))/VLOOKUP(男子申込!I24,男子申込!#REF!,3,FALSE),VLOOKUP(男子申込!I24,男子申込!#REF!,4,FALSE)),VLOOKUP(男子申込!I24,男子申込!#REF!,4,FALSE)))","v":""},{"$f":"IF(男子申込!Q24=\"\",\"\",VLOOKUP(男子申込!Q24,男子申込!#REF!,2,FALSE)&\" \"&RIGHT(FIXED(VALUE(男子申込!R24&男子申込!S24&IF(LENB(男子申込!T24)=1,男子申込!T24&\"0\",男子申込!T24))/VLOOKUP(男子申込!Q24,男子申込!#REF!,3,FALSE),VLOOKUP(男子申込!Q24,男子申込!#REF!,4,FALSE)),VLOOKUP(男子申込!Q24,男子申込!#REF!,4,FALSE)))","v":""}]
[{"$f":"IF(男子申込!H25=\"\",\"\",\"s\"&COUNTIF(男子申込!$H$16:H25,\"○\"))","v":""},{"$f":"IF(男子申込!C25=\"\",\"\",128500000+男子申込!$B$7*100+男子申込!B25)","v":""},{"$f":"IF(男子申込!C25=\"\",\"\",IF(LENB(TRIM(男子申込!C25))+LENB(TRIM(男子申込!D25))>=12,TRIM(男子申込!C25)&TRIM(男子申込!D25),TRIM(男子申込!C25)&REPT(\" \",(5-((LENB(TRIM(男子申込!C25))+LENB(TRIM(男子申込!D25)))/2))*2)&TRIM(男子申込!D25))&IF(男子申込!G25=\"\",\"\",IF(LENB(TRIM(男子申込!G25))>=2,TRIM(男子申込!G25),\"(\"&TRIM(男子申込!G25)&\")\")))","v":""},{"$f":"IF(AND(男子申込!E25=\"\",男子申込!F25=\"\"),\"\",ASC(男子申込!E25)&\" \"&ASC(男子申込!F25))","v":""},{"$f":"IF(男子申込!C25=\"\",\"\",VALUE(LEFT(B25,1)))","v":""},{"$f":"IF(男子申込!C25=\"\",\"\",男子申込!$Z$7)","v":""},{"$f":"IF(C25=\"\",\"\",285000+男子申込!$B$7)","v":""},{"$f":"IF(C25=\"\",\"\",男子申込!$B$7)","v":""},{"$f":"IF(男子申込!I25=\"\",\"\",VLOOKUP(男子申込!I25,男子申込!#REF!,2,FALSE)&\" \"&RIGHT(FIXED(VALUE(男子申込!J25&男子申込!K25&IF(LENB(男子申込!L25)=1,男子申込!L25&\"0\",男子申込!L25))/VLOOKUP(男子申込!I25,男子申込!#REF!,3,FALSE),VLOOKUP(男子申込!I25,男子申込!#REF!,4,FALSE)),VLOOKUP(男子申込!I25,男子申込!#REF!,4,FALSE)))","v":""},{"$f":"IF(男子申込!Q25=\"\",\"\",VLOOKUP(男子申込!Q25,男子申込!#REF!,2,FALSE)&\" \"&RIGHT(FIXED(VALUE(男子申込!R25&男子申込!S25&IF(LENB(男子申込!T25)=1,男子申込!T25&\"0\",男子申込!T25))/VLOOKUP(男子申込!Q25,男子申込!#REF!,3,FALSE),VLOOKUP(男子申込!Q25,男子申込!#REF!,4,FALSE)),VLOOKUP(男子申込!Q25,男子申込!#REF!,4,FALSE)))","v":""}]
[{"$f":"IF(男子申込!H26=\"\",\"\",\"s\"&COUNTIF(男子申込!$H$16:H26,\"○\"))","v":""},{"$f":"IF(男子申込!C26=\"\",\"\",128500000+男子申込!$B$7*100+男子申込!B26)","v":""},{"$f":"IF(男子申込!C26=\"\",\"\",IF(LENB(TRIM(男子申込!C26))+LENB(TRIM(男子申込!D26))>=12,TRIM(男子申込!C26)&TRIM(男子申込!D26),TRIM(男子申込!C26)&REPT(\" \",(5-((LENB(TRIM(男子申込!C26))+LENB(TRIM(男子申込!D26)))/2))*2)&TRIM(男子申込!D26))&IF(男子申込!G26=\"\",\"\",IF(LENB(TRIM(男子申込!G26))>=2,TRIM(男子申込!G26),\"(\"&TRIM(男子申込!G26)&\")\")))","v":""},{"$f":"IF(AND(男子申込!E26=\"\",男子申込!F26=\"\"),\"\",ASC(男子申込!E26)&\" \"&ASC(男子申込!F26))","v":""},{"$f":"IF(男子申込!C26=\"\",\"\",VALUE(LEFT(B26,1)))","v":""},{"$f":"IF(男子申込!C26=\"\",\"\",男子申込!$Z$7)","v":""},{"$f":"IF(C26=\"\",\"\",285000+男子申込!$B$7)","v":""},{"$f":"IF(C26=\"\",\"\",男子申込!$B$7)","v":""},{"$f":"IF(男子申込!I26=\"\",\"\",VLOOKUP(男子申込!I26,男子申込!#REF!,2,FALSE)&\" \"&RIGHT(FIXED(VALUE(男子申込!J26&男子申込!K26&IF(LENB(男子申込!L26)=1,男子申込!L26&\"0\",男子申込!L26))/VLOOKUP(男子申込!I26,男子申込!#REF!,3,FALSE),VLOOKUP(男子申込!I26,男子申込!#REF!,4,FALSE)),VLOOKUP(男子申込!I26,男子申込!#REF!,4,FALSE)))","v":""},{"$f":"IF(男子申込!Q26=\"\",\"\",VLOOKUP(男子申込!Q26,男子申込!#REF!,2,FALSE)&\" \"&RIGHT(FIXED(VALUE(男子申込!R26&男子申込!S26&IF(LENB(男子申込!T26)=1,男子申込!T26&\"0\",男子申込!T26))/VLOOKUP(男子申込!Q26,男子申込!#REF!,3,FALSE),VLOOKUP(男子申込!Q26,男子申込!#REF!,4,FALSE)),VLOOKUP(男子申込!Q26,男子申込!#REF!,4,FALSE)))","v":""}]
[{"$f":"IF(男子申込!H27=\"\",\"\",\"s\"&COUNTIF(男子申込!$H$16:H27,\"○\"))","v":""},{"$f":"IF(男子申込!C27=\"\",\"\",128500000+男子申込!$B$7*100+男子申込!B27)","v":""},{"$f":"IF(男子申込!C27=\"\",\"\",IF(LENB(TRIM(男子申込!C27))+LENB(TRIM(男子申込!D27))>=12,TRIM(男子申込!C27)&TRIM(男子申込!D27),TRIM(男子申込!C27)&REPT(\" \",(5-((LENB(TRIM(男子申込!C27))+LENB(TRIM(男子申込!D27)))/2))*2)&TRIM(男子申込!D27))&IF(男子申込!G27=\"\",\"\",IF(LENB(TRIM(男子申込!G27))>=2,TRIM(男子申込!G27),\"(\"&TRIM(男子申込!G27)&\")\")))","v":""},{"$f":"IF(AND(男子申込!E27=\"\",男子申込!F27=\"\"),\"\",ASC(男子申込!E27)&\" \"&ASC(男子申込!F27))","v":""},{"$f":"IF(男子申込!C27=\"\",\"\",VALUE(LEFT(B27,1)))","v":""},{"$f":"IF(男子申込!C27=\"\",\"\",男子申込!$Z$7)","v":""},{"$f":"IF(C27=\"\",\"\",285000+男子申込!$B$7)","v":""},{"$f":"IF(C27=\"\",\"\",男子申込!$B$7)","v":""},{"$f":"IF(男子申込!I27=\"\",\"\",VLOOKUP(男子申込!I27,男子申込!#REF!,2,FALSE)&\" \"&RIGHT(FIXED(VALUE(男子申込!J27&男子申込!K27&IF(LENB(男子申込!L27)=1,男子申込!L27&\"0\",男子申込!L27))/VLOOKUP(男子申込!I27,男子申込!#REF!,3,FALSE),VLOOKUP(男子申込!I27,男子申込!#REF!,4,FALSE)),VLOOKUP(男子申込!I27,男子申込!#REF!,4,FALSE)))","v":""},{"$f":"IF(男子申込!Q27=\"\",\"\",VLOOKUP(男子申込!Q27,男子申込!#REF!,2,FALSE)&\" \"&RIGHT(FIXED(VALUE(男子申込!R27&男子申込!S27&IF(LENB(男子申込!T27)=1,男子申込!T27&\"0\",男子申込!T27))/VLOOKUP(男子申込!Q27,男子申込!#REF!,3,FALSE),VLOOKUP(男子申込!Q27,男子申込!#REF!,4,FALSE)),VLOOKUP(男子申込!Q27,男子申込!#REF!,4,FALSE)))","v":""}]
[{"$f":"IF(男子申込!H28=\"\",\"\",\"s\"&COUNTIF(男子申込!$H$16:H28,\"○\"))","v":""},{"$f":"IF(男子申込!C28=\"\",\"\",128500000+男子申込!$B$7*100+男子申込!B28)","v":""},{"$f":"IF(男子申込!C28=\"\",\"\",IF(LENB(TRIM(男子申込!C28))+LENB(TRIM(男子申込!D28))>=12,TRIM(男子申込!C28)&TRIM(男子申込!D28),TRIM(男子申込!C28)&REPT(\" \",(5-((LENB(TRIM(男子申込!C28))+LENB(TRIM(男子申込!D28)))/2))*2)&TRIM(男子申込!D28))&IF(男子申込!G28=\"\",\"\",IF(LENB(TRIM(男子申込!G28))>=2,TRIM(男子申込!G28),\"(\"&TRIM(男子申込!G28)&\")\")))","v":""},{"$f":"IF(AND(男子申込!E28=\"\",男子申込!F28=\"\"),\"\",ASC(男子申込!E28)&\" \"&ASC(男子申込!F28))","v":""},{"$f":"IF(男子申込!C28=\"\",\"\",VALUE(LEFT(B28,1)))","v":""},{"$f":"IF(男子申込!C28=\"\",\"\",男子申込!$Z$7)","v":""},{"$f":"IF(C28=\"\",\"\",285000+男子申込!$B$7)","v":""},{"$f":"IF(C28=\"\",\"\",男子申込!$B$7)","v":""},{"$f":"IF(男子申込!I28=\"\",\"\",VLOOKUP(男子申込!I28,男子申込!#REF!,2,FALSE)&\" \"&RIGHT(FIXED(VALUE(男子申込!J28&男子申込!K28&IF(LENB(男子申込!L28)=1,男子申込!L28&\"0\",男子申込!L28))/VLOOKUP(男子申込!I28,男子申込!#REF!,3,FALSE),VLOOKUP(男子申込!I28,男子申込!#REF!,4,FALSE)),VLOOKUP(男子申込!I28,男子申込!#REF!,4,FALSE)))","v":""},{"$f":"IF(男子申込!Q28=\"\",\"\",VLOOKUP(男子申込!Q28,男子申込!#REF!,2,FALSE)&\" \"&RIGHT(FIXED(VALUE(男子申込!R28&男子申込!S28&IF(LENB(男子申込!T28)=1,男子申込!T28&\"0\",男子申込!T28))/VLOOKUP(男子申込!Q28,男子申込!#REF!,3,FALSE),VLOOKUP(男子申込!Q28,男子申込!#REF!,4,FALSE)),VLOOKUP(男子申込!Q28,男子申込!#REF!,4,FALSE)))","v":""}]
[{"$f":"IF(男子申込!H29=\"\",\"\",\"s\"&COUNTIF(男子申込!$H$16:H29,\"○\"))","v":""},{"$f":"IF(男子申込!C29=\"\",\"\",128500000+男子申込!$B$7*100+男子申込!B29)","v":""},{"$f":"IF(男子申込!C29=\"\",\"\",IF(LENB(TRIM(男子申込!C29))+LENB(TRIM(男子申込!D29))>=12,TRIM(男子申込!C29)&TRIM(男子申込!D29),TRIM(男子申込!C29)&REPT(\" \",(5-((LENB(TRIM(男子申込!C29))+LENB(TRIM(男子申込!D29)))/2))*2)&TRIM(男子申込!D29))&IF(男子申込!G29=\"\",\"\",IF(LENB(TRIM(男子申込!G29))>=2,TRIM(男子申込!G29),\"(\"&TRIM(男子申込!G29)&\")\")))","v":""},{"$f":"IF(AND(男子申込!E29=\"\",男子申込!F29=\"\"),\"\",ASC(男子申込!E29)&\" \"&ASC(男子申込!F29))","v":""},{"$f":"IF(男子申込!C29=\"\",\"\",VALUE(LEFT(B29,1)))","v":""},{"$f":"IF(男子申込!C29=\"\",\"\",男子申込!$Z$7)","v":""},{"$f":"IF(C29=\"\",\"\",285000+男子申込!$B$7)","v":""},{"$f":"IF(C29=\"\",\"\",男子申込!$B$7)","v":""},{"$f":"IF(男子申込!I29=\"\",\"\",VLOOKUP(男子申込!I29,男子申込!#REF!,2,FALSE)&\" \"&RIGHT(FIXED(VALUE(男子申込!J29&男子申込!K29&IF(LENB(男子申込!L29)=1,男子申込!L29&\"0\",男子申込!L29))/VLOOKUP(男子申込!I29,男子申込!#REF!,3,FALSE),VLOOKUP(男子申込!I29,男子申込!#REF!,4,FALSE)),VLOOKUP(男子申込!I29,男子申込!#REF!,4,FALSE)))","v":""},{"$f":"IF(男子申込!Q29=\"\",\"\",VLOOKUP(男子申込!Q29,男子申込!#REF!,2,FALSE)&\" \"&RIGHT(FIXED(VALUE(男子申込!R29&男子申込!S29&IF(LENB(男子申込!T29)=1,男子申込!T29&\"0\",男子申込!T29))/VLOOKUP(男子申込!Q29,男子申込!#REF!,3,FALSE),VLOOKUP(男子申込!Q29,男子申込!#REF!,4,FALSE)),VLOOKUP(男子申込!Q29,男子申込!#REF!,4,FALSE)))","v":""}]
[{"$f":"IF(男子申込!H30=\"\",\"\",\"s\"&COUNTIF(男子申込!$H$16:H30,\"○\"))","v":""},{"$f":"IF(男子申込!C30=\"\",\"\",128500000+男子申込!$B$7*100+男子申込!B30)","v":""},{"$f":"IF(男子申込!C30=\"\",\"\",IF(LENB(TRIM(男子申込!C30))+LENB(TRIM(男子申込!D30))>=12,TRIM(男子申込!C30)&TRIM(男子申込!D30),TRIM(男子申込!C30)&REPT(\" \",(5-((LENB(TRIM(男子申込!C30))+LENB(TRIM(男子申込!D30)))/2))*2)&TRIM(男子申込!D30))&IF(男子申込!G30=\"\",\"\",IF(LENB(TRIM(男子申込!G30))>=2,TRIM(男子申込!G30),\"(\"&TRIM(男子申込!G30)&\")\")))","v":""},{"$f":"IF(AND(男子申込!E30=\"\",男子申込!F30=\"\"),\"\",ASC(男子申込!E30)&\" \"&ASC(男子申込!F30))","v":""},{"$f":"IF(男子申込!C30=\"\",\"\",VALUE(LEFT(B30,1)))","v":""},{"$f":"IF(男子申込!C30=\"\",\"\",男子申込!$Z$7)","v":""},{"$f":"IF(C30=\"\",\"\",285000+男子申込!$B$7)","v":""},{"$f":"IF(C30=\"\",\"\",男子申込!$B$7)","v":""},{"$f":"IF(男子申込!I30=\"\",\"\",VLOOKUP(男子申込!I30,男子申込!#REF!,2,FALSE)&\" \"&RIGHT(FIXED(VALUE(男子申込!J30&男子申込!K30&IF(LENB(男子申込!L30)=1,男子申込!L30&\"0\",男子申込!L30))/VLOOKUP(男子申込!I30,男子申込!#REF!,3,FALSE),VLOOKUP(男子申込!I30,男子申込!#REF!,4,FALSE)),VLOOKUP(男子申込!I30,男子申込!#REF!,4,FALSE)))","v":""},{"$f":"IF(男子申込!Q30=\"\",\"\",VLOOKUP(男子申込!Q30,男子申込!#REF!,2,FALSE)&\" \"&RIGHT(FIXED(VALUE(男子申込!R30&男子申込!S30&IF(LENB(男子申込!T30)=1,男子申込!T30&\"0\",男子申込!T30))/VLOOKUP(男子申込!Q30,男子申込!#REF!,3,FALSE),VLOOKUP(男子申込!Q30,男子申込!#REF!,4,FALSE)),VLOOKUP(男子申込!Q30,男子申込!#REF!,4,FALSE)))","v":""}]
[{"$f":"IF(男子申込!H31=\"\",\"\",\"s\"&COUNTIF(男子申込!$H$16:H31,\"○\"))","v":""},{"$f":"IF(男子申込!C31=\"\",\"\",128500000+男子申込!$B$7*100+男子申込!B31)","v":""},{"$f":"IF(男子申込!C31=\"\",\"\",IF(LENB(TRIM(男子申込!C31))+LENB(TRIM(男子申込!D31))>=12,TRIM(男子申込!C31)&TRIM(男子申込!D31),TRIM(男子申込!C31)&REPT(\" \",(5-((LENB(TRIM(男子申込!C31))+LENB(TRIM(男子申込!D31)))/2))*2)&TRIM(男子申込!D31))&IF(男子申込!G31=\"\",\"\",IF(LENB(TRIM(男子申込!G31))>=2,TRIM(男子申込!G31),\"(\"&TRIM(男子申込!G31)&\")\")))","v":""},{"$f":"IF(AND(男子申込!E31=\"\",男子申込!F31=\"\"),\"\",ASC(男子申込!E31)&\" \"&ASC(男子申込!F31))","v":""},{"$f":"IF(男子申込!C31=\"\",\"\",VALUE(LEFT(B31,1)))","v":""},{"$f":"IF(男子申込!C31=\"\",\"\",男子申込!$Z$7)","v":""},{"$f":"IF(C31=\"\",\"\",285000+男子申込!$B$7)","v":""},{"$f":"IF(C31=\"\",\"\",男子申込!$B$7)","v":""},{"$f":"IF(男子申込!I31=\"\",\"\",VLOOKUP(男子申込!I31,男子申込!#REF!,2,FALSE)&\" \"&RIGHT(FIXED(VALUE(男子申込!J31&男子申込!K31&IF(LENB(男子申込!L31)=1,男子申込!L31&\"0\",男子申込!L31))/VLOOKUP(男子申込!I31,男子申込!#REF!,3,FALSE),VLOOKUP(男子申込!I31,男子申込!#REF!,4,FALSE)),VLOOKUP(男子申込!I31,男子申込!#REF!,4,FALSE)))","v":""},{"$f":"IF(男子申込!Q31=\"\",\"\",VLOOKUP(男子申込!Q31,男子申込!#REF!,2,FALSE)&\" \"&RIGHT(FIXED(VALUE(男子申込!R31&男子申込!S31&IF(LENB(男子申込!T31)=1,男子申込!T31&\"0\",男子申込!T31))/VLOOKUP(男子申込!Q31,男子申込!#REF!,3,FALSE),VLOOKUP(男子申込!Q31,男子申込!#REF!,4,FALSE)),VLOOKUP(男子申込!Q31,男子申込!#REF!,4,FALSE)))","v":""}]
[{"$f":"IF(男子申込!H32=\"\",\"\",\"s\"&COUNTIF(男子申込!$H$16:H32,\"○\"))","v":""},{"$f":"IF(男子申込!C32=\"\",\"\",128500000+男子申込!$B$7*100+男子申込!B32)","v":""},{"$f":"IF(男子申込!C32=\"\",\"\",IF(LENB(TRIM(男子申込!C32))+LENB(TRIM(男子申込!D32))>=12,TRIM(男子申込!C32)&TRIM(男子申込!D32),TRIM(男子申込!C32)&REPT(\" \",(5-((LENB(TRIM(男子申込!C32))+LENB(TRIM(男子申込!D32)))/2))*2)&TRIM(男子申込!D32))&IF(男子申込!G32=\"\",\"\",IF(LENB(TRIM(男子申込!G32))>=2,TRIM(男子申込!G32),\"(\"&TRIM(男子申込!G32)&\")\")))","v":""},{"$f":"IF(AND(男子申込!E32=\"\",男子申込!F32=\"\"),\"\",ASC(男子申込!E32)&\" \"&ASC(男子申込!F32))","v":""},{"$f":"IF(男子申込!C32=\"\",\"\",VALUE(LEFT(B32,1)))","v":""},{"$f":"IF(男子申込!C32=\"\",\"\",男子申込!$Z$7)","v":""},{"$f":"IF(C32=\"\",\"\",285000+男子申込!$B$7)","v":""},{"$f":"IF(C32=\"\",\"\",男子申込!$B$7)","v":""},{"$f":"IF(男子申込!I32=\"\",\"\",VLOOKUP(男子申込!I32,男子申込!#REF!,2,FALSE)&\" \"&RIGHT(FIXED(VALUE(男子申込!J32&男子申込!K32&IF(LENB(男子申込!L32)=1,男子申込!L32&\"0\",男子申込!L32))/VLOOKUP(男子申込!I32,男子申込!#REF!,3,FALSE),VLOOKUP(男子申込!I32,男子申込!#REF!,4,FALSE)),VLOOKUP(男子申込!I32,男子申込!#REF!,4,FALSE)))","v":""},{"$f":"IF(男子申込!Q32=\"\",\"\",VLOOKUP(男子申込!Q32,男子申込!#REF!,2,FALSE)&\" \"&RIGHT(FIXED(VALUE(男子申込!R32&男子申込!S32&IF(LENB(男子申込!T32)=1,男子申込!T32&\"0\",男子申込!T32))/VLOOKUP(男子申込!Q32,男子申込!#REF!,3,FALSE),VLOOKUP(男子申込!Q32,男子申込!#REF!,4,FALSE)),VLOOKUP(男子申込!Q32,男子申込!#REF!,4,FALSE)))","v":""}]
[{"$f":"IF(男子申込!H33=\"\",\"\",\"s\"&COUNTIF(男子申込!$H$16:H33,\"○\"))","v":""},{"$f":"IF(男子申込!C33=\"\",\"\",128500000+男子申込!$B$7*100+男子申込!B33)","v":""},{"$f":"IF(男子申込!C33=\"\",\"\",IF(LENB(TRIM(男子申込!C33))+LENB(TRIM(男子申込!D33))>=12,TRIM(男子申込!C33)&TRIM(男子申込!D33),TRIM(男子申込!C33)&REPT(\" \",(5-((LENB(TRIM(男子申込!C33))+LENB(TRIM(男子申込!D33)))/2))*2)&TRIM(男子申込!D33))&IF(男子申込!G33=\"\",\"\",IF(LENB(TRIM(男子申込!G33))>=2,TRIM(男子申込!G33),\"(\"&TRIM(男子申込!G33)&\")\")))","v":""},{"$f":"IF(AND(男子申込!E33=\"\",男子申込!F33=\"\"),\"\",ASC(男子申込!E33)&\" \"&ASC(男子申込!F33))","v":""},{"$f":"IF(男子申込!C33=\"\",\"\",VALUE(LEFT(B33,1)))","v":""},{"$f":"IF(男子申込!C33=\"\",\"\",男子申込!$Z$7)","v":""},{"$f":"IF(C33=\"\",\"\",285000+男子申込!$B$7)","v":""},{"$f":"IF(C33=\"\",\"\",男子申込!$B$7)","v":""},{"$f":"IF(男子申込!I33=\"\",\"\",VLOOKUP(男子申込!I33,男子申込!#REF!,2,FALSE)&\" \"&RIGHT(FIXED(VALUE(男子申込!J33&男子申込!K33&IF(LENB(男子申込!L33)=1,男子申込!L33&\"0\",男子申込!L33))/VLOOKUP(男子申込!I33,男子申込!#REF!,3,FALSE),VLOOKUP(男子申込!I33,男子申込!#REF!,4,FALSE)),VLOOKUP(男子申込!I33,男子申込!#REF!,4,FALSE)))","v":""},{"$f":"IF(男子申込!Q33=\"\",\"\",VLOOKUP(男子申込!Q33,男子申込!#REF!,2,FALSE)&\" \"&RIGHT(FIXED(VALUE(男子申込!R33&男子申込!S33&IF(LENB(男子申込!T33)=1,男子申込!T33&\"0\",男子申込!T33))/VLOOKUP(男子申込!Q33,男子申込!#REF!,3,FALSE),VLOOKUP(男子申込!Q33,男子申込!#REF!,4,FALSE)),VLOOKUP(男子申込!Q33,男子申込!#REF!,4,FALSE)))","v":""}]
[{"$f":"IF(男子申込!H34=\"\",\"\",\"s\"&COUNTIF(男子申込!$H$16:H34,\"○\"))","v":""},{"$f":"IF(男子申込!C34=\"\",\"\",128500000+男子申込!$B$7*100+男子申込!B34)","v":""},{"$f":"IF(男子申込!C34=\"\",\"\",IF(LENB(TRIM(男子申込!C34))+LENB(TRIM(男子申込!D34))>=12,TRIM(男子申込!C34)&TRIM(男子申込!D34),TRIM(男子申込!C34)&REPT(\" \",(5-((LENB(TRIM(男子申込!C34))+LENB(TRIM(男子申込!D34)))/2))*2)&TRIM(男子申込!D34))&IF(男子申込!G34=\"\",\"\",IF(LENB(TRIM(男子申込!G34))>=2,TRIM(男子申込!G34),\"(\"&TRIM(男子申込!G34)&\")\")))","v":""},{"$f":"IF(AND(男子申込!E34=\"\",男子申込!F34=\"\"),\"\",ASC(男子申込!E34)&\" \"&ASC(男子申込!F34))","v":""},{"$f":"IF(男子申込!C34=\"\",\"\",VALUE(LEFT(B34,1)))","v":""},{"$f":"IF(男子申込!C34=\"\",\"\",男子申込!$Z$7)","v":""},{"$f":"IF(C34=\"\",\"\",285000+男子申込!$B$7)","v":""},{"$f":"IF(C34=\"\",\"\",男子申込!$B$7)","v":""},{"$f":"IF(男子申込!I34=\"\",\"\",VLOOKUP(男子申込!I34,男子申込!#REF!,2,FALSE)&\" \"&RIGHT(FIXED(VALUE(男子申込!J34&男子申込!K34&IF(LENB(男子申込!L34)=1,男子申込!L34&\"0\",男子申込!L34))/VLOOKUP(男子申込!I34,男子申込!#REF!,3,FALSE),VLOOKUP(男子申込!I34,男子申込!#REF!,4,FALSE)),VLOOKUP(男子申込!I34,男子申込!#REF!,4,FALSE)))","v":""},{"$f":"IF(男子申込!Q34=\"\",\"\",VLOOKUP(男子申込!Q34,男子申込!#REF!,2,FALSE)&\" \"&RIGHT(FIXED(VALUE(男子申込!R34&男子申込!S34&IF(LENB(男子申込!T34)=1,男子申込!T34&\"0\",男子申込!T34))/VLOOKUP(男子申込!Q34,男子申込!#REF!,3,FALSE),VLOOKUP(男子申込!Q34,男子申込!#REF!,4,FALSE)),VLOOKUP(男子申込!Q34,男子申込!#REF!,4,FALSE)))","v":""}]
[{"$f":"IF(男子申込!H35=\"\",\"\",\"s\"&COUNTIF(男子申込!$H$16:H35,\"○\"))","v":""},{"$f":"IF(男子申込!C35=\"\",\"\",128500000+男子申込!$B$7*100+男子申込!B35)","v":""},{"$f":"IF(男子申込!C35=\"\",\"\",IF(LENB(TRIM(男子申込!C35))+LENB(TRIM(男子申込!D35))>=12,TRIM(男子申込!C35)&TRIM(男子申込!D35),TRIM(男子申込!C35)&REPT(\" \",(5-((LENB(TRIM(男子申込!C35))+LENB(TRIM(男子申込!D35)))/2))*2)&TRIM(男子申込!D35))&IF(男子申込!G35=\"\",\"\",IF(LENB(TRIM(男子申込!G35))>=2,TRIM(男子申込!G35),\"(\"&TRIM(男子申込!G35)&\")\")))","v":""},{"$f":"IF(AND(男子申込!E35=\"\",男子申込!F35=\"\"),\"\",ASC(男子申込!E35)&\" \"&ASC(男子申込!F35))","v":""},{"$f":"IF(男子申込!C35=\"\",\"\",VALUE(LEFT(B35,1)))","v":""},{"$f":"IF(男子申込!C35=\"\",\"\",男子申込!$Z$7)","v":""},{"$f":"IF(C35=\"\",\"\",285000+男子申込!$B$7)","v":""},{"$f":"IF(C35=\"\",\"\",男子申込!$B$7)","v":""},{"$f":"IF(男子申込!I35=\"\",\"\",VLOOKUP(男子申込!I35,男子申込!#REF!,2,FALSE)&\" \"&RIGHT(FIXED(VALUE(男子申込!J35&男子申込!K35&IF(LENB(男子申込!L35)=1,男子申込!L35&\"0\",男子申込!L35))/VLOOKUP(男子申込!I35,男子申込!#REF!,3,FALSE),VLOOKUP(男子申込!I35,男子申込!#REF!,4,FALSE)),VLOOKUP(男子申込!I35,男子申込!#REF!,4,FALSE)))","v":""},{"$f":"IF(男子申込!Q35=\"\",\"\",VLOOKUP(男子申込!Q35,男子申込!#REF!,2,FALSE)&\" \"&RIGHT(FIXED(VALUE(男子申込!R35&男子申込!S35&IF(LENB(男子申込!T35)=1,男子申込!T35&\"0\",男子申込!T35))/VLOOKUP(男子申込!Q35,男子申込!#REF!,3,FALSE),VLOOKUP(男子申込!Q35,男子申込!#REF!,4,FALSE)),VLOOKUP(男子申込!Q35,男子申込!#REF!,4,FALSE)))","v":""}]
[null,"DB","N1","N2","TM","S1","S2","S3","S4","S5","S6"]
["共通",{"$f":"IF(COUNTIF(男子申込!H16:H35,\"○\")>=4,285000+男子申込!$B$7,\"\")","v":""},{"$f":"IF(B37=\"\",\"\",男子申込!F7)","v":""},{"$f":"IF(B37=\"\",\"\",男子申込!I7)","v":""},{"$f":"IF(B37=\"\",\"\",男子申込!G14)","v":""},{"$f":"IF(ISERROR(VLOOKUP(F36,$A$16:$B$35,2,FALSE))=TRUE,\"\",VLOOKUP(F36,$A$16:$B$35,2,FALSE))","v":""},"","","","",""]

{"sheet":"女子データ","index":6,"n_rows":37,"n_cols":11,"rows_kept":37,"cut":false,"hidden":true,"merged":[]}
[]
[]
[]
[]
[]
[]
[]
[]
[]
[]
[]
[]
[]
[null,"MAT_Track&Field_System_MasterCSV_縦形式"]
[null,"DB","N1","N2","SX","KC","MC","ZK","S1","S2"]
[{"$f":"IF(女子申込!H16=\"\",\"\",\"s\"&COUNTIF(女子申込!H16,\"○\"))","v":""},{"$f":"IF(女子申込!C16=\"\",\"\",228500000+女子申込!$B$7*100+女子申込!B16)","v":""},{"$f":"IF(女子申込!C16=\"\",\"\",IF(LENB(TRIM(女子申込!C16))+LENB(TRIM(女子申込!D16))>=12,TRIM(女子申込!C16)&TRIM(女子申込!D16),TRIM(女子申込!C16)&REPT(\" \",(5-((LENB(TRIM(女子申込!C16))+LENB(TRIM(女子申込!D16)))/2))*2)&TRIM(女子申込!D16))&IF(女子申込!G16=\"\",\"\",IF(LENB(TRIM(女子申込!G16))>=2,TRIM(女子申込!G16),\"(\"&TRIM(女子申込!G16)&\")\")))","v":""},{"$f":"IF(AND(女子申込!E16=\"\",女子申込!F16=\"\"),\"\",ASC(女子申込!E16)&\" \"&ASC(女子申込!F16))","v":""},{"$f":"IF(女子申込!C16=\"\",\"\",VALUE(LEFT(B16,1)))","v":""},{"$f":"IF(女子申込!C16=\"\",\"\",女子申込!$Z$7)","v":""},{"$f":"IF(C16=\"\",\"\",285000+女子申込!$B$7)","v":""},{"$f":"IF(C16=\"\",\"\",女子申込!$B$7)","v":""},{"$f":"IF(女子申込!I16=\"\",\"\",VLOOKUP(女子申込!I16,女子申込!$C$39:$E$43,2,FALSE)&\" \"&RIGHT(FIXED(VALUE(女子申込!J16&女子申込!K16&IF(LENB(女子申込!L16)=1,女子申込!L16&\"0\",女子申込!L16))/VLOOKUP(女子申込!I16,女子申込!$C$39:$E$43,3,FALSE),VLOOKUP(女子申込!I16,女子申込!$C$39:$F$43,4,FALSE)),VLOOKUP(女子申込!I16,女子申込!$C$39:$F$43,4,FALSE)))","v":""},{"$f":"IF(女子申込!Q16=\"\",\"\",VLOOKUP(女子申込!Q16,女子申込!$C$39:$E$43,2,FALSE)&\" \"&RIGHT(FIXED(VALUE(女子申込!R16&女子申込!S16&IF(LENB(女子申込!T16)=1,女子申込!T16&\"0\",女子申込!T16))/VLOOKUP(女子申込!Q16,女子申込!$C$39:$E$43,3,FALSE),VLOOKUP(女子申込!Q16,女子申込!$C$39:$F$43,4,FALSE)),VLOOKUP(女子申込!Q16,女子申込!$C$39:$F$43,4,FALSE)))","v":""}]
[{"$f":"IF(女子申込!H17=\"\",\"\",\"s\"&COUNTIF(女子申込!$H$16:H17,\"○\"))","v":""},{"$f":"IF(女子申込!C17=\"\",\"\",228500000+女子申込!$B$7*100+女子申込!B17)","v":""},{"$f":"IF(女子申込!C17=\"\",\"\",IF(LENB(TRIM(女子申込!C17))+LENB(TRIM(女子申込!D17))>=12,TRIM(女子申込!C17)&TRIM(女子申込!D17),TRIM(女子申込!C17)&REPT(\" \",(5-((LENB(TRIM(女子申込!C17))+LENB(TRIM(女子申込!D17)))/2))*2)&TRIM(女子申込!D17))&IF(女子申込!G17=\"\",\"\",IF(LENB(TRIM(女子申込!G17))>=2,TRIM(女子申込!G17),\"(\"&TRIM(女子申込!G17)&\")\")))","v":""},{"$f":"IF(AND(女子申込!E17=\"\",女子申込!F17=\"\"),\"\",ASC(女子申込!E17)&\" \"&ASC(女子申込!F17))","v":""},{"$f":"IF(女子申込!C17=\"\",\"\",VALUE(LEFT(B17,1)))","v":""},{"$f":"IF(女子申込!C17=\"\",\"\",女子申込!$Z$7)","v":""},{"$f":"IF(C17=\"\",\"\",285000+女子申込!$B$7)","v":""},{"$f":"IF(C17=\"\",\"\",女子申込!$B$7)","v":""},{"$f":"IF(女子申込!I17=\"\",\"\",VLOOKUP(女子申込!I17,女子申込!$C$39:$E$43,2,FALSE)&\" \"&RIGHT(FIXED(VALUE(女子申込!J17&女子申込!K17&IF(LENB(女子申込!L17)=1,女子申込!L17&\"0\",女子申込!L17))/VLOOKUP(女子申込!I17,女子申込!$C$39:$E$43,3,FALSE),VLOOKUP(女子申込!I17,女子申込!$C$39:$F$43,4,FALSE)),VLOOKUP(女子申込!I17,女子申込!$C$39:$F$43,4,FALSE)))","v":""},{"$f":"IF(女子申込!Q17=\"\",\"\",VLOOKUP(女子申込!Q17,女子申込!$C$39:$E$43,2,FALSE)&\" \"&RIGHT(FIXED(VALUE(女子申込!R17&女子申込!S17&IF(LENB(女子申込!T17)=1,女子申込!T17&\"0\",女子申込!T17))/VLOOKUP(女子申込!Q17,女子申込!$C$39:$E$43,3,FALSE),VLOOKUP(女子申込!Q17,女子申込!$C$39:$F$43,4,FALSE)),VLOOKUP(女子申込!Q17,女子申込!$C$39:$F$43,4,FALSE)))","v":""}]
[{"$f":"IF(女子申込!H18=\"\",\"\",\"s\"&COUNTIF(女子申込!$H$16:H18,\"○\"))","v":""},{"$f":"IF(女子申込!C18=\"\",\"\",228500000+女子申込!$B$7*100+女子申込!B18)","v":""},{"$f":"IF(女子申込!C18=\"\",\"\",IF(LENB(TRIM(女子申込!C18))+LENB(TRIM(女子申込!D18))>=12,TRIM(女子申込!C18)&TRIM(女子申込!D18),TRIM(女子申込!C18)&REPT(\" \",(5-((LENB(TRIM(女子申込!C18))+LENB(TRIM(女子申込!D18)))/2))*2)&TRIM(女子申込!D18))&IF(女子申込!G18=\"\",\"\",IF(LENB(TRIM(女子申込!G18))>=2,TRIM(女子申込!G18),\"(\"&TRIM(女子申込!G18)&\")\")))","v":""},{"$f":"IF(AND(女子申込!E18=\"\",女子申込!F18=\"\"),\"\",ASC(女子申込!E18)&\" \"&ASC(女子申込!F18))","v":""},{"$f":"IF(女子申込!C18=\"\",\"\",VALUE(LEFT(B18,1)))","v":""},{"$f":"IF(女子申込!C18=\"\",\"\",女子申込!$Z$7)","v":""},{"$f":"IF(C18=\"\",\"\",285000+女子申込!$B$7)","v":""},{"$f":"IF(C18=\"\",\"\",女子申込!$B$7)","v":""},{"$f":"IF(女子申込!I18=\"\",\"\",VLOOKUP(女子申込!I18,女子申込!$C$39:$E$43,2,FALSE)&\" \"&RIGHT(FIXED(VALUE(女子申込!J18&女子申込!K18&IF(LENB(女子申込!L18)=1,女子申込!L18&\"0\",女子申込!L18))/VLOOKUP(女子申込!I18,女子申込!$C$39:$E$43,3,FALSE),VLOOKUP(女子申込!I18,女子申込!$C$39:$F$43,4,FALSE)),VLOOKUP(女子申込!I18,女子申込!$C$39:$F$43,4,FALSE)))","v":""},{"$f":"IF(女子申込!Q18=\"\",\"\",VLOOKUP(女子申込!Q18,女子申込!$C$39:$E$43,2,FALSE)&\" \"&RIGHT(FIXED(VALUE(女子申込!R18&女子申込!S18&IF(LENB(女子申込!T18)=1,女子申込!T18&\"0\",女子申込!T18))/VLOOKUP(女子申込!Q18,女子申込!$C$39:$E$43,3,FALSE),VLOOKUP(女子申込!Q18,女子申込!$C$39:$F$43,4,FALSE)),VLOOKUP(女子申込!Q18,女子申込!$C$39:$F$43,4,FALSE)))","v":""}]
[{"$f":"IF(女子申込!H19=\"\",\"\",\"s\"&COUNTIF(女子申込!$H$16:H19,\"○\"))","v":""},{"$f":"IF(女子申込!C19=\"\",\"\",228500000+女子申込!$B$7*100+女子申込!B19)","v":""},{"$f":"IF(女子申込!C19=\"\",\"\",IF(LENB(TRIM(女子申込!C19))+LENB(TRIM(女子申込!D19))>=12,TRIM(女子申込!C19)&TRIM(女子申込!D19),TRIM(女子申込!C19)&REPT(\" \",(5-((LENB(TRIM(女子申込!C19))+LENB(TRIM(女子申込!D19)))/2))*2)&TRIM(女子申込!D19))&IF(女子申込!G19=\"\",\"\",IF(LENB(TRIM(女子申込!G19))>=2,TRIM(女子申込!G19),\"(\"&TRIM(女子申込!G19)&\")\")))","v":""},{"$f":"IF(AND(女子申込!E19=\"\",女子申込!F19=\"\"),\"\",ASC(女子申込!E19)&\" \"&ASC(女子申込!F19))","v":""},{"$f":"IF(女子申込!C19=\"\",\"\",VALUE(LEFT(B19,1)))","v":""},{"$f":"IF(女子申込!C19=\"\",\"\",女子申込!$Z$7)","v":""},{"$f":"IF(C19=\"\",\"\",285000+女子申込!$B$7)","v":""},{"$f":"IF(C19=\"\",\"\",女子申込!$B$7)","v":""},{"$f":"IF(女子申込!I19=\"\",\"\",VLOOKUP(女子申込!I19,女子申込!$C$39:$E$43,2,FALSE)&\" \"&RIGHT(FIXED(VALUE(女子申込!J19&女子申込!K19&IF(LENB(女子申込!L19)=1,女子申込!L19&\"0\",女子申込!L19))/VLOOKUP(女子申込!I19,女子申込!$C$39:$E$43,3,FALSE),VLOOKUP(女子申込!I19,女子申込!$C$39:$F$43,4,FALSE)),VLOOKUP(女子申込!I19,女子申込!$C$39:$F$43,4,FALSE)))","v":""},{"$f":"IF(女子申込!Q19=\"\",\"\",VLOOKUP(女子申込!Q19,女子申込!$C$39:$E$43,2,FALSE)&\" \"&RIGHT(FIXED(VALUE(女子申込!R19&女子申込!S19&IF(LENB(女子申込!T19)=1,女子申込!T19&\"0\",女子申込!T19))/VLOOKUP(女子申込!Q19,女子申込!$C$39:$E$43,3,FALSE),VLOOKUP(女子申込!Q19,女子申込!$C$39:$F$43,4,FALSE)),VLOOKUP(女子申込!Q19,女子申込!$C$39:$F$43,4,FALSE)))","v":""}]
[{"$f":"IF(女子申込!H20=\"\",\"\",\"s\"&COUNTIF(女子申込!$H$16:H20,\"○\"))","v":""},{"$f":"IF(女子申込!C20=\"\",\"\",228500000+女子申込!$B$7*100+女子申込!B20)","v":""},{"$f":"IF(女子申込!C20=\"\",\"\",IF(LENB(TRIM(女子申込!C20))+LENB(TRIM(女子申込!D20))>=12,TRIM(女子申込!C20)&TRIM(女子申込!D20),TRIM(女子申込!C20)&REPT(\" \",(5-((LENB(TRIM(女子申込!C20))+LENB(TRIM(女子申込!D20)))/2))*2)&TRIM(女子申込!D20))&IF(女子申込!G20=\"\",\"\",IF(LENB(TRIM(女子申込!G20))>=2,TRIM(女子申込!G20),\"(\"&TRIM(女子申込!G20)&\")\")))","v":""},{"$f":"IF(AND(女子申込!E20=\"\",女子申込!F20=\"\"),\"\",ASC(女子申込!E20)&\" \"&ASC(女子申込!F20))","v":""},{"$f":"IF(女子申込!C20=\"\",\"\",VALUE(LEFT(B20,1)))","v":""},{"$f":"IF(女子申込!C20=\"\",\"\",女子申込!$Z$7)","v":""},{"$f":"IF(C20=\"\",\"\",285000+女子申込!$B$7)","v":""},{"$f":"IF(C20=\"\",\"\",女子申込!$B$7)","v":""},{"$f":"IF(女子申込!I20=\"\",\"\",VLOOKUP(女子申込!I20,女子申込!$C$39:$E$43,2,FALSE)&\" \"&RIGHT(FIXED(VALUE(女子申込!J20&女子申込!K20&IF(LENB(女子申込!L20)=1,女子申込!L20&\"0\",女子申込!L20))/VLOOKUP(女子申込!I20,女子申込!$C$39:$E$43,3,FALSE),VLOOKUP(女子申込!I20,女子申込!$C$39:$F$43,4,FALSE)),VLOOKUP(女子申込!I20,女子申込!$C$39:$F$43,4,FALSE)))","v":""},{"$f":"IF(女子申込!Q20=\"\",\"\",VLOOKUP(女子申込!Q20,女子申込!$C$39:$E$43,2,FALSE)&\" \"&RIGHT(FIXED(VALUE(女子申込!R20&女子申込!S20&IF(LENB(女子申込!T20)=1,女子申込!T20&\"0\",女子申込!T20))/VLOOKUP(女子申込!Q20,女子申込!$C$39:$E$43,3,FALSE),VLOOKUP(女子申込!Q20,女子申込!$C$39:$F$43,4,FALSE)),VLOOKUP(女子申込!Q20,女子申込!$C$39:$F$43,4,FALSE)))","v":""}]
[{"$f":"IF(女子申込!H21=\"\",\"\",\"s\"&COUNTIF(女子申込!$H$16:H21,\"○\"))","v":""},{"$f":"IF(女子申込!C21=\"\",\"\",228500000+女子申込!$B$7*100+女子申込!B21)","v":""},{"$f":"IF(女子申込!C21=\"\",\"\",IF(LENB(TRIM(女子申込!C21))+LENB(TRIM(女子申込!D21))>=12,TRIM(女子申込!C21)&TRIM(女子申込!D21),TRIM(女子申込!C21)&REPT(\" \",(5-((LENB(TRIM(女子申込!C21))+LENB(TRIM(女子申込!D21)))/2))*2)&TRIM(女子申込!D21))&IF(女子申込!G21=\"\",\"\",IF(LENB(TRIM(女子申込!G21))>=2,TRIM(女子申込!G21),\"(\"&TRIM(女子申込!G21)&\")\")))","v":""},{"$f":"IF(AND(女子申込!E21=\"\",女子申込!F21=\"\"),\"\",ASC(女子申込!E21)&\" \"&ASC(女子申込!F21))","v":""},{"$f":"IF(女子申込!C21=\"\",\"\",VALUE(LEFT(B21,1)))","v":""},{"$f":"IF(女子申込!C21=\"\",\"\",女子申込!$Z$7)","v":""},{"$f":"IF(C21=\"\",\"\",285000+女子申込!$B$7)","v":""},{"$f":"IF(C21=\"\",\"\",女子申込!$B$7)","v":""},{"$f":"IF(女子申込!I21=\"\",\"\",VLOOKUP(女子申込!I21,女子申込!$C$39:$E$43,2,FALSE)&\" \"&RIGHT(FIXED(VALUE(女子申込!J21&女子申込!K21&IF(LENB(女子申込!L21)=1,女子申込!L21&\"0\",女子申込!L21))/VLOOKUP(女子申込!I21,女子申込!$C$39:$E$43,3,FALSE),VLOOKUP(女子申込!I21,女子申込!$C$39:$F$43,4,FALSE)),VLOOKUP(女子申込!I21,女子申込!$C$39:$F$43,4,FALSE)))","v":""},{"$f":"IF(女子申込!Q21=\"\",\"\",VLOOKUP(女子申込!Q21,女子申込!$C$39:$E$43,2,FALSE)&\" \"&RIGHT(FIXED(VALUE(女子申込!R21&女子申込!S21&IF(LENB(女子申込!T21)=1,女子申込!T21&\"0\",女子申込!T21))/VLOOKUP(女子申込!Q21,女子申込!$C$39:$E$43,3,FALSE),VLOOKUP(女子申込!Q21,女子申込!$C$39:$F$43,4,FALSE)),VLOOKUP(女子申込!Q21,女子申込!$C$39:$F$43,4,FALSE)))","v":""}]
[{"$f":"IF(女子申込!H22=\"\",\"\",\"s\"&COUNTIF(女子申込!$H$16:H22,\"○\"))","v":""},{"$f":"IF(女子申込!C22=\"\",\"\",228500000+女子申込!$B$7*100+女子申込!B22)","v":""},{"$f":"IF(女子申込!C22=\"\",\"\",IF(LENB(TRIM(女子申込!C22))+LENB(TRIM(女子申込!D22))>=12,TRIM(女子申込!C22)&TRIM(女子申込!D22),TRIM(女子申込!C22)&REPT(\" \",(5-((LENB(TRIM(女子申込!C22))+LENB(TRIM(女子申込!D22)))/2))*2)&TRIM(女子申込!D22))&IF(女子申込!G22=\"\",\"\",IF(LENB(TRIM(女子申込!G22))>=2,TRIM(女子申込!G22),\"(\"&TRIM(女子申込!G22)&\")\")))","v":""},{"$f":"IF(AND(女子申込!E22=\"\",女子申込!F22=\"\"),\"\",ASC(女子申込!E22)&\" \"&ASC(女子申込!F22))","v":""},{"$f":"IF(女子申込!C22=\"\",\"\",VALUE(LEFT(B22,1)))","v":""},{"$f":"IF(女子申込!C22=\"\",\"\",女子申込!$Z$7)","v":""},{"$f":"IF(C22=\"\",\"\",285000+女子申込!$B$7)","v":""},{"$f":"IF(C22=\"\",\"\",女子申込!$B$7)","v":""},{"$f":"IF(女子申込!I22=\"\",\"\",VLOOKUP(女子申込!I22,女子申込!$C$39:$E$43,2,FALSE)&\" \"&RIGHT(FIXED(VALUE(女子申込!J22&女子申込!K22&IF(LENB(女子申込!L22)=1,女子申込!L22&\"0\",女子申込!L22))/VLOOKUP(女子申込!I22,女子申込!$C$39:$E$43,3,FALSE),VLOOKUP(女子申込!I22,女子申込!$C$39:$F$43,4,FALSE)),VLOOKUP(女子申込!I22,女子申込!$C$39:$F$43,4,FALSE)))","v":""},{"$f":"IF(女子申込!Q22=\"\",\"\",VLOOKUP(女子申込!Q22,女子申込!$C$39:$E$43,2,FALSE)&\" \"&RIGHT(FIXED(VALUE(女子申込!R22&女子申込!S22&IF(LENB(女子申込!T22)=1,女子申込!T22&\"0\",女子申込!T22))/VLOOKUP(女子申込!Q22,女子申込!$C$39:$E$43,3,FALSE),VLOOKUP(女子申込!Q22,女子申込!$C$39:$F$43,4,FALSE)),VLOOKUP(女子申込!Q22,女子申込!$C$39:$F$43,4,FALSE)))","v":""}]
[{"$f":"IF(女子申込!H23=\"\",\"\",\"s\"&COUNTIF(女子申込!$H$16:H23,\"○\"))","v":""},{"$f":"IF(女子申込!C23=\"\",\"\",228500000+女子申込!$B$7*100+女子申込!B23)","v":""},{"$f":"IF(女子申込!C23=\"\",\"\",IF(LENB(TRIM(女子申込!C23))+LENB(TRIM(女子申込!D23))>=12,TRIM(女子申込!C23)&TRIM(女子申込!D23),TRIM(女子申込!C23)&REPT(\" \",(5-((LENB(TRIM(女子申込!C23))+LENB(TRIM(女子申込!D23)))/2))*2)&TRIM(女子申込!D23))&IF(女子申込!G23=\"\",\"\",IF(LENB(TRIM(女子申込!G23))>=2,TRIM(女子申込!G23),\"(\"&TRIM(女子申込!G23)&\")\")))","v":""},{"$f":"IF(AND(女子申込!E23=\"\",女子申込!F23=\"\"),\"\",ASC(女子申込!E23)&\" \"&ASC(女子申込!F23))","v":""},{"$f":"IF(女子申込!C23=\"\",\"\",VALUE(LEFT(B23,1)))","v":""},{"$f":"IF(女子申込!C23=\"\",\"\",女子申込!$Z$7)","v":""},{"$f":"IF(C23=\"\",\"\",285000+女子申込!$B$7)","v":""},{"$f":"IF(C23=\"\",\"\",女子申込!$B$7)","v":""},{"$f":"IF(女子申込!I23=\"\",\"\",VLOOKUP(女子申込!I23,女子申込!$C$39:$E$43,2,FALSE)&\" \"&RIGHT(FIXED(VALUE(女子申込!J23&女子申込!K23&IF(LENB(女子申込!L23)=1,女子申込!L23&\"0\",女子申込!L23))/VLOOKUP(女子申込!I23,女子申込!$C$39:$E$43,3,FALSE),VLOOKUP(女子申込!I23,女子申込!$C$39:$F$43,4,FALSE)),VLOOKUP(女子申込!I23,女子申込!$C$39:$F$43,4,FALSE)))","v":""},{"$f":"IF(女子申込!Q23=\"\",\"\",VLOOKUP(女子申込!Q23,女子申込!$C$39:$E$43,2,FALSE)&\" \"&RIGHT(FIXED(VALUE(女子申込!R23&女子申込!S23&IF(LENB(女子申込!T23)=1,女子申込!T23&\"0\",女子申込!T23))/VLOOKUP(女子申込!Q23,女子申込!$C$39:$E$43,3,FALSE),VLOOKUP(女子申込!Q23,女子申込!$C$39:$F$43,4,FALSE)),VLOOKUP(女子申込!Q23,女子申込!$C$39:$F$43,4,FALSE)))","v":""}]
[{"$f":"IF(女子申込!H24=\"\",\"\",\"s\"&COUNTIF(女子申込!$H$16:H24,\"○\"))","v":""},{"$f":"IF(女子申込!C24=\"\",\"\",228500000+女子申込!$B$7*100+女子申込!B24)","v":""},{"$f":"IF(女子申込!C24=\"\",\"\",IF(LENB(TRIM(女子申込!C24))+LENB(TRIM(女子申込!D24))>=12,TRIM(女子申込!C24)&TRIM(女子申込!D24),TRIM(女子申込!C24)&REPT(\" \",(5-((LENB(TRIM(女子申込!C24))+LENB(TRIM(女子申込!D24)))/2))*2)&TRIM(女子申込!D24))&IF(女子申込!G24=\"\",\"\",IF(LENB(TRIM(女子申込!G24))>=2,TRIM(女子申込!G24),\"(\"&TRIM(女子申込!G24)&\")\")))","v":""},{"$f":"IF(AND(女子申込!E24=\"\",女子申込!F24=\"\"),\"\",ASC(女子申込!E24)&\" \"&ASC(女子申込!F24))","v":""},{"$f":"IF(女子申込!C24=\"\",\"\",VALUE(LEFT(B24,1)))","v":""},{"$f":"IF(女子申込!C24=\"\",\"\",女子申込!$Z$7)","v":""},{"$f":"IF(C24=\"\",\"\",285000+女子申込!$B$7)","v":""},{"$f":"IF(C24=\"\",\"\",女子申込!$B$7)","v":""},{"$f":"IF(女子申込!I24=\"\",\"\",VLOOKUP(女子申込!I24,女子申込!$C$39:$E$43,2,FALSE)&\" \"&RIGHT(FIXED(VALUE(女子申込!J24&女子申込!K24&IF(LENB(女子申込!L24)=1,女子申込!L24&\"0\",女子申込!L24))/VLOOKUP(女子申込!I24,女子申込!$C$39:$E$43,3,FALSE),VLOOKUP(女子申込!I24,女子申込!$C$39:$F$43,4,FALSE)),VLOOKUP(女子申込!I24,女子申込!$C$39:$F$43,4,FALSE)))","v":""},{"$f":"IF(女子申込!Q24=\"\",\"\",VLOOKUP(女子申込!Q24,女子申込!$C$39:$E$43,2,FALSE)&\" \"&RIGHT(FIXED(VALUE(女子申込!R24&女子申込!S24&IF(LENB(女子申込!T24)=1,女子申込!T24&\"0\",女子申込!T24))/VLOOKUP(女子申込!Q24,女子申込!$C$39:$E$43,3,FALSE),VLOOKUP(女子申込!Q24,女子申込!$C$39:$F$43,4,FALSE)),VLOOKUP(女子申込!Q24,女子申込!$C$39:$F$43,4,FALSE)))","v":""}]
[{"$f":"IF(女子申込!H25=\"\",\"\",\"s\"&COUNTIF(女子申込!$H$16:H25,\"○\"))","v":""},{"$f":"IF(女子申込!C25=\"\",\"\",228500000+女子申込!$B$7*100+女子申込!B25)","v":""},{"$f":"IF(女子申込!C25=\"\",\"\",IF(LENB(TRIM(女子申込!C25))+LENB(TRIM(女子申込!D25))>=12,TRIM(女子申込!C25)&TRIM(女子申込!D25),TRIM(女子申込!C25)&REPT(\" \",(5-((LENB(TRIM(女子申込!C25))+LENB(TRIM(女子申込!D25)))/2))*2)&TRIM(女子申込!D25))&IF(女子申込!G25=\"\",\"\",IF(LENB(TRIM(女子申込!G25))>=2,TRIM(女子申込!G25),\"(\"&TRIM(女子申込!G25)&\")\")))","v":""},{"$f":"IF(AND(女子申込!E25=\"\",女子申込!F25=\"\"),\"\",ASC(女子申込!E25)&\" \"&ASC(女子申込!F25))","v":""},{"$f":"IF(女子申込!C25=\"\",\"\",VALUE(LEFT(B25,1)))","v":""},{"$f":"IF(女子申込!C25=\"\",\"\",女子申込!$Z$7)","v":""},{"$f":"IF(C25=\"\",\"\",285000+女子申込!$B$7)","v":""},{"$f":"IF(C25=\"\",\"\",女子申込!$B$7)","v":""},{"$f":"IF(女子申込!I25=\"\",\"\",VLOOKUP(女子申込!I25,女子申込!$C$39:$E$43,2,FALSE)&\" \"&RIGHT(FIXED(VALUE(女子申込!J25&女子申込!K25&IF(LENB(女子申込!L25)=1,女子申込!L25&\"0\",女子申込!L25))/VLOOKUP(女子申込!I25,女子申込!$C$39:$E$43,3,FALSE),VLOOKUP(女子申込!I25,女子申込!$C$39:$F$43,4,FALSE)),VLOOKUP(女子申込!I25,女子申込!$C$39:$F$43,4,FALSE)))","v":""},{"$f":"IF(女子申込!Q25=\"\",\"\",VLOOKUP(女子申込!Q25,女子申込!$C$39:$E$43,2,FALSE)&\" \"&RIGHT(FIXED(VALUE(女子申込!R25&女子申込!S25&IF(LENB(女子申込!T25)=1,女子申込!T25&\"0\",女子申込!T25))/VLOOKUP(女子申込!Q25,女子申込!$C$39:$E$43,3,FALSE),VLOOKUP(女子申込!Q25,女子申込!$C$39:$F$43,4,FALSE)),VLOOKUP(女子申込!Q25,女子申込!$C$39:$F$43,4,FALSE)))","v":""}]
[{"$f":"IF(女子申込!H26=\"\",\"\",\"s\"&COUNTIF(女子申込!$H$16:H26,\"○\"))","v":""},{"$f":"IF(女子申込!C26=\"\",\"\",228500000+女子申込!$B$7*100+女子申込!B26)","v":""},{"$f":"IF(女子申込!C26=\"\",\"\",IF(LENB(TRIM(女子申込!C26))+LENB(TRIM(女子申込!D26))>=12,TRIM(女子申込!C26)&TRIM(女子申込!D26),TRIM(女子申込!C26)&REPT(\" \",(5-((LENB(TRIM(女子申込!C26))+LENB(TRIM(女子申込!D26)))/2))*2)&TRIM(女子申込!D26))&IF(女子申込!G26=\"\",\"\",IF(LENB(TRIM(女子申込!G26))>=2,TRIM(女子申込!G26),\"(\"&TRIM(女子申込!G26)&\")\")))","v":""},{"$f":"IF(AND(女子申込!E26=\"\",女子申込!F26=\"\"),\"\",ASC(女子申込!E26)&\" \"&ASC(女子申込!F26))","v":""},{"$f":"IF(女子申込!C26=\"\",\"\",VALUE(LEFT(B26,1)))","v":""},{"$f":"IF(女子申込!C26=\"\",\"\",女子申込!$Z$7)","v":""},{"$f":"IF(C26=\"\",\"\",285000+女子申込!$B$7)","v":""},{"$f":"IF(C26=\"\",\"\",女子申込!$B$7)","v":""},{"$f":"IF(女子申込!I26=\"\",\"\",VLOOKUP(女子申込!I26,女子申込!$C$39:$E$43,2,FALSE)&\" \"&RIGHT(FIXED(VALUE(女子申込!J26&女子申込!K26&IF(LENB(女子申込!L26)=1,女子申込!L26&\"0\",女子申込!L26))/VLOOKUP(女子申込!I26,女子申込!$C$39:$E$43,3,FALSE),VLOOKUP(女子申込!I26,女子申込!$C$39:$F$43,4,FALSE)),VLOOKUP(女子申込!I26,女子申込!$C$39:$F$43,4,FALSE)))","v":""},{"$f":"IF(女子申込!Q26=\"\",\"\",VLOOKUP(女子申込!Q26,女子申込!$C$39:$E$43,2,FALSE)&\" \"&RIGHT(FIXED(VALUE(女子申込!R26&女子申込!S26&IF(LENB(女子申込!T26)=1,女子申込!T26&\"0\",女子申込!T26))/VLOOKUP(女子申込!Q26,女子申込!$C$39:$E$43,3,FALSE),VLOOKUP(女子申込!Q26,女子申込!$C$39:$F$43,4,FALSE)),VLOOKUP(女子申込!Q26,女子申込!$C$39:$F$43,4,FALSE)))","v":""}]
[{"$f":"IF(女子申込!H27=\"\",\"\",\"s\"&COUNTIF(女子申込!$H$16:H27,\"○\"))","v":""},{"$f":"IF(女子申込!C27=\"\",\"\",228500000+女子申込!$B$7*100+女子申込!B27)","v":""},{"$f":"IF(女子申込!C27=\"\",\"\",IF(LENB(TRIM(女子申込!C27))+LENB(TRIM(女子申込!D27))>=12,TRIM(女子申込!C27)&TRIM(女子申込!D27),TRIM(女子申込!C27)&REPT(\" \",(5-((LENB(TRIM(女子申込!C27))+LENB(TRIM(女子申込!D27)))/2))*2)&TRIM(女子申込!D27))&IF(女子申込!G27=\"\",\"\",IF(LENB(TRIM(女子申込!G27))>=2,TRIM(女子申込!G27),\"(\"&TRIM(女子申込!G27)&\")\")))","v":""},{"$f":"IF(AND(女子申込!E27=\"\",女子申込!F27=\"\"),\"\",ASC(女子申込!E27)&\" \"&ASC(女子申込!F27))","v":""},{"$f":"IF(女子申込!C27=\"\",\"\",VALUE(LEFT(B27,1)))","v":""},{"$f":"IF(女子申込!C27=\"\",\"\",女子申込!$Z$7)","v":""},{"$f":"IF(C27=\"\",\"\",285000+女子申込!$B$7)","v":""},{"$f":"IF(C27=\"\",\"\",女子申込!$B$7)","v":""},{"$f":"IF(女子申込!I27=\"\",\"\",VLOOKUP(女子申込!I27,女子申込!$C$39:$E$43,2,FALSE)&\" \"&RIGHT(FIXED(VALUE(女子申込!J27&女子申込!K27&IF(LENB(女子申込!L27)=1,女子申込!L27&\"0\",女子申込!L27))/VLOOKUP(女子申込!I27,女子申込!$C$39:$E$43,3,FALSE),VLOOKUP(女子申込!I27,女子申込!$C$39:$F$43,4,FALSE)),VLOOKUP(女子申込!I27,女子申込!$C$39:$F$43,4,FALSE)))","v":""},{"$f":"IF(女子申込!Q27=\"\",\"\",VLOOKUP(女子申込!Q27,女子申込!$C$39:$E$43,2,FALSE)&\" \"&RIGHT(FIXED(VALUE(女子申込!R27&女子申込!S27&IF(LENB(女子申込!T27)=1,女子申込!T27&\"0\",女子申込!T27))/VLOOKUP(女子申込!Q27,女子申込!$C$39:$E$43,3,FALSE),VLOOKUP(女子申込!Q27,女子申込!$C$39:$F$43,4,FALSE)),VLOOKUP(女子申込!Q27,女子申込!$C$39:$F$43,4,FALSE)))","v":""}]
[{"$f":"IF(女子申込!H28=\"\",\"\",\"s\"&COUNTIF(女子申込!$H$16:H28,\"○\"))","v":""},{"$f":"IF(女子申込!C28=\"\",\"\",228500000+女子申込!$B$7*100+女子申込!B28)","v":""},{"$f":"IF(女子申込!C28=\"\",\"\",IF(LENB(TRIM(女子申込!C28))+LENB(TRIM(女子申込!D28))>=12,TRIM(女子申込!C28)&TRIM(女子申込!D28),TRIM(女子申込!C28)&REPT(\" \",(5-((LENB(TRIM(女子申込!C28))+LENB(TRIM(女子申込!D28)))/2))*2)&TRIM(女子申込!D28))&IF(女子申込!G28=\"\",\"\",IF(LENB(TRIM(女子申込!G28))>=2,TRIM(女子申込!G28),\"(\"&TRIM(女子申込!G28)&\")\")))","v":""},{"$f":"IF(AND(女子申込!E28=\"\",女子申込!F28=\"\"),\"\",ASC(女子申込!E28)&\" \"&ASC(女子申込!F28))","v":""},{"$f":"IF(女子申込!C28=\"\",\"\",VALUE(LEFT(B28,1)))","v":""},{"$f":"IF(女子申込!C28=\"\",\"\",女子申込!$Z$7)","v":""},{"$f":"IF(C28=\"\",\"\",285000+女子申込!$B$7)","v":""},{"$f":"IF(C28=\"\",\"\",女子申込!$B$7)","v":""},{"$f":"IF(女子申込!I28=\"\",\"\",VLOOKUP(女子申込!I28,女子申込!$C$39:$E$43,2,FALSE)&\" \"&RIGHT(FIXED(VALUE(女子申込!J28&女子申込!K28&IF(LENB(女子申込!L28)=1,女子申込!L28&\"0\",女子申込!L28))/VLOOKUP(女子申込!I28,女子申込!$C$39:$E$43,3,FALSE),VLOOKUP(女子申込!I28,女子申込!$C$39:$F$43,4,FALSE)),VLOOKUP(女子申込!I28,女子申込!$C$39:$F$43,4,FALSE)))","v":""},{"$f":"IF(女子申込!Q28=\"\",\"\",VLOOKUP(女子申込!Q28,女子申込!$C$39:$E$43,2,FALSE)&\" \"&RIGHT(FIXED(VALUE(女子申込!R28&女子申込!S28&IF(LENB(女子申込!T28)=1,女子申込!T28&\"0\",女子申込!T28))/VLOOKUP(女子申込!Q28,女子申込!$C$39:$E$43,3,FALSE),VLOOKUP(女子申込!Q28,女子申込!$C$39:$F$43,4,FALSE)),VLOOKUP(女子申込!Q28,女子申込!$C$39:$F$43,4,FALSE)))","v":""}]
[{"$f":"IF(女子申込!H29=\"\",\"\",\"s\"&COUNTIF(女子申込!$H$16:H29,\"○\"))","v":""},{"$f":"IF(女子申込!C29=\"\",\"\",228500000+女子申込!$B$7*100+女子申込!B29)","v":""},{"$f":"IF(女子申込!C29=\"\",\"\",IF(LENB(TRIM(女子申込!C29))+LENB(TRIM(女子申込!D29))>=12,TRIM(女子申込!C29)&TRIM(女子申込!D29),TRIM(女子申込!C29)&REPT(\" \",(5-((LENB(TRIM(女子申込!C29))+LENB(TRIM(女子申込!D29)))/2))*2)&TRIM(女子申込!D29))&IF(女子申込!G29=\"\",\"\",IF(LENB(TRIM(女子申込!G29))>=2,TRIM(女子申込!G29),\"(\"&TRIM(女子申込!G29)&\")\")))","v":""},{"$f":"IF(AND(女子申込!E29=\"\",女子申込!F29=\"\"),\"\",ASC(女子申込!E29)&\" \"&ASC(女子申込!F29))","v":""},{"$f":"IF(女子申込!C29=\"\",\"\",VALUE(LEFT(B29,1)))","v":""},{"$f":"IF(女子申込!C29=\"\",\"\",女子申込!$Z$7)","v":""},{"$f":"IF(C29=\"\",\"\",285000+女子申込!$B$7)","v":""},{"$f":"IF(C29=\"\",\"\",女子申込!$B$7)","v":""},{"$f":"IF(女子申込!I29=\"\",\"\",VLOOKUP(女子申込!I29,女子申込!$C$39:$E$43,2,FALSE)&\" \"&RIGHT(FIXED(VALUE(女子申込!J29&女子申込!K29&IF(LENB(女子申込!L29)=1,女子申込!L29&\"0\",女子申込!L29))/VLOOKUP(女子申込!I29,女子申込!$C$39:$E$43,3,FALSE),VLOOKUP(女子申込!I29,女子申込!$C$39:$F$43,4,FALSE)),VLOOKUP(女子申込!I29,女子申込!$C$39:$F$43,4,FALSE)))","v":""},{"$f":"IF(女子申込!Q29=\"\",\"\",VLOOKUP(女子申込!Q29,女子申込!$C$39:$E$43,2,FALSE)&\" \"&RIGHT(FIXED(VALUE(女子申込!R29&女子申込!S29&IF(LENB(女子申込!T29)=1,女子申込!T29&\"0\",女子申込!T29))/VLOOKUP(女子申込!Q29,女子申込!$C$39:$E$43,3,FALSE),VLOOKUP(女子申込!Q29,女子申込!$C$39:$F$43,4,FALSE)),VLOOKUP(女子申込!Q29,女子申込!$C$39:$F$43,4,FALSE)))","v":""}]
[{"$f":"IF(女子申込!H30=\"\",\"\",\"s\"&COUNTIF(女子申込!$H$16:H30,\"○\"))","v":""},{"$f":"IF(女子申込!C30=\"\",\"\",228500000+女子申込!$B$7*100+女子申込!B30)","v":""},{"$f":"IF(女子申込!C30=\"\",\"\",IF(LENB(TRIM(女子申込!C30))+LENB(TRIM(女子申込!D30))>=12,TRIM(女子申込!C30)&TRIM(女子申込!D30),TRIM(女子申込!C30)&REPT(\" \",(5-((LENB(TRIM(女子申込!C30))+LENB(TRIM(女子申込!D30)))/2))*2)&TRIM(女子申込!D30))&IF(女子申込!G30=\"\",\"\",IF(LENB(TRIM(女子申込!G30))>=2,TRIM(女子申込!G30),\"(\"&TRIM(女子申込!G30)&\")\")))","v":""},{"$f":"IF(AND(女子申込!E30=\"\",女子申込!F30=\"\"),\"\",ASC(女子申込!E30)&\" \"&ASC(女子申込!F30))","v":""},{"$f":"IF(女子申込!C30=\"\",\"\",VALUE(LEFT(B30,1)))","v":""},{"$f":"IF(女子申込!C30=\"\",\"\",女子申込!$Z$7)","v":""},{"$f":"IF(C30=\"\",\"\",285000+女子申込!$B$7)","v":""},{"$f":"IF(C30=\"\",\"\",女子申込!$B$7)","v":""},{"$f":"IF(女子申込!I30=\"\",\"\",VLOOKUP(女子申込!I30,女子申込!$C$39:$E$43,2,FALSE)&\" \"&RIGHT(FIXED(VALUE(女子申込!J30&女子申込!K30&IF(LENB(女子申込!L30)=1,女子申込!L30&\"0\",女子申込!L30))/VLOOKUP(女子申込!I30,女子申込!$C$39:$E$43,3,FALSE),VLOOKUP(女子申込!I30,女子申込!$C$39:$F$43,4,FALSE)),VLOOKUP(女子申込!I30,女子申込!$C$39:$F$43,4,FALSE)))","v":""},{"$f":"IF(女子申込!Q30=\"\",\"\",VLOOKUP(女子申込!Q30,女子申込!$C$39:$E$43,2,FALSE)&\" \"&RIGHT(FIXED(VALUE(女子申込!R30&女子申込!S30&IF(LENB(女子申込!T30)=1,女子申込!T30&\"0\",女子申込!T30))/VLOOKUP(女子申込!Q30,女子申込!$C$39:$E$43,3,FALSE),VLOOKUP(女子申込!Q30,女子申込!$C$39:$F$43,4,FALSE)),VLOOKUP(女子申込!Q30,女子申込!$C$39:$F$43,4,FALSE)))","v":""}]
[{"$f":"IF(女子申込!H31=\"\",\"\",\"s\"&COUNTIF(女子申込!$H$16:H31,\"○\"))","v":""},{"$f":"IF(女子申込!C31=\"\",\"\",228500000+女子申込!$B$7*100+女子申込!B31)","v":""},{"$f":"IF(女子申込!C31=\"\",\"\",IF(LENB(TRIM(女子申込!C31))+LENB(TRIM(女子申込!D31))>=12,TRIM(女子申込!C31)&TRIM(女子申込!D31),TRIM(女子申込!C31)&REPT(\" \",(5-((LENB(TRIM(女子申込!C31))+LENB(TRIM(女子申込!D31)))/2))*2)&TRIM(女子申込!D31))&IF(女子申込!G31=\"\",\"\",IF(LENB(TRIM(女子申込!G31))>=2,TRIM(女子申込!G31),\"(\"&TRIM(女子申込!G31)&\")\")))","v":""},{"$f":"IF(AND(女子申込!E31=\"\",女子申込!F31=\"\"),\"\",ASC(女子申込!E31)&\" \"&ASC(女子申込!F31))","v":""},{"$f":"IF(女子申込!C31=\"\",\"\",VALUE(LEFT(B31,1)))","v":""},{"$f":"IF(女子申込!C31=\"\",\"\",女子申込!$Z$7)","v":""},{"$f":"IF(C31=\"\",\"\",285000+女子申込!$B$7)","v":""},{"$f":"IF(C31=\"\",\"\",女子申込!$B$7)","v":""},{"$f":"IF(女子申込!I31=\"\",\"\",VLOOKUP(女子申込!I31,女子申込!$C$39:$E$43,2,FALSE)&\" \"&RIGHT(FIXED(VALUE(女子申込!J31&女子申込!K31&IF(LENB(女子申込!L31)=1,女子申込!L31&\"0\",女子申込!L31))/VLOOKUP(女子申込!I31,女子申込!$C$39:$E$43,3,FALSE),VLOOKUP(女子申込!I31,女子申込!$C$39:$F$43,4,FALSE)),VLOOKUP(女子申込!I31,女子申込!$C$39:$F$43,4,FALSE)))","v":""},{"$f":"IF(女子申込!Q31=\"\",\"\",VLOOKUP(女子申込!Q31,女子申込!$C$39:$E$43,2,FALSE)&\" \"&RIGHT(FIXED(VALUE(女子申込!R31&女子申込!S31&IF(LENB(女子申込!T31)=1,女子申込!T31&\"0\",女子申込!T31))/VLOOKUP(女子申込!Q31,女子申込!$C$39:$E$43,3,FALSE),VLOOKUP(女子申込!Q31,女子申込!$C$39:$F$43,4,FALSE)),VLOOKUP(女子申込!Q31,女子申込!$C$39:$F$43,4,FALSE)))","v":""}]
[{"$f":"IF(女子申込!H32=\"\",\"\",\"s\"&COUNTIF(女子申込!$H$16:H32,\"○\"))","v":""},{"$f":"IF(女子申込!C32=\"\",\"\",228500000+女子申込!$B$7*100+女子申込!B32)","v":""},{"$f":"IF(女子申込!C32=\"\",\"\",IF(LENB(TRIM(女子申込!C32))+LENB(TRIM(女子申込!D32))>=12,TRIM(女子申込!C32)&TRIM(女子申込!D32),TRIM(女子申込!C32)&REPT(\" \",(5-((LENB(TRIM(女子申込!C32))+LENB(TRIM(女子申込!D32)))/2))*2)&TRIM(女子申込!D32))&IF(女子申込!G32=\"\",\"\",IF(LENB(TRIM(女子申込!G32))>=2,TRIM(女子申込!G32),\"(\"&TRIM(女子申込!G32)&\")\")))","v":""},{"$f":"IF(AND(女子申込!E32=\"\",女子申込!F32=\"\"),\"\",ASC(女子申込!E32)&\" \"&ASC(女子申込!F32))","v":""},{"$f":"IF(女子申込!C32=\"\",\"\",VALUE(LEFT(B32,1)))","v":""},{"$f":"IF(女子申込!C32=\"\",\"\",女子申込!$Z$7)","v":""},{"$f":"IF(C32=\"\",\"\",285000+女子申込!$B$7)","v":""},{"$f":"IF(C32=\"\",\"\",女子申込!$B$7)","v":""},{"$f":"IF(女子申込!I32=\"\",\"\",VLOOKUP(女子申込!I32,女子申込!$C$39:$E$43,2,FALSE)&\" \"&RIGHT(FIXED(VALUE(女子申込!J32&女子申込!K32&IF(LENB(女子申込!L32)=1,女子申込!L32&\"0\",女子申込!L32))/VLOOKUP(女子申込!I32,女子申込!$C$39:$E$43,3,FALSE),VLOOKUP(女子申込!I32,女子申込!$C$39:$F$43,4,FALSE)),VLOOKUP(女子申込!I32,女子申込!$C$39:$F$43,4,FALSE)))","v":""},{"$f":"IF(女子申込!Q32=\"\",\"\",VLOOKUP(女子申込!Q32,女子申込!$C$39:$E$43,2,FALSE)&\" \"&RIGHT(FIXED(VALUE(女子申込!R32&女子申込!S32&IF(LENB(女子申込!T32)=1,女子申込!T32&\"0\",女子申込!T32))/VLOOKUP(女子申込!Q32,女子申込!$C$39:$E$43,3,FALSE),VLOOKUP(女子申込!Q32,女子申込!$C$39:$F$43,4,FALSE)),VLOOKUP(女子申込!Q32,女子申込!$C$39:$F$43,4,FALSE)))","v":""}]
[{"$f":"IF(女子申込!H33=\"\",\"\",\"s\"&COUNTIF(女子申込!$H$16:H33,\"○\"))","v":""},{"$f":"IF(女子申込!C33=\"\",\"\",228500000+女子申込!$B$7*100+女子申込!B33)","v":""},{"$f":"IF(女子申込!C33=\"\",\"\",IF(LENB(TRIM(女子申込!C33))+LENB(TRIM(女子申込!D33))>=12,TRIM(女子申込!C33)&TRIM(女子申込!D33),TRIM(女子申込!C33)&REPT(\" \",(5-((LENB(TRIM(女子申込!C33))+LENB(TRIM(女子申込!D33)))/2))*2)&TRIM(女子申込!D33))&IF(女子申込!G33=\"\",\"\",IF(LENB(TRIM(女子申込!G33))>=2,TRIM(女子申込!G33),\"(\"&TRIM(女子申込!G33)&\")\")))","v":""},{"$f":"IF(AND(女子申込!E33=\"\",女子申込!F33=\"\"),\"\",ASC(女子申込!E33)&\" \"&ASC(女子申込!F33))","v":""},{"$f":"IF(女子申込!C33=\"\",\"\",VALUE(LEFT(B33,1)))","v":""},{"$f":"IF(女子申込!C33=\"\",\"\",女子申込!$Z$7)","v":""},{"$f":"IF(C33=\"\",\"\",285000+女子申込!$B$7)","v":""},{"$f":"IF(C33=\"\",\"\",女子申込!$B$7)","v":""},{"$f":"IF(女子申込!I33=\"\",\"\",VLOOKUP(女子申込!I33,女子申込!$C$39:$E$43,2,FALSE)&\" \"&RIGHT(FIXED(VALUE(女子申込!J33&女子申込!K33&IF(LENB(女子申込!L33)=1,女子申込!L33&\"0\",女子申込!L33))/VLOOKUP(女子申込!I33,女子申込!$C$39:$E$43,3,FALSE),VLOOKUP(女子申込!I33,女子申込!$C$39:$F$43,4,FALSE)),VLOOKUP(女子申込!I33,女子申込!$C$39:$F$43,4,FALSE)))","v":""},{"$f":"IF(女子申込!Q33=\"\",\"\",VLOOKUP(女子申込!Q33,女子申込!$C$39:$E$43,2,FALSE)&\" \"&RIGHT(FIXED(VALUE(女子申込!R33&女子申込!S33&IF(LENB(女子申込!T33)=1,女子申込!T33&\"0\",女子申込!T33))/VLOOKUP(女子申込!Q33,女子申込!$C$39:$E$43,3,FALSE),VLOOKUP(女子申込!Q33,女子申込!$C$39:$F$43,4,FALSE)),VLOOKUP(女子申込!Q33,女子申込!$C$39:$F$43,4,FALSE)))","v":""}]
[{"$f":"IF(女子申込!H34=\"\",\"\",\"s\"&COUNTIF(女子申込!$H$16:H34,\"○\"))","v":""},{"$f":"IF(女子申込!C34=\"\",\"\",228500000+女子申込!$B$7*100+女子申込!B34)","v":""},{"$f":"IF(女子申込!C34=\"\",\"\",IF(LENB(TRIM(女子申込!C34))+LENB(TRIM(女子申込!D34))>=12,TRIM(女子申込!C34)&TRIM(女子申込!D34),TRIM(女子申込!C34)&REPT(\" \",(5-((LENB(TRIM(女子申込!C34))+LENB(TRIM(女子申込!D34)))/2))*2)&TRIM(女子申込!D34))&IF(女子申込!G34=\"\",\"\",IF(LENB(TRIM(女子申込!G34))>=2,TRIM(女子申込!G34),\"(\"&TRIM(女子申込!G34)&\")\")))","v":""},{"$f":"IF(AND(女子申込!E34=\"\",女子申込!F34=\"\"),\"\",ASC(女子申込!E34)&\" \"&ASC(女子申込!F34))","v":""},{"$f":"IF(女子申込!C34=\"\",\"\",VALUE(LEFT(B34,1)))","v":""},{"$f":"IF(女子申込!C34=\"\",\"\",女子申込!$Z$7)","v":""},{"$f":"IF(C34=\"\",\"\",285000+女子申込!$B$7)","v":""},{"$f":"IF(C34=\"\",\"\",女子申込!$B$7)","v":""},{"$f":"IF(女子申込!I34=\"\",\"\",VLOOKUP(女子申込!I34,女子申込!$C$39:$E$43,2,FALSE)&\" \"&RIGHT(FIXED(VALUE(女子申込!J34&女子申込!K34&IF(LENB(女子申込!L34)=1,女子申込!L34&\"0\",女子申込!L34))/VLOOKUP(女子申込!I34,女子申込!$C$39:$E$43,3,FALSE),VLOOKUP(女子申込!I34,女子申込!$C$39:$F$43,4,FALSE)),VLOOKUP(女子申込!I34,女子申込!$C$39:$F$43,4,FALSE)))","v":""},{"$f":"IF(女子申込!Q34=\"\",\"\",VLOOKUP(女子申込!Q34,女子申込!$C$39:$E$43,2,FALSE)&\" \"&RIGHT(FIXED(VALUE(女子申込!R34&女子申込!S34&IF(LENB(女子申込!T34)=1,女子申込!T34&\"0\",女子申込!T34))/VLOOKUP(女子申込!Q34,女子申込!$C$39:$E$43,3,FALSE),VLOOKUP(女子申込!Q34,女子申込!$C$39:$F$43,4,FALSE)),VLOOKUP(女子申込!Q34,女子申込!$C$39:$F$43,4,FALSE)))","v":""}]
[{"$f":"IF(女子申込!H35=\"\",\"\",\"s\"&COUNTIF(女子申込!$H$16:H35,\"○\"))","v":""},{"$f":"IF(女子申込!C35=\"\",\"\",228500000+女子申込!$B$7*100+女子申込!B35)","v":""},{"$f":"IF(女子申込!C35=\"\",\"\",IF(LENB(TRIM(女子申込!C35))+LENB(TRIM(女子申込!D35))>=12,TRIM(女子申込!C35)&TRIM(女子申込!D35),TRIM(女子申込!C35)&REPT(\" \",(5-((LENB(TRIM(女子申込!C35))+LENB(TRIM(女子申込!D35)))/2))*2)&TRIM(女子申込!D35))&IF(女子申込!G35=\"\",\"\",IF(LENB(TRIM(女子申込!G35))>=2,TRIM(女子申込!G35),\"(\"&TRIM(女子申込!G35)&\")\")))","v":""},{"$f":"IF(AND(女子申込!E35=\"\",女子申込!F35=\"\"),\"\",ASC(女子申込!E35)&\" \"&ASC(女子申込!F35))","v":""},{"$f":"IF(女子申込!C35=\"\",\"\",VALUE(LEFT(B35,1)))","v":""},{"$f":"IF(女子申込!C35=\"\",\"\",女子申込!$Z$7)","v":""},{"$f":"IF(C35=\"\",\"\",285000+女子申込!$B$7)","v":""},{"$f":"IF(C35=\"\",\"\",女子申込!$B$7)","v":""},{"$f":"IF(女子申込!I35=\"\",\"\",VLOOKUP(女子申込!I35,女子申込!$C$39:$E$43,2,FALSE)&\" \"&RIGHT(FIXED(VALUE(女子申込!J35&女子申込!K35&IF(LENB(女子申込!L35)=1,女子申込!L35&\"0\",女子申込!L35))/VLOOKUP(女子申込!I35,女子申込!$C$39:$E$43,3,FALSE),VLOOKUP(女子申込!I35,女子申込!$C$39:$F$43,4,FALSE)),VLOOKUP(女子申込!I35,女子申込!$C$39:$F$43,4,FALSE)))","v":""},{"$f":"IF(女子申込!Q35=\"\",\"\",VLOOKUP(女子申込!Q35,女子申込!$C$39:$E$43,2,FALSE)&\" \"&RIGHT(FIXED(VALUE(女子申込!R35&女子申込!S35&IF(LENB(女子申込!T35)=1,女子申込!T35&\"0\",女子申込!T35))/VLOOKUP(女子申込!Q35,女子申込!$C$39:$E$43,3,FALSE),VLOOKUP(女子申込!Q35,女子申込!$C$39:$F$43,4,FALSE)),VLOOKUP(女子申込!Q35,女子申込!$C$39:$F$43,4,FALSE)))","v":""}]
[null,"DB","N1","N2","TM","S1","S2","S3","S4","S5","S6"]
["共通",{"$f":"IF(COUNTIF(女子申込!H16:H35,\"○\")>=4,285000+女子申込!$B$7,\"\")","v":""},{"$f":"IF(B37=\"\",\"\",女子申込!F7)","v":""},{"$f":"IF(B37=\"\",\"\",女子申込!I7)","v":""},{"$f":"IF(B37=\"\",\"\",女子申込!G14)","v":""},{"$f":"IF(ISERROR(VLOOKUP(F36,$A$16:$B$35,2,FALSE))=TRUE,\"\",VLOOKUP(F36,$A$16:$B$35,2,FALSE))","v":""},"","","","",""]

{"sheet":"男子データ入力","index":7,"n_rows":19,"n_cols":24,"rows_kept":19,"cut":false,"hidden":true,"merged":[[4,1,4,15],[5,1,6,1],[5,8,6,8],[5,9,5,11],[5,12,6,12],[5,13,5,15],[5,7,6,7],[5,2,5,3],[5,4,5,5],[5,6,6,6]]}
[]
[null,null,null,null,null,null,null,null,null,"分","秒","1/100"]
[null,null,"男子リレー",null,null,null,null,null,"タイム"]
[]
[null,"男子選手"]
[null,"個人番号","名前",null,"フリガナ",null,"学年","リレー\n参加","個人種目１","タイム・記録",null,null,"個人種目２","タイム・記録"]
[null,null,"姓","名","姓","名",null,null,null,"分","秒　\nｍ","1/100　\ncm",null,"分","秒　\nｍ","1/100　\ncm"]
[null,null,null,null,null,null,null,null,null,null,null,null,null,null,null,null,null,null,{"$f":"AND(NOT(ISBLANK($B8)),ISBLANK(C8))","v":false},{"$f":"AND(NOT(ISBLANK($B8)),ISBLANK(D8))","v":false},{"$f":"AND(NOT(ISBLANK($B8)),ISBLANK(E8))","v":false},{"$f":"AND(NOT(ISBLANK($B8)),ISBLANK(F8))","v":false},{"$f":"AND(NOT(ISBLANK($B8)),ISBLANK(G8))","v":false},{"$f":"AND(NOT(ISBLANK($B8)),ISBLANK(H8))","v":false}]
[null,null,null,null,null,null,null,null,null,null,null,null,null,null,null,null,null,null,false,false,false,false,false,false]
[null,null,null,null,null,null,null,null,null,null,null,null,null,null,null,null,null,null,false,false,false,false,false,false]
[null,null,null,null,null,null,null,null,null,null,null,null,null,null,null,null,null,null,false,false,false,false,false,false]
[null,null,null,null,null,null,null,null,null,null,null,null,null,null,null,null,null,null,false,false,false,false,false,false]
[null,null,null,null,null,null,null,null,null,null,null,null,null,null,null,null,null,null,false,false,false,false,false,false]
[null,null,null,null,null,null,null,null,null,null,null,null,null,null,null,null,null,null,false,false,false,false,false,false]
[null,null,null,null,null,null,null,null,null,null,null,null,null,null,null,null,null,null,false,false,false,false,false,false]
[null,null,null,null,null,null,null,null,null,null,null,null,null,null,null,null,null,null,false,false,false,false,false,false]
[null,null,null,null,null,null,null,null,null,null,null,null,null,null,null,null,null,null,false,false,false,false,false,false]
[null,null,null,null,null,null,null,null,null,null,null,null,null,null,null,null,null,null,false,false,false,false,false,false]
[null,null,null,null,null,null,null,null,null,null,null,null,null,null,null,null,null,null,false,false,false,false,false,false]

{"sheet":"女子データ入力","index":8,"n_rows":19,"n_cols":24,"rows_kept":19,"cut":false,"hidden":true,"merged":[[5,1,6,1],[4,1,4,15],[5,12,6,12],[5,13,5,15],[5,2,5,3],[5,4,5,5],[5,6,6,6],[5,7,6,7],[5,8,6,8],[5,9,5,11]]}
[]
[null,null,null,null,null,null,null,null,null,"分","秒","1/100"]
[null,null,"女子リレー",null,null,null,null,null,"タイム"]
[]
[null,"女子選手"]
[null,"個人番号","名前",null,"フリガナ",null,"学年","リレー\n参加","個人種目１","タイム・記録",null,null,"個人種目２","タイム・記録"]
[null,null,"姓","名","姓","名",null,null,null,"分","秒　\nｍ","1/100　\ncm",null,"分","秒　\nｍ","1/100　\ncm"]
[null,null,null,null,null,null,null,null,null,null,null,null,null,null,null,null,null,null,{"$f":"AND(NOT(ISBLANK($B8)),ISBLANK(C8))","v":false},{"$f":"AND(NOT(ISBLANK($B8)),ISBLANK(D8))","v":false},{"$f":"AND(NOT(ISBLANK($B8)),ISBLANK(E8))","v":false},{"$f":"AND(NOT(ISBLANK($B8)),ISBLANK(F8))","v":false},{"$f":"AND(NOT(ISBLANK($B8)),ISBLANK(G8))","v":false},{"$f":"AND(NOT(ISBLANK($B8)),ISBLANK(H8))","v":false}]
[null,null,null,null,null,null,null,null,null,null,null,null,null,null,null,null,null,null,false,false,false,false,false,false]
[null,null,null,null,null,null,null,null,null,null,null,null,null,null,null,null,null,null,false,false,false,false,false,false]
[null,null,null,null,null,null,null,null,null,null,null,null,null,null,null,null,null,null,false,false,false,false,false,false]
[null,null,null,null,null,null,null,null,null,null,null,null,null,null,null,null,null,null,false,false,false,false,false,false]
[null,null,null,null,null,null,null,null,null,null,null,null,null,null,null,null,null,null,false,false,false,false,false,false]
[null,null,null,null,null,null,null,null,null,null,null,null,null,null,null,null,null,null,false,false,false,false,false,false]
[null,null,null,null,null,null,null,null,null,null,null,null,null,null,null,null,null,null,false,false,false,false,false,false]
[null,null,null,null,null,null,null,null,null,null,null,null,null,null,null,null,null,null,false,false,false,false,false,false]
[null,null,null,null,null,null,null,null,null,null,null,null,null,null,null,null,null,null,false,false,false,false,false,false]
[null,null,null,null,null,null,null,null,null,null,null,null,null,null,null,null,null,null,false,false,false,false,false,false]
[null,null,null,null,null,null,null,null,null,null,null,null,null,null,null,null,null,null,false,false,false,false,false,false]

{"sheet":"チェックデータ","index":9,"n_rows":359,"n_cols":19,"rows_kept":359,"cut":false,"hidden":true,"merged":[]}
["No","TeamName","Code","漢字","ﾌﾘｶﾞﾅ","府県","府県ｺｰﾄﾞ"]
[1,"中央",102,"中央","ﾁｭｳｵｳ","兵庫",28,null,null,null,false,"男子参加料",{"$f":"K2*リレー参加料+男セット数*4000","v":0},null,false,null,null,null,1]
[2,"日新",103,"日新","ﾆｯｼﾝ","兵庫",28,null,null,null,false,"女子参加料",{"$f":"K3*リレー参加料+女セット数*4000","v":0}]
[3,"小田北",108,"小田北","ｵﾀﾞｷﾀ","兵庫",28]
[4,"小田",109,"小田","ｵﾀﾞ","兵庫",28,null,null,"男子プロ",false,"男子登録数",{"$f":"COUNT(男子№)","v":0},"男子入力ミス",{"$f":"COUNTIF(Dan_InpChk,TRUE)","v":0}]
[5,"立花",111,"立花","ﾀﾁﾊﾞﾅ","兵庫",28,null,null,"女子プロ",false,"女子登録数",{"$f":"COUNT(女子№)","v":0},"女子入力ミス",{"$f":"COUNTIF(Jyo_InpChk,TRUE)","v":0}]
[6,"園田",113,"園田","ｿﾉﾀﾞ","兵庫",28,null,null,null,null,"男子リレー数",{"$f":"COUNTIF(男子リレー,\"○\")","v":0}]
[7,"武庫",114,"武庫","ﾑｺ","兵庫",28,null,null,null,null,"女子リレー数",{"$f":"COUNTIF(女子リレー,\"○\")","v":0}]
[8,"大成",115,"大成","ﾀｲｾｲ","兵庫",28]
[9,"大庄北",116,"大庄北","ｵｵｼｮｳｷﾀ","兵庫",28,null,null,null,null,"リレー参加料",2000]
[10,"園田東",118,"園田東","ｿﾉﾀﾞﾋｶﾞｼ","兵庫",28,null,null,null,null,"個人参加料",1400]
[11,"常陽",121,"常陽","ｼﾞｮｳﾖｳ","兵庫",28]
[12,"武庫東",122,"武庫東","ﾑｺﾋｶﾞｼ","兵庫",28,null,null,null,null,"期日","令和8年3月3日～3月17日　17時"]
[13,"小園",123,"小園","ｵｿﾞﾉ","兵庫",28]
[14,"尼崎朝鮮",125,"尼崎朝鮮","ｱﾏｶﾞｻｷﾁｮｳｾﾝ","兵庫",28,null,null,null,null,"学校番号"]
[15,"西宮浜義務",127,"西宮浜義務","ﾆｼﾉﾐﾔﾊﾏｷﾞﾑ","兵庫",28,null,null,null,null,"学校住所"]
[16,"浜脇",128,"浜脇","ﾊﾏﾜｷ","兵庫",28,null,null,null,null,"申込者"]
[17,"大社",129,"大社","ﾀｲｼｬ","兵庫",28,null,null,null,null,"入金月"]
[18,"苦楽園",130,"苦楽園","ｸﾗｸｴﾝ","兵庫",28,null,null,null,null,"入金日"]
[19,"上ケ原",131,"上ケ原","ｳｴｶﾞﾊﾗ","兵庫",28,null,null,null,null,"郵便番号"]
[20,"甲陵",132,"甲陵","ｺｳﾘｮｳ","兵庫",28,null,null,null,null,"連絡先"]
[21,"平木",133,"平木","ﾋﾗｷ","兵庫",28,null,null,null,null,"連絡先２"]
[22,"甲武",134,"甲武","ｺｳﾌﾞ","兵庫",28]
[23,"瓦木",135,"瓦木","ｶﾜﾗｷﾞ","兵庫",28,null,null,null,null,"年度",2026]
[24,"上甲子園",136,"上甲子園","ｶﾐｺｳｼｴﾝ","兵庫",28,null,null,null,null,"回数",74]
[25,"今津",137,"今津","ｲﾏﾂﾞ","兵庫",28]
[26,"鳴尾",138,"鳴尾","ﾅﾙｵ","兵庫",28]
[27,"浜甲子園",139,"浜甲子園","ﾊﾏｺｳｼｴﾝ","兵庫",28]
[28,"学文",140,"学文","ｶﾞｸﾌﾞﾝ","兵庫",28,null,null,null,null,"Select_1"]
[29,"山口",141,"山口","ﾔﾏｸﾞﾁ","兵庫",28]
[30,"塩瀬",142,"塩瀬","ｼｵｾ","兵庫",28,null,null,null,null,"○"]
[31,"鳴尾南",143,"鳴尾南","ﾅﾙｵﾐﾅﾐ","兵庫",28]
[32,"真砂",144,"真砂","ﾏｻｺﾞ","兵庫",28]
[33,"深津",145,"深津","ﾌｶｽﾞ","兵庫",28,null,null,null,null,"メニュー","数式バー"]
[34,"高須",146,"高須","ﾀｶｽ","兵庫",28,null,null,null,null,null,false]
[35,"関西学院",147,"関西学院","ｶﾝｾｲｶﾞｸｲﾝ","兵庫",28]
[36,"武庫川大附",148,"武庫川大附","ﾑｺｶﾞﾜﾀﾞｲﾌｿﾞｸ","兵庫",28,null,null,null,null,"チーム","Ｂ"]
[37,"甲陽学院",150,"甲陽学院","ｺｳﾖｳｶﾞｸｲﾝ","兵庫",28,null,null,null,null,null,"C"]
[38,"報徳学園",151,"報徳学園","ﾎｳﾄｸｶﾞｸｴﾝ","兵庫",28,null,null,null,null,null,"D"]
[39,"仁川学院",153,"仁川学院","ﾆｶﾞﾜｶﾞｸｲﾝ","兵庫",28,null,null,null,null,null,"E"]
[40,"精道",155,"精道","ｾｲﾄﾞｳ","兵庫",28,null,null,null,null,null,"F"]
[41,"芦屋山手",156,"芦屋山手","ｱｼﾔﾔﾏﾃ","兵庫",28,null,null,null,null,null,"G"]
[42,"潮見",157,"潮見","ｼｵﾐ","兵庫",28,null,null,null,null,null,"H"]
[43,"甲南",158,"甲南","ｺｳﾅﾝ","兵庫",28,null,null,null,null,null,"I"]
[44,"芦屋学園",159,"芦屋学園","ｱｼﾔｶﾞｸｴﾝ","兵庫",28,null,null,null,null,null,"J"]
[45,"芦国中等",160,"芦国中等","ｱｼｺｸﾁｭｳﾄｳ","兵庫",28,null,null,null,null,null,"K"]
[46,"宝塚第一",161,"宝塚第一","ﾀｶﾗﾂﾞｶﾀﾞｲｲﾁ","兵庫",28,null,null,null,null,null,"L"]
[47,"宝梅",162,"宝梅","ﾎｳﾊﾞｲ","兵庫",28,null,null,null,null,null,"M"]
[48,"宝塚",163,"宝塚","ﾀｶﾗﾂﾞｶ","兵庫",28,null,null,null,null,null,"N"]
[49,"西谷",165,"西谷","ﾆｼﾀﾆ","兵庫",28]
[50,"高司",166,"高司","ﾀｶﾂｶｻ","兵庫",28]
[51,"南ひばりガ丘",167,"南ひばりガ丘","ﾐﾅﾐﾋﾊﾞﾘｶﾞｵｶ","兵庫",28]
[52,"安倉",168,"安倉","ｱｸﾗ","兵庫",28]
[53,"小林聖心",169,"小林聖心","ｵﾊﾞﾔｼｾｲｼﾝ","兵庫",28]
[54,"光ガ丘",170,"光ガ丘","ﾋｶﾘｶﾞｵｶ","兵庫",28]
[55,"御殿山",172,"御殿山","ｺﾞﾃﾝﾔﾏ","兵庫",28]
[56,"山手台",173,"山手台","ﾔﾏﾃﾀﾞｲ","兵庫",28]
[57,"清和台",176,"清和台","ｾｲﾜﾀﾞｲ","兵庫",28]
[58,"明峰",177,"明峰","ﾒｲﾎｳ","兵庫",28]
[59,"川西南",178,"川西南","ｶﾜﾆｼﾐﾅﾐ","兵庫",28]
[60,"川西",179,"川西","ｶﾜﾆｼ","兵庫",28]
[61,"多田",180,"多田","ﾀﾀﾞ","兵庫",28]
[62,"東谷",181,"東谷","ﾋｶﾞｼﾀﾆ","兵庫",28]
[63,"清陵",182,"清陵","ｾｲﾘｮｳ","兵庫",28]
[64,"緑台",184,"緑台","ﾐﾄﾞﾘﾀﾞｲ","兵庫",28]
[65,"猪名川",185,"猪名川","ｲﾅｶﾞﾜ","兵庫",28]
[66,"伊丹東",191,"伊丹東","ｲﾀﾐﾋｶﾞｼ","兵庫",28]
[67,"伊丹西",192,"伊丹西","ｲﾀﾐﾆｼ","兵庫",28]
[68,"伊丹南",193,"伊丹南","ｲﾀﾐﾐﾅﾐ","兵庫",28]
[69,"伊丹北",194,"伊丹北","ｲﾀﾐｷﾀ","兵庫",28]
[70,"天王寺川",195,"天王寺川","ﾃﾝﾉｳｼﾞｶﾞﾜ","兵庫",28]
[71,"荒牧",197,"荒牧","ｱﾗﾏｷ","兵庫",28]
[72,"向洋",200,"向洋","ｺｳﾖｳ","兵庫",28]
[73,"本庄",201,"本庄","ﾎﾝｼﾞｮｳ","兵庫",28]
[74,"魚崎",202,"魚崎","ｳｵｻﾞｷ","兵庫",28]
[75,"本山",203,"本山","ﾓﾄﾔﾏ","兵庫",28]
[76,"住吉",204,"住吉","ｽﾐﾖｼ","兵庫",28]
[77,"御影",205,"御影","ﾐｶｹﾞ","兵庫",28]
[78,"本山南",206,"本山南","ﾓﾄﾔﾏﾐﾅﾐ","兵庫",28]
[79,"鷹匠",207,"鷹匠","ﾀｶｼｮｳ","兵庫",28]
[80,"烏帽子",208,"烏帽子","ｴﾎﾞｼ","兵庫",28]
[81,"神戸原田",209,"神戸原田","ｺｳﾍﾞﾊﾗﾀﾞ","兵庫",28]
[82,"長峰",210,"長峰","ﾅｶﾞﾐﾈ","兵庫",28]
[83,"上野",211,"上野","ｳｴﾉ","兵庫",28]
[84,"筒井台",213,"筒井台","ﾂﾂｲﾀﾞｲ","兵庫",28]
[85,"葺合",214,"葺合","ﾌｷｱｲ","兵庫",28]
[86,"布引",215,"布引","ﾇﾉﾋﾞｷ","兵庫",28]
[87,"湊翔楠",216,"湊翔楠","ﾐﾅﾄｼｮｳﾅﾝ","兵庫",28]
[88,"渚",218,"渚","ﾅｷﾞｻ","兵庫",28]
[89,"港島学園",219,"港島学園","ﾐﾅﾄｼﾞﾏｶﾞｸｴﾝ","兵庫",28]
[90,"神院大附",220,"神院大附","ｼﾝｲﾝﾀﾞｲﾌ","兵庫",28]
[91,"湊川",223,"湊川","ﾐﾅﾄｶﾞﾜ","兵庫",28]
[92,"兵庫",224,"兵庫","ﾋｮｳｺﾞ","兵庫",28]
[93,"須佐野",225,"須佐野","ｽｻﾉ","兵庫",28]
[94,"有馬",228,"有馬","ｱﾘﾏ","兵庫",28]
[95,"唐櫃",229,"唐櫃","ｶﾗﾄ","兵庫",28]
[96,"大池",230,"大池","ｵｵｲｹ","兵庫",28]
[97,"山田",231,"山田","ﾔﾏﾀﾞ","兵庫",28]
[98,"広陵",232,"広陵","ｺｳﾘｮｳ","兵庫",28]
[99,"桜の宮",233,"桜の宮","ｻｸﾗﾉﾐﾔ","兵庫",28]
[100,"小部",234,"小部","ｵﾌﾞ","兵庫",28]
[101,"鈴蘭台",235,"鈴蘭台","ｽｽﾞﾗﾝﾀﾞｲ","兵庫",28]
[102,"星和台",236,"星和台","ｾｲﾜﾀﾞｲ","兵庫",28]
[103,"鵯台",237,"鵯台","ﾋﾖﾄﾞﾘﾀﾞｲ","兵庫",28]
[104,"大沢",239,"大沢","ｵｵｿﾞｳ","兵庫",28]
[105,"淡河",240,"淡河","ｵｳｺﾞ","兵庫",28]
[106,"北神戸",241,"北神戸","ｷﾀｺｳﾍﾞ","兵庫",28]
[107,"西代",244,"西代","ﾆｼﾀﾞｲ","兵庫",28]
[108,"滝川第二",246,"滝川第二","ﾀｷｶﾞﾜﾀﾞｲﾆ","兵庫",28]
[109,"北神戸247",247,"北神戸247","ｷﾀｺｳﾍﾞ","兵庫",28]
[110,"駒ヶ林",248,"駒ヶ林","ｺﾏｶﾞﾊﾞﾔｼ","兵庫",28]
[111,"長田",249,"長田","ﾅｶﾞﾀ","兵庫",28]
[112,"太田",250,"太田","ｵｵﾀ","兵庫",28]
[113,"鷹取",251,"鷹取","ﾀｶﾄﾘ","兵庫",28]
[114,"飛松",252,"飛松","ﾄﾋﾞﾏﾂ","兵庫",28]
[115,"高倉",253,"高倉","ﾀｶｸﾗ","兵庫",28]
[116,"横尾",254,"横尾","ﾖｺｵ","兵庫",28]
[117,"友が丘",255,"友が丘","ﾄﾓｶﾞｵｶ","兵庫",28]
[118,"東落合",256,"東落合","ﾋｶﾞｼｵﾁｱｲ","兵庫",28]
[119,"白川台",257,"白川台","ｼﾗｶﾜﾀﾞｲ","兵庫",28]
[120,"西落合",258,"西落合","ﾆｼｵﾁｱｲ","兵庫",28]
[121,"竜が台",259,"竜が台","ﾘｭｳｶﾞﾀﾞｲ","兵庫",28]
[122,"須磨北",260,"須磨北","ｽﾏｷﾀ","兵庫",28]
[123,"桃山台",261,"桃山台","ﾓﾓﾔﾏﾀﾞｲ","兵庫",28]
[124,"塩屋",262,"塩屋","ｼｵﾔ","兵庫",28]
[125,"垂水東",263,"垂水東","ﾀﾙﾐﾋｶﾞｼ","兵庫",28]
[126,"福田",264,"福田","ﾌｸﾀﾞ","兵庫",28]
[127,"垂水",265,"垂水","ﾀﾙﾐ","兵庫",28]
[128,"歌敷山",266,"歌敷山","ｳﾀｼｷﾔﾏ","兵庫",28]
[129,"多聞東",267,"多聞東","ﾀﾓﾝﾋｶﾞｼ","兵庫",28]
[130,"舞子",268,"舞子","ﾏｲｺ","兵庫",28]
[131,"神陵台",269,"神陵台","ｼﾝﾘｮｳﾀﾞｲ","兵庫",28]
[132,"本多聞",270,"本多聞","ﾎﾝﾀﾓﾝ","兵庫",28]
[133,"神戸長坂",271,"神戸長坂","ｺｳﾍﾞﾅｶﾞｻｶ","兵庫",28]
[134,"伊川谷",272,"伊川谷","ｲｶﾜﾀﾞﾆ","兵庫",28]
[135,"櫨谷",273,"櫨谷","ﾊｾﾞﾀﾆ","兵庫",28]
[136,"桜が丘",274,"桜が丘","ｻｸﾗｶﾞｵｶ","兵庫",28]
[137,"押部谷",275,"押部谷","ｵｼﾍﾞﾀﾞﾆ","兵庫",28]
[138,"玉津",276,"玉津","ﾀﾏﾂ","兵庫",28]
[139,"王塚台",277,"王塚台","ｵｳﾂｶﾀﾞｲ","兵庫",28]
[140,"平野",278,"平野","ﾋﾗﾉ","兵庫",28]
[141,"神出",279,"神出","ｶﾝﾃﾞ","兵庫",28]
[142,"岩岡",280,"岩岡","ｲﾜｵｶﾁｭｳｶﾞｸ","兵庫",28]
[143,"太山寺",281,"太山寺","ﾀｲｻﾝｼﾞ","兵庫",28]
[144,"神大附属",282,"神大附属","ｼﾝﾀﾞｲﾌｿﾞｸ","兵庫",28]
[145,"甲南女子",283,"甲南女子","ｺｳﾅﾝｼﾞｮｼ","兵庫",28]
[146,"神戸灘",284,"神戸灘","ｺｳﾍﾞﾅﾀﾞ","兵庫",28]
[147,"六甲学院",285,"六甲学院","ﾛｯｺｳｶﾞｸｲﾝ","兵庫",28]
[148,"松蔭",286,"松蔭","ｼｮｳｲﾝ","兵庫",28]
[149,"神戸山手女子",287,"神戸山手女子","ｺｳﾍﾞﾔﾏﾃｼﾞｮｼ","兵庫",28]
[150,"親和女子",288,"親和女子","ｼﾝﾜｼﾞｮｼ","兵庫",28]
[151,"滝川",289,"滝川","ﾀｷｶﾞﾜ","兵庫",28]
[152,"啓明",290,"啓明","ｹｲﾒｲｶﾞｸｲﾝ","兵庫",28]
[153,"大原",291,"大原","ｵｵﾊﾗ","兵庫",28]
[154,"有野",292,"有野","ｱﾘﾉ","兵庫",28]
[155,"有野北",293,"有野北","ｱﾘﾉｷﾀ","兵庫",28]
[156,"西神",294,"西神","ｾｲｼﾝ","兵庫",28]
[157,"星陵台",295,"星陵台","ｾｲﾘｮｳﾀﾞｲ","兵庫",28]
[158,"井吹台",296,"井吹台","ｲﾌﾞｷﾀﾞｲ","兵庫",28]
[159,"須磨学園",297,"須磨学園","ｽﾏｶﾞｸｴﾝ","兵庫",28]
[160,"夙川",298,"夙川","ｼｭｸｶﾞﾜ","兵庫",28]
[161,"多聞東分教",299,"多聞東分教","ﾀﾓﾝﾋｶﾞｼﾌﾞﾝｷｮｳ","兵庫",28]
[162,"錦城",310,"錦城","ｷﾝｼﾞｮｳ","兵庫",28]
[163,"朝霧",311,"朝霧","ｱｻｷﾞﾘ","兵庫",28]
[164,"大蔵",312,"大蔵","ｵｵｸﾗ","兵庫",28]
[165,"衣川",313,"衣川","ｷﾇｶﾞﾜ","兵庫",28]
[166,"野々池",314,"野々池","ﾉﾉｲｹ","兵庫",28]
[167,"望海",315,"望海","ﾎﾞｳｶｲ","兵庫",28]
[168,"大久保",316,"大久保","ｵｵｸﾎﾞ","兵庫",28]
[169,"明石高丘",317,"明石高丘","ｱｶｼﾀｶｵｶ","兵庫",28]
[170,"江井島",318,"江井島","ｴｲｶﾞｼﾏ","兵庫",28]
[171,"魚住",319,"魚住","ｳｵｽﾞﾐ","兵庫",28]
[172,"魚住東",320,"魚住東","ｳｵｽﾞﾐﾋｶﾞｼ","兵庫",28]
[173,"二見",321,"二見","ﾌﾀﾐ","兵庫",28]
[174,"大久保北",322,"大久保北","ｵｵｸﾎﾞｷﾀ","兵庫",28]
[175,"加古川",328,"加古川","ｶｺｶﾞﾜ","兵庫",28]
[176,"氷丘",329,"氷丘","ﾋｵｶ","兵庫",28]
[177,"加古川山手",330,"加古川山手","ｶｺｶﾞﾜﾔﾏﾃ","兵庫",28]
[178,"加古川中部",331,"加古川中部","ｶｺｶﾞﾜﾁｭｳﾌﾞ","兵庫",28]
[179,"平岡",332,"平岡","ﾋﾗｵｶ","兵庫",28]
[180,"平岡南",333,"平岡南","ﾋﾗｵｶﾐﾅﾐ","兵庫",28]
[181,"浜の宮",334,"浜の宮","ﾊﾏﾉﾐﾔ","兵庫",28]
[182,"別府",335,"別府","ﾍﾞﾌ","兵庫",28]
[183,"両荘みらい",336,"両荘みらい","ﾘｮｳｿｳﾐﾗｲ","兵庫",28]
[184,"神吉",337,"神吉","ｶﾝｷ","兵庫",28]
[185,"志方",338,"志方","ｼｶﾀ","兵庫",28]
[186,"陵南",339,"陵南","ﾘｮｳﾅﾝ","兵庫",28]
[187,"宝殿",343,"宝殿","ﾎｳﾃﾞﾝ","兵庫",28]
[188,"西脇",345,"西脇","ﾆｼﾜｷ","兵庫",28]
[189,"西脇南",347,"西脇南","ﾆｼﾜｷﾐﾅﾐ","兵庫",28]
[190,"三木",350,"三木","ﾐｷ","兵庫",28]
[191,"志染",352,"志染","ｼｼﾞﾐ","兵庫",28]
[192,"星陽",353,"星陽","ｾｲﾖｳ","兵庫",28]
[193,"緑が丘",354,"緑が丘","ﾐﾄﾞﾘｶﾞｵｶ","兵庫",28]
[194,"自由が丘",355,"自由が丘","ｼﾞﾕｳｶﾞｵｶ","兵庫",28]
[195,"三木東",356,"三木東","ﾐｷﾋｶﾞｼ","兵庫",28]
[196,"吉川",359,"吉川","ﾖｶﾜ","兵庫",28]
[197,"高砂",360,"高砂","ﾀｶｻｺﾞ","兵庫",28]
[198,"荒井",361,"荒井","ｱﾗｲ","兵庫",28]
[199,"鹿島",362,"鹿島","ｶｼﾏ","兵庫",28]
[200,"竜山",363,"竜山","ﾀﾂﾔﾏ","兵庫",28]
[201,"松陽",364,"松陽","ｼｮｳﾖｳ","兵庫",28]
[202,"白陵",366,"白陵","ﾊｸﾘｮｳ","兵庫",28]
[203,"小野南",370,"小野南","ｵﾉﾐﾅﾐ","兵庫",28]
[204,"小野",371,"小野","ｵﾉ","兵庫",28]
[205,"旭丘",372,"旭丘","ｱｻﾋｶﾞｵｶ","兵庫",28]
[206,"北条",375,"北条","ﾎｳｼﾞｮｳ","兵庫",28]
[207,"善防",376,"善防","ｾﾞﾝﾎﾞｳ","兵庫",28]
[208,"加西",377,"加西","ｶｻｲ","兵庫",28]
[209,"泉",378,"泉","ｲｽﾞﾐ","兵庫",28]
[210,"社",381,"社学園","ﾔｼﾛｶﾞｸｴﾝ","兵庫",28]
[211,"滝野",382,"滝野","ﾀｷﾉ","兵庫",28]
[212,"兵教大附属",385,"兵教大附属","ﾋｮｳｷｮｳﾀﾞｲﾌｿﾞｸ","兵庫",28]
[213,"中町",388,"中町","ﾅｶﾁｮｳ","兵庫",28]
[214,"加美",389,"加美","ｶﾐ","兵庫",28]
[215,"八千代",390,"八千代","ﾔﾁﾖ","兵庫",28]
[216,"黒田庄",391,"黒田庄","ｸﾛﾀﾞｼｮｳ","兵庫",28]
[217,"稲美",394,"稲美","ｲﾅﾐ","兵庫",28]
[218,"稲美北",395,"稲美北","ｲﾅﾐｷﾀ","兵庫",28]
[219,"播磨",396,"播磨","ﾊﾘﾏ","兵庫",28]
[220,"播磨南",397,"播磨南","ﾊﾘﾏﾐﾅﾐ","兵庫",28]
[221,"増位",401,"増位","ﾏｽｲ","兵庫",28]
[222,"姫路広嶺",402,"姫路広嶺","ﾋﾒｼﾞｺｳﾘｮｳ","兵庫",28]
[223,"姫路高丘",403,"姫路高丘","ﾋﾒｼﾞﾀｶｵｶ","兵庫",28]
[224,"大白書",404,"大白書","ﾀﾞｲﾊｸｼｮ","兵庫",28]
[225,"東光",405,"東光","ﾄｳｺｳ","兵庫",28]
[226,"白鷺小中",406,"白鷺小中","ﾊｸﾛｼｮｳﾁｭｳ","兵庫",28]
[227,"山陽",408,"山陽","ｻﾝﾖｳ","兵庫",28]
[228,"姫路灘",409,"姫路灘","ﾋﾒｼﾞﾅﾀﾞ","兵庫",28]
[229,"飾磨東",410,"飾磨東","ｼｶﾏﾋｶﾞｼ","兵庫",28]
[230,"飾磨中部",411,"飾磨中部","ｼｶﾏﾁｭｳﾌﾞ","兵庫",28]
[231,"飾磨西",412,"飾磨西","ｼｶﾏﾆｼ","兵庫",28]
[232,"広畑",413,"広畑","ﾋﾛﾊﾀ","兵庫",28]
[233,"網干",414,"網干","ｱﾎﾞｼ","兵庫",28]
[234,"朝日",415,"朝日","ｱｻﾋ","兵庫",28]
[235,"神南",416,"神南","ｼﾞﾝﾅﾝ","兵庫",28]
[236,"豊富小中",417,"豊富小中","ﾄﾖﾄﾐｼｮｳﾁｭｳ","兵庫",28]
[237,"城山",418,"城山","ｼﾛﾔﾏ","兵庫",28]
[238,"花田",419,"花田","ﾊﾅﾀﾞ","兵庫",28]
[239,"四郷学院",420,"四郷学院","ｼｺﾞｳｶﾞｸｲﾝ","兵庫",28]
[240,"福崎西",424,"福崎西","ﾌｸｻｷﾆｼ","兵庫",28]
[241,"神崎",425,"神崎","ｶﾝｻﾞｷ","兵庫",28]
[242,"鶴居",427,"鶴居","ﾂﾙｲ","兵庫",28]
[243,"市川",428,"市川","ｲﾁｶﾜ","兵庫",28]
[244,"福崎東",430,"福崎東","ﾌｸｻｷﾋｶﾞｼ","兵庫",28]
[245,"香寺",432,"香寺","ｺｳﾃﾞﾗ","兵庫",28]
[246,"神河",435,"神河","ｶﾐｶﾜ","兵庫",28]
[247,"家島",436,"家島","ｲｴｼﾏ","兵庫",28]
[248,"坊勢",437,"坊勢","ﾎﾞｳｾﾞ","兵庫",28]
[249,"置塩",438,"置塩","ｵｷｼｵ","兵庫",28]
[250,"鹿谷",439,"鹿谷","ｶﾔ","兵庫",28]
[251,"菅野",440,"菅野","ｽｶﾞﾉ","兵庫",28]
[252,"賢明",451,"賢明","ｹﾝﾒｲ","兵庫",28]
[253,"淳心学院",452,"淳心学院","ｼﾞｭﾝｼﾝｶﾞｸｲﾝ","兵庫",28]
[254,"東洋大姫路",453,"東洋大姫路","ﾄｳﾖｳﾀﾞｲﾋﾒｼﾞ","兵庫",28]
[255,"林田",454,"林田","ﾊﾔｼﾀﾞ","兵庫",28]
[256,"夢前",455,"夢前","ﾕﾒｻｷ","兵庫",28]
[257,"姫路東",456,"姫路東","ﾋﾒｼﾞﾋｶﾞｼ","兵庫",28]
[258,"城乾",457,"城乾","ｼﾞｮｳｹﾝ","兵庫",28]
[259,"大的",458,"大的","ｵｵﾏﾄ","兵庫",28]
[260,"安室",459,"安室","ﾔｽﾑﾛ","兵庫",28]
[261,"書写",460,"書写","ｼｮｼｬ","兵庫",28]
[262,"大津",461,"大津","ｵｵﾂ","兵庫",28]
[263,"那波",502,"那波","ﾅﾊﾞ","兵庫",28]
[264,"双葉",503,"双葉","ﾌﾀﾊﾞ","兵庫",28]
[265,"矢野川",504,"矢野川","ﾔﾉｶﾞﾜ","兵庫",28]
[266,"赤穂",505,"赤穂","ｱｺｳ","兵庫",28]
[267,"赤穂東",506,"赤穂東","ｱｺｳﾋｶﾞｼ","兵庫",28]
[268,"赤穂西",507,"赤穂西","ｱｺｳﾆｼ","兵庫",28]
[269,"坂越",508,"坂越","ｻｺｼ","兵庫",28]
[270,"有年",509,"有年","ｳﾈ","兵庫",28]
[271,"上郡",510,"上郡","ｶﾐｺﾞｵﾘ","兵庫",28]
[272,"龍野東",511,"龍野東","ﾀﾂﾉﾋｶﾞｼ","兵庫",28]
[273,"兵庫県立大学附属",512,"兵庫県立大学附属","ｹﾝﾘﾂﾀﾞｲﾌｿﾞｸ","兵庫",28]
[274,"龍野西",513,"龍野西","ﾀﾂﾉﾆｼ","兵庫",28]
[275,"新宮",515,"新宮","ｼﾝｸﾞｳ","兵庫",28]
[276,"太子東",516,"太子東","ﾀｲｼﾋｶﾞｼ","兵庫",28]
[277,"太子西",517,"太子西","ﾀｲｼﾆｼ","兵庫",28]
[278,"揖保川",518,"揖保川","ｲﾎﾞｶﾞﾜ","兵庫",28]
[279,"御津",519,"御津","ﾐﾂ","兵庫",28]
[280,"佐用",520,"佐用","ｻﾖｳ","兵庫",28]
[281,"上月",522,"上月","ｺｳﾂﾞｷ","兵庫",28]
[282,"山崎南",527,"山崎南","ﾔﾏｻｷﾐﾅﾐ","兵庫",28]
[283,"一宮南",531,"一宮南","ｲﾁﾉﾐﾔﾐﾅﾐ","兵庫",28]
[284,"山崎西",540,"山崎西","ﾔﾏｻｷﾆｼ","兵庫",28]
[285,"山崎東",541,"山崎東","ﾔﾏｻｷﾋｶﾞｼ","兵庫",28]
[286,"三田学園",601,"三田学園","ｻﾝﾀﾞｶﾞｸｴﾝ","兵庫",28]
[287,"上野台",602,"上野台","ｳｴﾉﾀﾞｲ","兵庫",28]
[288,"八景",603,"八景","ﾊｯｹｲ","兵庫",28]
[289,"長坂",604,"長坂","ﾅｶﾞｻｶ","兵庫",28]
[290,"狭間",605,"狭間","ﾊｻﾏ","兵庫",28]
[291,"けやき台",606,"けやき台","ｹﾔｷﾀﾞｲ","兵庫",28]
[292,"富士",607,"富士","ﾌｼﾞ","兵庫",28]
[293,"藍",608,"藍","ｱｲ","兵庫",28]
[294,"ゆりのき台",609,"ゆりのき台","ﾕﾘﾉｷﾀﾞｲ","兵庫",28]
[295,"篠山",621,"篠山","ｻｻﾔﾏ","兵庫",28]
[296,"篠山東",622,"篠山東","ｻｻﾔﾏﾋｶﾞｼ","兵庫",28]
[297,"丹南",627,"丹南","ﾀﾝﾅﾝ","兵庫",28]
[298,"今田",628,"今田","ｺﾝﾀﾞ","兵庫",28]
[299,"柏原",641,"柏原","ｶｲﾊﾞﾗ","兵庫",28]
[300,"山南",642,"山南","ｻﾝﾅﾝ","兵庫",28]
[301,"氷上",644,"氷上","ﾋｶﾐ","兵庫",28]
[302,"青垣",648,"青垣","ｱｵｶﾞｷ","兵庫",28]
[303,"春日",651,"春日","ｶｽｶﾞ","兵庫",28]
[304,"市島",653,"市島","ｲﾁｼﾞﾏ","兵庫",28]
[305,"洲浜",700,"洲浜","ｽﾊﾏ","兵庫",28]
[306,"青雲",702,"青雲","ｾｲｳﾝ","兵庫",28]
[307,"由良",704,"由良","ﾕﾗ","兵庫",28]
[308,"柳学園",710,"柳学園","ﾔﾅｷﾞｶﾞｸｴﾝ","兵庫",28]
[309,"三原",720,"三原","ﾐﾊﾗ","兵庫",28]
[310,"沼島",722,"沼島","ﾇｼﾏ","兵庫",28]
[311,"南淡",724,"南淡","ﾅﾝﾀﾞﾝ","兵庫",28]
[312,"北淡",736,"北淡","ﾎｸﾀﾞﾝ","兵庫",28]
[313,"五色",740,"五色","ｺﾞｼｷ","兵庫",28]
[314,"東浦",742,"東浦","ﾋｶﾞｼｳﾗ","兵庫",28]
[315,"津名",744,"津名","ﾂﾅ","兵庫",28]
[316,"豊岡南",801,"豊岡南","ﾄﾖｵｶﾐﾅﾐ","兵庫",28]
[317,"豊岡北",802,"豊岡北","ﾄﾖｵｶｷﾀ","兵庫",28]
[318,"港",804,"港","ﾐﾅﾄ","兵庫",28]
[319,"城崎",806,"城崎","ｷﾉｻｷ","兵庫",28]
[320,"香住第一",810,"香住第一","ｶｽﾐﾀﾞｲｲﾁ","兵庫",28]
[321,"香住第二",811,"香住第二","ｶｽﾐﾀﾞｲﾆ","兵庫",28]
[322,"日高東",812,"日高東","ﾋﾀﾞｶﾋｶﾞｼ","兵庫",28]
[323,"日高西",815,"日高西","ﾋﾀﾞｶﾆｼ","兵庫",28]
[324,"出石",818,"出石","ｲｽﾞｼ","兵庫",28]
[325,"但東",819,"但東","ﾀﾝﾄｳ","兵庫",28]
[326,"養父",822,"養父","ﾔﾌﾞ","兵庫",28]
[327,"大屋",825,"大屋","ｵｵﾔ","兵庫",28]
[328,"関宮学園",829,"関宮学園","ｾｷﾉﾐﾔｶﾞｸｴﾝ","兵庫",28]
[329,"和田山",834,"和田山","ﾜﾀﾞﾔﾏ","兵庫",28]
[330,"梁瀬",839,"梁瀬","ﾔﾅｾ","兵庫",28]
[331,"朝来",840,"朝来","ｱｻｺﾞ","兵庫",28]
[332,"生野",842,"生野","ｲｸﾉ","兵庫",28]
[333,"兎塚",843,"兎塚","ｳﾂﾞｶ","兵庫",28]
[334,"村岡",844,"村岡","ﾑﾗｵｶ","兵庫",28]
[335,"小代",845,"小代","ｵｼﾞﾛ","兵庫",28]
[336,"射添",846,"射添","ｲｿｳ","兵庫",28]
[337,"浜坂",852,"浜坂","ﾊﾏｻｶ","兵庫",28]
[338,"近大豊岡",853,"近大豊岡","ｷﾝﾀﾞｲﾄﾖｵｶ","兵庫",28]
[339,"夢が丘",855,"夢が丘","ﾕﾒｶﾞｵｶ","兵庫",28]
[340,"八鹿青渓",856,"八鹿青渓","ﾖｳｶｾｲｹｲ","兵庫",28]
[341,"AMURO AC",901,"AMURO AC","ｱﾑﾛ ｴｰｼｰ","兵庫",28]
[342,"IRC",902,"IRC","ｱｲｱｰﾙｼｰ","兵庫",28]
[343,"MTランニングクラブ",903,"MTランニングクラブ","ｴﾑﾃｨｰｱｰﾙｼｰ","兵庫",28]
[344,"いなみ野AC",904,"いなみ野AC","ｲﾅﾐﾉｴｰｼｰ","兵庫",28]
[345,"T&F KOBE",905,"T&F KOBE","ﾃｨｰｱﾝﾄﾞｴﾌｺｳﾍﾞ","兵庫",28]
[346,"VignaraTC",906,"VignaraTC","ﾋﾞﾆｬﾗﾃｨｰｼｰ","兵庫",28]
[347,"相生陸上競技教室",907,"相生陸上競技教室","ｱｲｵｲﾘｸｼﾞｮｳｷｮｳｷﾞｷｮｳｼﾂ","兵庫",28]
[348,"淡路陸上教室",908,"淡路陸上教室","ｱﾜｼﾞﾘｸｼﾞｮｳｷｮｳｼﾂ","兵庫",28]
[349,"神河陸上ク",909,"神河陸上ク","ｶﾐﾜｶﾘｸｼﾞｮｳｸ","兵庫",28]
[350,"但馬AC",910,"但馬AC","ﾀｼﾞﾏｴｰｼｰ","兵庫",28]
[351,"ELITE",911,"ELITE","ｴﾘｰﾄ","兵庫",28]
[352,"アスロン尼崎",912,"アスロン尼崎","ｱｽﾛﾝｱﾏｶﾞｻｷｴｰｼｰ","兵庫",28]
[353,"A&C ASHIYA",913,"A&C ASHIYA","ｴｰｱﾝﾄﾞｼｰｱｼﾔ","兵庫",28]
[354,"三木JRC",914,"三木JRC","ﾐｷｼﾞｪｲｱｰﾙｼｰ","兵庫",28]
[355,"青山RC",915,"青山RC","ｱｵﾔﾏｱｰﾙｼｰ","兵庫",28]
[356,"播磨AC",916,"播磨AC","ﾊﾘﾏｴｰｼｰ","兵庫",28]
[358,null,917,"加古川RC","ｶｺｶﾞﾜｱｰﾙｼｰ","兵庫",29]
[352,null,918,"KRC","ｹｰｱｰﾙｼｰ","兵庫",30]